BEGIN:VCALENDAR
VERSION:2.0
PRODID:VSD-Portal-www.volley.de
METHOD:PUBLISH
BEGIN:VEVENT
UID:606556-2da69939ed67427dc6bf3daba21059e9
X-WR-RELCALID:606556-2da69939ed67427dc6bf3daba21059e9
ORGANIZER:Volleyball
SEQUENCE:261102351
LOCATION:Ahnatal-Schule, Mittelring 20, 34246 Vellmar
GEO:51.36094000000000000000;9.46840000000000000000
SUMMARY:RL SW Mä.: SSC Vellmar - TG Hanau
CLASS:PUBLIC
DTSTART:20220917T170000Z
DTSTAMP:20220817T170000Z
END:VEVENT
BEGIN:VEVENT
UID:606565-2da69939ed67427dc6bf3daba21059e9
X-WR-RELCALID:606565-2da69939ed67427dc6bf3daba21059e9
ORGANIZER:Volleyball
SEQUENCE:261102351
LOCATION:SH Rhein-Wied-Gymn., Neuwied, Im Weidchen 2, 56564 Neuwied
GEO:50.43262000000000000000;7.46035000000000000000
SUMMARY:RL SW Mä.: TV Feldkirchen - SSC Vellmar
CLASS:PUBLIC
DTSTART:20220925T130000Z
DTSTAMP:20220817T170000Z
END:VEVENT
BEGIN:VEVENT
UID:606568-2da69939ed67427dc6bf3daba21059e9
X-WR-RELCALID:606568-2da69939ed67427dc6bf3daba21059e9
ORGANIZER:Volleyball
SEQUENCE:261102351
LOCATION:Ahnatal-Schule, Mittelring 20, 34246 Vellmar
GEO:51.36094000000000000000;9.46840000000000000000
SUMMARY:RL SW Mä.: SSC Vellmar - Eintracht Frankfurt
CLASS:PUBLIC
DTSTART:20221001T170000Z
DTSTAMP:20220817T170000Z
END:VEVENT
BEGIN:VEVENT
UID:606573-2da69939ed67427dc6bf3daba21059e9
X-WR-RELCALID:606573-2da69939ed67427dc6bf3daba21059e9
ORGANIZER:Volleyball
SEQUENCE:261102351
LOCATION:SZ St. Wendel, Am Sportzentrum, 66606 St. Wendel
GEO:49.45968260000000000000;7.17826010000000000000
SUMMARY:RL SW Mä.: TV Bliesen - SSC Vellmar
CLASS:PUBLIC
DTSTART:20221008T170000Z
DTSTAMP:20220724T075400Z
END:VEVENT
BEGIN:VEVENT
UID:606581-2da69939ed67427dc6bf3daba21059e9
X-WR-RELCALID:606581-2da69939ed67427dc6bf3daba21059e9
ORGANIZER:Volleyball
SEQUENCE:261102351
LOCATION:SSH Erich-Kästner Ransbach-Baumbach, Kapellenstr. 19, 56235 R
 ansbach-Baumbach
GEO:50.46451820000000000000;7.72813900000000000000
SUMMARY:RL SW Mä.: SG Westerwald Volleys - SSC Vellmar
CLASS:PUBLIC
DTSTART:20221015T170000Z
DTSTAMP:20220817T170000Z
END:VEVENT
BEGIN:VEVENT
UID:606586-2da69939ed67427dc6bf3daba21059e9
X-WR-RELCALID:606586-2da69939ed67427dc6bf3daba21059e9
ORGANIZER:Volleyball
SEQUENCE:261102351
LOCATION:Ahnatal-Schule, Mittelring 20, 34246 Vellmar
GEO:51.36094000000000000000;9.46840000000000000000
SUMMARY:RL SW Mä.: SSC Vellmar - SG Rodheim
CLASS:PUBLIC
DTSTART:20221029T170000Z
DTSTAMP:20220817T170000Z
END:VEVENT
BEGIN:VEVENT
UID:606591-2da69939ed67427dc6bf3daba21059e9
X-WR-RELCALID:606591-2da69939ed67427dc6bf3daba21059e9
ORGANIZER:Volleyball
SEQUENCE:261102351
LOCATION:NSH Otto-Schott-Gymn., Mainz, An Schneiders Mühle 2, 55122 Ma
 inz-Gonsenheim
GEO:50.00383790000000000000;8.23066840000000000000
SUMMARY:RL SW Mä.: TGM Mainz-Gonsenheim II - SSC Vellmar
CLASS:PUBLIC
DTSTART:20221030T150000Z
DTSTAMP:20220817T170000Z
END:VEVENT
BEGIN:VEVENT
UID:606597-2da69939ed67427dc6bf3daba21059e9
X-WR-RELCALID:606597-2da69939ed67427dc6bf3daba21059e9
ORGANIZER:Volleyball
SEQUENCE:261102351
LOCATION:Philipp-Reis-Schule, Färberstr. 10, 61381 Friedrichsdorf
GEO:50.25882100000000000000;8.64655500000000000000
SUMMARY:RL SW Mä.: TV Bommersheim - SSC Vellmar
CLASS:PUBLIC
DTSTART:20221113T150000Z
DTSTAMP:20220817T170000Z
END:VEVENT
BEGIN:VEVENT
UID:606600-2da69939ed67427dc6bf3daba21059e9
X-WR-RELCALID:606600-2da69939ed67427dc6bf3daba21059e9
ORGANIZER:Volleyball
SEQUENCE:261102351
LOCATION:Ahnatal-Schule, Mittelring 20, 34246 Vellmar
GEO:51.36094000000000000000;9.46840000000000000000
SUMMARY:RL SW Mä.: SSC Vellmar - VJF Frankfurt II
CLASS:PUBLIC
DTSTART:20221119T180000Z
DTSTAMP:20220817T170000Z
END:VEVENT
BEGIN:VEVENT
UID:606604-2da69939ed67427dc6bf3daba21059e9
X-WR-RELCALID:606604-2da69939ed67427dc6bf3daba21059e9
ORGANIZER:Volleyball
SEQUENCE:261102351
LOCATION:Weingartenschule, Rossertstr. 2, 65830 Kriftel
GEO:50.08649000000000000000;8.46830000000000000000
SUMMARY:RL SW Mä.: TuS Kriftel II - SSC Vellmar
CLASS:PUBLIC
DTSTART:20221126T150000Z
DTSTAMP:20220724T075400Z
END:VEVENT
BEGIN:VEVENT
UID:606614-2da69939ed67427dc6bf3daba21059e9
X-WR-RELCALID:606614-2da69939ed67427dc6bf3daba21059e9
ORGANIZER:Volleyball
SEQUENCE:261102351
LOCATION:Ludwig-Geissler-Schule, Brüder-Grimm-Straße 20, 63450 Hanau
GEO:50.12798980000000000000;8.91729520000000000000
SUMMARY:RL SW Mä.: TG Hanau - SSC Vellmar
CLASS:PUBLIC
DTSTART:20221211T150000Z
DTSTAMP:20220817T170000Z
END:VEVENT
BEGIN:VEVENT
UID:606618-2da69939ed67427dc6bf3daba21059e9
X-WR-RELCALID:606618-2da69939ed67427dc6bf3daba21059e9
ORGANIZER:Volleyball
SEQUENCE:261102351
LOCATION:Ahnatal-Schule, Mittelring 20, 34246 Vellmar
GEO:51.36094000000000000000;9.46840000000000000000
SUMMARY:RL SW Mä.: SSC Vellmar - TV Feldkirchen
CLASS:PUBLIC
DTSTART:20221217T180000Z
DTSTAMP:20220817T170000Z
END:VEVENT
BEGIN:VEVENT
UID:606624-2da69939ed67427dc6bf3daba21059e9
X-WR-RELCALID:606624-2da69939ed67427dc6bf3daba21059e9
ORGANIZER:Volleyball
SEQUENCE:261102351
LOCATION:Wolfgang-Steubing-Halle, Gustav-Behringer-Straße 10, 60386 Fr
 ankfurt am Main
GEO:50.13290450000000000000;8.72953650000000000000
SUMMARY:RL SW Mä.: Eintracht Frankfurt - SSC Vellmar
CLASS:PUBLIC
DTSTART:20230107T190000Z
DTSTAMP:20220817T170000Z
END:VEVENT
BEGIN:VEVENT
UID:606631-2da69939ed67427dc6bf3daba21059e9
X-WR-RELCALID:606631-2da69939ed67427dc6bf3daba21059e9
ORGANIZER:Volleyball
SEQUENCE:261102351
LOCATION:Ahnatal-Schule, Mittelring 20, 34246 Vellmar
GEO:51.36094000000000000000;9.46840000000000000000
SUMMARY:RL SW Mä.: SSC Vellmar - TV Bliesen
CLASS:PUBLIC
DTSTART:20230114T180000Z
DTSTAMP:20220817T170000Z
END:VEVENT
BEGIN:VEVENT
UID:606636-2da69939ed67427dc6bf3daba21059e9
X-WR-RELCALID:606636-2da69939ed67427dc6bf3daba21059e9
ORGANIZER:Volleyball
SEQUENCE:261102351
LOCATION:Ahnatal-Schule, Mittelring 20, 34246 Vellmar
GEO:51.36094000000000000000;9.46840000000000000000
SUMMARY:RL SW Mä.: SSC Vellmar - SG Westerwald Volleys
CLASS:PUBLIC
DTSTART:20230122T150000Z
DTSTAMP:20220817T170000Z
END:VEVENT
BEGIN:VEVENT
UID:606643-2da69939ed67427dc6bf3daba21059e9
X-WR-RELCALID:606643-2da69939ed67427dc6bf3daba21059e9
ORGANIZER:Volleyball
SEQUENCE:261102351
LOCATION:Sportzentrum Rodheim, Petterweiler Straße, 61191 Rosbach vor 
 der Höhe
GEO:50.25948080000000000000;8.70455540000000000000
SUMMARY:RL SW Mä.: SG Rodheim - SSC Vellmar
CLASS:PUBLIC
DTSTART:20230128T190000Z
DTSTAMP:20220817T170000Z
END:VEVENT
BEGIN:VEVENT
UID:606645-2da69939ed67427dc6bf3daba21059e9
X-WR-RELCALID:606645-2da69939ed67427dc6bf3daba21059e9
ORGANIZER:Volleyball
SEQUENCE:261102351
LOCATION:Ahnatal-Schule, Mittelring 20, 34246 Vellmar
GEO:51.36094000000000000000;9.46840000000000000000
SUMMARY:RL SW Mä.: SSC Vellmar - TGM Mainz-Gonsenheim II
CLASS:PUBLIC
DTSTART:20230129T150000Z
DTSTAMP:20220817T170000Z
END:VEVENT
BEGIN:VEVENT
UID:606648-2da69939ed67427dc6bf3daba21059e9
X-WR-RELCALID:606648-2da69939ed67427dc6bf3daba21059e9
ORGANIZER:Volleyball
SEQUENCE:261102351
LOCATION:Ahnatal-Schule, Mittelring 20, 34246 Vellmar
GEO:51.36094000000000000000;9.46840000000000000000
SUMMARY:RL SW Mä.: SSC Vellmar - TV Bommersheim
CLASS:PUBLIC
DTSTART:20230211T180000Z
DTSTAMP:20220817T170000Z
END:VEVENT
BEGIN:VEVENT
UID:606653-2da69939ed67427dc6bf3daba21059e9
X-WR-RELCALID:606653-2da69939ed67427dc6bf3daba21059e9
ORGANIZER:Volleyball
SEQUENCE:261102351
LOCATION:Carl-von-Weinberg-Schule, Zur Waldau 21, 60529 Frankfurt am M
 ain
GEO:50.07959190000000000000;8.61141810000000000000
SUMMARY:RL SW Mä.: VJF Frankfurt II - SSC Vellmar
CLASS:PUBLIC
DTSTART:20230304T133000Z
DTSTAMP:20220724T075400Z
END:VEVENT
BEGIN:VEVENT
UID:606661-2da69939ed67427dc6bf3daba21059e9
X-WR-RELCALID:606661-2da69939ed67427dc6bf3daba21059e9
ORGANIZER:Volleyball
SEQUENCE:261102351
LOCATION:Ahnatal-Schule, Mittelring 20, 34246 Vellmar
GEO:51.36094000000000000000;9.46840000000000000000
SUMMARY:RL SW Mä.: SSC Vellmar - TuS Kriftel II
CLASS:PUBLIC
DTSTART:20230318T190000Z
DTSTAMP:20220817T170000Z
END:VEVENT
END:VCALENDAR