BEGIN:VCALENDAR
VERSION:2.0
PRODID:VSD-Portal-www.volley.de
METHOD:PUBLISH
BEGIN:VEVENT
UID:613629-2da69939ed67427dc6bf3daba21059e9
X-WR-RELCALID:613629-2da69939ed67427dc6bf3daba21059e9
ORGANIZER:Volleyball
SEQUENCE:261100448
LOCATION:Gymnasium Borghorst, Herderstr. 6, 48565 Steinfurt
GEO:52.12677860000000000000;7.40531890000000000000
SUMMARY:BKl 24 Fr.: TV Emsdetten - VfL Ahaus II
CLASS:PUBLIC
DTSTART:20220917T153000Z
DTSTAMP:20220821T092500Z
END:VEVENT
BEGIN:VEVENT
UID:613636-2da69939ed67427dc6bf3daba21059e9
X-WR-RELCALID:613636-2da69939ed67427dc6bf3daba21059e9
ORGANIZER:Volleyball
SEQUENCE:261100448
LOCATION:Martinum-Sporthalle, Dahlmannsbusch 14, 48282 Emsdetten
GEO:52.18001200000000000000;7.52309670000000000000
SUMMARY:BKl 24 Fr.: TV Emsdetten - FC Stella Bevergern
CLASS:PUBLIC
DTSTART:20221018T170000Z
DTSTAMP:20221015T084000Z
END:VEVENT
BEGIN:VEVENT
UID:613652-2da69939ed67427dc6bf3daba21059e9
X-WR-RELCALID:613652-2da69939ed67427dc6bf3daba21059e9
ORGANIZER:Volleyball
SEQUENCE:261100448
LOCATION:Martinum-Sporthalle, Dahlmannsbusch 14, 48282 Emsdetten
GEO:52.18001200000000000000;7.52309670000000000000
SUMMARY:BKl 24 Fr.: TV Emsdetten - TV Mesum III
CLASS:PUBLIC
DTSTART:20221112T140000Z
DTSTAMP:20220819T192500Z
END:VEVENT
BEGIN:VEVENT
UID:613668-2da69939ed67427dc6bf3daba21059e9
X-WR-RELCALID:613668-2da69939ed67427dc6bf3daba21059e9
ORGANIZER:Volleyball
SEQUENCE:261100448
LOCATION:Martinum-Sporthalle, Dahlmannsbusch 14, 48282 Emsdetten
GEO:52.18001200000000000000;7.52309670000000000000
SUMMARY:BKl 24 Fr.: TV Emsdetten - SC Arminia Ochtrup
CLASS:PUBLIC
DTSTART:20221217T140000Z
DTSTAMP:20220819T192500Z
END:VEVENT
BEGIN:VEVENT
UID:613682-2da69939ed67427dc6bf3daba21059e9
X-WR-RELCALID:613682-2da69939ed67427dc6bf3daba21059e9
ORGANIZER:Volleyball
SEQUENCE:261100448
LOCATION:Käthe-Kollwitz-Realschule, Grünring 70, 48282 Emsdetten
GEO:0E-20;0E-20
SUMMARY:BKl 24 Fr.: TV Emsdetten - SV Westfalia Hopsten
CLASS:PUBLIC
DTSTART:20230211T140000Z
DTSTAMP:20220825T084000Z
END:VEVENT
END:VCALENDAR