BEGIN:VCALENDAR
VERSION:2.0
PRODID:VSD-Portal-www.volley.de
METHOD:PUBLISH
BEGIN:VEVENT
UID:173459-0b1cb5f82de24c98f11e829bddb1f0f9
X-WR-RELCALID:173459-0b1cb5f82de24c98f11e829bddb1f0f9
ORGANIZER:Volleyball
SEQUENCE:261091703
LOCATION:Wilhelm-Baum-Halle, Schulstrasse 28, 90537 Feucht
GEO:49.37685602932231000000;11.20287688095095300000
SUMMARY:Rel BKLN Fr.: TSV Ochenbruck - VG Baiersd./Marloffstein II
CLASS:PUBLIC
DTSTART:20170401T120000Z
DTSTAMP:20170404T123600Z
END:VEVENT
BEGIN:VEVENT
UID:173461-0b1cb5f82de24c98f11e829bddb1f0f9
X-WR-RELCALID:173461-0b1cb5f82de24c98f11e829bddb1f0f9
ORGANIZER:Volleyball
SEQUENCE:261091703
LOCATION:Wilhelm-Baum-Halle, Schulstrasse 28, 90537 Feucht
GEO:49.37685602932231000000;11.20287688095095300000
SUMMARY:Rel BKLN Fr.: SC Egloffstein - TSV Ochenbruck
CLASS:PUBLIC
DTSTART:20170401T120000Z
DTSTAMP:20170404T124200Z
END:VEVENT
END:VCALENDAR