BEGIN:VCALENDAR
VERSION:2.0
PRODID:VSD-Portal-www.volley.de
METHOD:PUBLISH
BEGIN:VEVENT
UID:622524-2da69939ed67427dc6bf3daba21059e9
X-WR-RELCALID:622524-2da69939ed67427dc6bf3daba21059e9
ORGANIZER:Volleyball
SEQUENCE:261160135
LOCATION:Sporthalle Rauschenberg, Am Schwimmbad, 35282 Rauschenberg
GEO:50.88310320000000000000;8.92187120000000000000
SUMMARY:M-KL N Fr.: ASV Rauschenberg 2 - TV Wetzlar 2
CLASS:PUBLIC
DTSTART:20220925T120000Z
DTSTAMP:20220913T062000Z
END:VEVENT
BEGIN:VEVENT
UID:622531-2da69939ed67427dc6bf3daba21059e9
X-WR-RELCALID:622531-2da69939ed67427dc6bf3daba21059e9
ORGANIZER:Volleyball
SEQUENCE:261160135
LOCATION:Theodor-Heuss-Schule, Frankfurter Str.,  Wetzlar
GEO:50.54577200000000000000;8.52864380000000000000
SUMMARY:M-KL N Fr.: TV Wetzlar 2 - TSV Kirchhain
CLASS:PUBLIC
DTSTART:20221016T090000Z
DTSTAMP:20220903T153500Z
END:VEVENT
BEGIN:VEVENT
UID:622532-2da69939ed67427dc6bf3daba21059e9
X-WR-RELCALID:622532-2da69939ed67427dc6bf3daba21059e9
ORGANIZER:Volleyball
SEQUENCE:261160135
LOCATION:Theodor-Heuss-Schule, Frankfurter Str.,  Wetzlar
GEO:50.54577200000000000000;8.52864380000000000000
SUMMARY:M-KL N Fr.: TV Wetzlar 2 - Biedenkopf-Wetter-Volleys 2
CLASS:PUBLIC
DTSTART:20221016T090000Z
DTSTAMP:20220903T153500Z
END:VEVENT
BEGIN:VEVENT
UID:622546-2da69939ed67427dc6bf3daba21059e9
X-WR-RELCALID:622546-2da69939ed67427dc6bf3daba21059e9
ORGANIZER:Volleyball
SEQUENCE:261160135
LOCATION:Herderschule Halle A, Gleiberger Weg 33, 35398 Gießen
GEO:50.59376380000000000000;8.65832850000000000000
SUMMARY:M-KL N Fr.: USC Gießen 4 - TV Wetzlar 2
CLASS:PUBLIC
DTSTART:20221030T120000Z
DTSTAMP:20220910T142500Z
END:VEVENT
BEGIN:VEVENT
UID:622539-2da69939ed67427dc6bf3daba21059e9
X-WR-RELCALID:622539-2da69939ed67427dc6bf3daba21059e9
ORGANIZER:Volleyball
SEQUENCE:261160135
LOCATION:Theodor-Heuss-Schule, Frankfurter Str.,  Wetzlar
GEO:50.54577200000000000000;8.52864380000000000000
SUMMARY:M-KL N Fr.: TV Wetzlar 2 - BG Marburg 3
CLASS:PUBLIC
DTSTART:20221119T140000Z
DTSTAMP:20220820T080800Z
END:VEVENT
BEGIN:VEVENT
UID:622540-2da69939ed67427dc6bf3daba21059e9
X-WR-RELCALID:622540-2da69939ed67427dc6bf3daba21059e9
ORGANIZER:Volleyball
SEQUENCE:261160135
LOCATION:Theodor-Heuss-Schule, Frankfurter Str.,  Wetzlar
GEO:50.54577200000000000000;8.52864380000000000000
SUMMARY:M-KL N Fr.: TV Wetzlar 2 - VfL Marburg 4
CLASS:PUBLIC
DTSTART:20221119T140000Z
DTSTAMP:20220820T080800Z
END:VEVENT
BEGIN:VEVENT
UID:622553-2da69939ed67427dc6bf3daba21059e9
X-WR-RELCALID:622553-2da69939ed67427dc6bf3daba21059e9
ORGANIZER:Volleyball
SEQUENCE:261160135
LOCATION:Lahntalschule, Am Freibad 19, 35216 Biedenkopf
GEO:50.91512000000000000000;8.51608000000000000000
SUMMARY:M-KL N Fr.: Gießener SV 4 - TV Wetzlar 2
CLASS:PUBLIC
DTSTART:20221217T140000Z
DTSTAMP:20220908T090000Z
END:VEVENT
BEGIN:VEVENT
UID:622555-2da69939ed67427dc6bf3daba21059e9
X-WR-RELCALID:622555-2da69939ed67427dc6bf3daba21059e9
ORGANIZER:Volleyball
SEQUENCE:261160135
LOCATION:Theodor-Heuss-Schule, Frankfurter Str.,  Wetzlar
GEO:50.54577200000000000000;8.52864380000000000000
SUMMARY:M-KL N Fr.: TV Wetzlar 2 - Gießener SV 4
CLASS:PUBLIC
DTSTART:20230122T100000Z
DTSTAMP:20220903T153500Z
END:VEVENT
BEGIN:VEVENT
UID:622556-2da69939ed67427dc6bf3daba21059e9
X-WR-RELCALID:622556-2da69939ed67427dc6bf3daba21059e9
ORGANIZER:Volleyball
SEQUENCE:261160135
LOCATION:Theodor-Heuss-Schule, Frankfurter Str.,  Wetzlar
GEO:50.54577200000000000000;8.52864380000000000000
SUMMARY:M-KL N Fr.: TV Wetzlar 2 - ASV Rauschenberg 2
CLASS:PUBLIC
DTSTART:20230122T100000Z
DTSTAMP:20220903T153500Z
END:VEVENT
BEGIN:VEVENT
UID:622559-2da69939ed67427dc6bf3daba21059e9
X-WR-RELCALID:622559-2da69939ed67427dc6bf3daba21059e9
ORGANIZER:Volleyball
SEQUENCE:261160135
LOCATION:Heinrich-Werber-Halle, Am Hallenbad, 35274 Kirchhain
GEO:50.83198710000000000000;8.92287830000000000000
SUMMARY:M-KL N Fr.: TSV Kirchhain - TV Wetzlar 2
CLASS:PUBLIC
DTSTART:20230129T100000Z
DTSTAMP:20220908T090000Z
END:VEVENT
BEGIN:VEVENT
UID:622565-2da69939ed67427dc6bf3daba21059e9
X-WR-RELCALID:622565-2da69939ed67427dc6bf3daba21059e9
ORGANIZER:Volleyball
SEQUENCE:261160135
LOCATION:Kaufmännische Schulen, Leopold-Lucas-Straße, 35037 Marburg
GEO:50.80037100000000000000;8.75479750000000000000
SUMMARY:M-KL N Fr.: VfL Marburg 4 - TV Wetzlar 2
CLASS:PUBLIC
DTSTART:20230212T110000Z
DTSTAMP:20220903T154000Z
END:VEVENT
BEGIN:VEVENT
UID:622567-2da69939ed67427dc6bf3daba21059e9
X-WR-RELCALID:622567-2da69939ed67427dc6bf3daba21059e9
ORGANIZER:Volleyball
SEQUENCE:261160135
LOCATION:Martin-Luther-Schule, Heusingerstraße, 35037 Marburg
GEO:50.81212010000000000000;8.77632160000000000000
SUMMARY:M-KL N Fr.: BG Marburg 3 - TV Wetzlar 2
CLASS:PUBLIC
DTSTART:20230225T140000Z
DTSTAMP:20220820T080800Z
END:VEVENT
BEGIN:VEVENT
UID:622570-2da69939ed67427dc6bf3daba21059e9
X-WR-RELCALID:622570-2da69939ed67427dc6bf3daba21059e9
ORGANIZER:Volleyball
SEQUENCE:261160135
LOCATION:Martin-Luther-Schule, Heusingerstraße, 35037 Marburg
GEO:50.81212010000000000000;8.77632160000000000000
SUMMARY:M-KL N Fr.: TV Wetzlar 2 - USC Gießen 4
CLASS:PUBLIC
DTSTART:20230225T140000Z
DTSTAMP:20220820T080800Z
END:VEVENT
BEGIN:VEVENT
UID:622572-2da69939ed67427dc6bf3daba21059e9
X-WR-RELCALID:622572-2da69939ed67427dc6bf3daba21059e9
ORGANIZER:Volleyball
SEQUENCE:261160135
LOCATION:SH Wollenbergschule Wetter, Weinstr. 9, 35083 Wetter
GEO:50.89701000000000000000;8.72395000000000000000
SUMMARY:M-KL N Fr.: Biedenkopf-Wetter-Volleys 2 - TV Wetzlar 2
CLASS:PUBLIC
DTSTART:20230312T130000Z
DTSTAMP:20230302T094000Z
END:VEVENT
END:VCALENDAR