BEGIN:VCALENDAR
VERSION:2.0
PRODID:VSD-Portal-www.volley.de
METHOD:PUBLISH
BEGIN:VEVENT
UID:173707-0b1cb5f82de24c98f11e829bddb1f0f9
X-WR-RELCALID:173707-0b1cb5f82de24c98f11e829bddb1f0f9
ORGANIZER:Volleyball
SEQUENCE:261131701
SUMMARY:Rel BL Mix Mi.: Sixxt Nix - 6 am Netz
CLASS:PUBLIC
DTSTART:20170402T090000Z
DTSTAMP:20170522T210700Z
END:VEVENT
BEGIN:VEVENT
UID:173704-0b1cb5f82de24c98f11e829bddb1f0f9
X-WR-RELCALID:173704-0b1cb5f82de24c98f11e829bddb1f0f9
ORGANIZER:Volleyball
SEQUENCE:261131701
SUMMARY:Rel BL Mix Mi.: Sixxt Nix - Power Rangers
CLASS:PUBLIC
DTSTART:20170521T090000Z
DTSTAMP:20170522T211500Z
END:VEVENT
BEGIN:VEVENT
UID:173705-0b1cb5f82de24c98f11e829bddb1f0f9
X-WR-RELCALID:173705-0b1cb5f82de24c98f11e829bddb1f0f9
ORGANIZER:Volleyball
SEQUENCE:261131701
SUMMARY:Rel BL Mix Mi.: Sixxt Nix - Down Under Reloaded
CLASS:PUBLIC
DTSTART:20170521T110000Z
DTSTAMP:20170522T211500Z
END:VEVENT
END:VCALENDAR