BEGIN:VCALENDAR
VERSION:2.0
PRODID:VSD-Portal-www.volley.de
METHOD:PUBLISH
BEGIN:VEVENT
UID:624788-2da69939ed67427dc6bf3daba21059e9
X-WR-RELCALID:624788-2da69939ed67427dc6bf3daba21059e9
ORGANIZER:Volleyball
SEQUENCE:261111926
LOCATION:Sporthalle Weil, Esslingen, Sporthalle Weil, 0  Esslingen
GEO:48.73863601684570000000;9.27671527862548800000
SUMMARY:A-Kl. 1 O Fr.: SG TSV Schlierbach 2/SV 1845 Esslingen 3 - TSV 
 Linsenhofen
CLASS:PUBLIC
DTSTART:20221023T100000Z
DTSTAMP:20220914T113700Z
END:VEVENT
BEGIN:VEVENT
UID:624795-2da69939ed67427dc6bf3daba21059e9
X-WR-RELCALID:624795-2da69939ed67427dc6bf3daba21059e9
ORGANIZER:Volleyball
SEQUENCE:261111926
LOCATION:Rumoldhalle, Kernen, Rumoldhalle, 0  Kernen
GEO:48.81401824951172000000;9.31825447082519500000
SUMMARY:A-Kl. 1 O Fr.: VSG Kernen - TSV Linsenhofen
CLASS:PUBLIC
DTSTART:20221112T130000Z
DTSTAMP:20220914T113700Z
END:VEVENT
BEGIN:VEVENT
UID:624781-2da69939ed67427dc6bf3daba21059e9
X-WR-RELCALID:624781-2da69939ed67427dc6bf3daba21059e9
ORGANIZER:Volleyball
SEQUENCE:261111926
LOCATION:Gemeindehalle Heuchlingen, Heuchlingen, Gemeindehalle Heuchli
 ngen, 0  Heuchlingen
GEO:48.85158920288086000000;9.94279003143310500000
SUMMARY:A-Kl. 1 O Fr.: TV Heuchlingen - TSV Linsenhofen
CLASS:PUBLIC
DTSTART:20221119T140000Z
DTSTAMP:20221008T111000Z
END:VEVENT
BEGIN:VEVENT
UID:624780-2da69939ed67427dc6bf3daba21059e9
X-WR-RELCALID:624780-2da69939ed67427dc6bf3daba21059e9
ORGANIZER:Volleyball
SEQUENCE:261111926
LOCATION:Otto-Maisch-Halle Linsenhofen, Frickenhausen-Linsenhofen, Ott
 o-Maisch-Halle Linsenhofen, 0  Frickenhausen-Linsenhofen
GEO:48.58269882202148400000;9.37473964691162100000
SUMMARY:A-Kl. 1 O Fr.: TSV Linsenhofen - SV Fellbach 3
CLASS:PUBLIC
DTSTART:20221124T190000Z
DTSTAMP:20221118T114500Z
END:VEVENT
BEGIN:VEVENT
UID:624800-2da69939ed67427dc6bf3daba21059e9
X-WR-RELCALID:624800-2da69939ed67427dc6bf3daba21059e9
ORGANIZER:Volleyball
SEQUENCE:261111926
LOCATION:Sporthalle Bergreute, Schlierbach, Sporthalle Bergreute, 0  S
 chlierbach
GEO:48.66988372802734400000;9.51604747772216800000
SUMMARY:A-Kl. 1 O Fr.: TSV Schlierbach - TSV Linsenhofen
CLASS:PUBLIC
DTSTART:20221126T150000Z
DTSTAMP:20220914T113700Z
END:VEVENT
BEGIN:VEVENT
UID:624779-2da69939ed67427dc6bf3daba21059e9
X-WR-RELCALID:624779-2da69939ed67427dc6bf3daba21059e9
ORGANIZER:Volleyball
SEQUENCE:261111926
LOCATION:Otto-Maisch-Halle Linsenhofen, Frickenhausen-Linsenhofen, Ott
 o-Maisch-Halle Linsenhofen, 0  Frickenhausen-Linsenhofen
GEO:48.58269882202148400000;9.37473964691162100000
SUMMARY:A-Kl. 1 O Fr.: TSV Linsenhofen - TG Reichenbach
CLASS:PUBLIC
DTSTART:20221209T193000Z
DTSTAMP:20221118T114500Z
END:VEVENT
BEGIN:VEVENT
UID:624809-2da69939ed67427dc6bf3daba21059e9
X-WR-RELCALID:624809-2da69939ed67427dc6bf3daba21059e9
ORGANIZER:Volleyball
SEQUENCE:261111926
LOCATION:Otto-Maisch-Halle Linsenhofen, Frickenhausen-Linsenhofen, Ott
 o-Maisch-Halle Linsenhofen, 0  Frickenhausen-Linsenhofen
GEO:48.58269882202148400000;9.37473964691162100000
SUMMARY:A-Kl. 1 O Fr.: TSV Linsenhofen - VSG HusBeSt
CLASS:PUBLIC
DTSTART:20221211T120000Z
DTSTAMP:20220914T113700Z
END:VEVENT
BEGIN:VEVENT
UID:624810-2da69939ed67427dc6bf3daba21059e9
X-WR-RELCALID:624810-2da69939ed67427dc6bf3daba21059e9
ORGANIZER:Volleyball
SEQUENCE:261111926
LOCATION:Otto-Maisch-Halle Linsenhofen, Frickenhausen-Linsenhofen, Ott
 o-Maisch-Halle Linsenhofen, 0  Frickenhausen-Linsenhofen
GEO:48.58269882202148400000;9.37473964691162100000
SUMMARY:A-Kl. 1 O Fr.: TSV Linsenhofen - SG TV Hochdorf/TV Reichenbach
 
CLASS:PUBLIC
DTSTART:20221211T120000Z
DTSTAMP:20220914T113700Z
END:VEVENT
BEGIN:VEVENT
UID:624813-2da69939ed67427dc6bf3daba21059e9
X-WR-RELCALID:624813-2da69939ed67427dc6bf3daba21059e9
ORGANIZER:Volleyball
SEQUENCE:261111926
LOCATION:Rehgebirgshalle, Donzdorf-Reichenbach u.R., Rehgebirgshalle, 
 0  Donzdorf-Reichenbach u.R.
GEO:48.71299362182617000000;9.79598140716552700000
SUMMARY:A-Kl. 1 O Fr.: TG Reichenbach - TSV Linsenhofen
CLASS:PUBLIC
DTSTART:20230121T140000Z
DTSTAMP:20220914T113700Z
END:VEVENT
BEGIN:VEVENT
UID:624818-2da69939ed67427dc6bf3daba21059e9
X-WR-RELCALID:624818-2da69939ed67427dc6bf3daba21059e9
ORGANIZER:Volleyball
SEQUENCE:261111926
LOCATION:Gäuäckersporthalle 1, Fellbach, Gäuäckersporthalle 1, 0  Fell
 bach
GEO:48.81914138793945000000;9.28281784057617200000
SUMMARY:A-Kl. 1 O Fr.: SV Fellbach 3 - TSV Linsenhofen
CLASS:PUBLIC
DTSTART:20230205T100000Z
DTSTAMP:20220914T113700Z
END:VEVENT
BEGIN:VEVENT
UID:624826-2da69939ed67427dc6bf3daba21059e9
X-WR-RELCALID:624826-2da69939ed67427dc6bf3daba21059e9
ORGANIZER:Volleyball
SEQUENCE:261111926
LOCATION:Otto-Maisch-Halle Linsenhofen, Frickenhausen-Linsenhofen, Ott
 o-Maisch-Halle Linsenhofen, 0  Frickenhausen-Linsenhofen
GEO:48.58269882202148400000;9.37473964691162100000
SUMMARY:A-Kl. 1 O Fr.: TSV Linsenhofen - SG TSV Schlierbach 2/SV 1845 
 Esslingen 3
CLASS:PUBLIC
DTSTART:20230219T120000Z
DTSTAMP:20220914T113700Z
END:VEVENT
BEGIN:VEVENT
UID:624831-2da69939ed67427dc6bf3daba21059e9
X-WR-RELCALID:624831-2da69939ed67427dc6bf3daba21059e9
ORGANIZER:Volleyball
SEQUENCE:261111926
LOCATION:Kleine Turnhalle der Uhlandschule, Schwäbisch Gmünd, Kleine T
 urnhalle der Uhlandschule, 0  Schwäbisch Gmünd
GEO:48.78744888305664000000;9.84722042083740200000
SUMMARY:A-Kl. 1 O Fr.: VSG HusBeSt - TSV Linsenhofen
CLASS:PUBLIC
DTSTART:20230304T090000Z
DTSTAMP:20230228T180000Z
END:VEVENT
BEGIN:VEVENT
UID:624837-2da69939ed67427dc6bf3daba21059e9
X-WR-RELCALID:624837-2da69939ed67427dc6bf3daba21059e9
ORGANIZER:Volleyball
SEQUENCE:261111926
LOCATION:Otto-Maisch-Halle Linsenhofen, Frickenhausen-Linsenhofen, Ott
 o-Maisch-Halle Linsenhofen, 0  Frickenhausen-Linsenhofen
GEO:48.58269882202148400000;9.37473964691162100000
SUMMARY:A-Kl. 1 O Fr.: TSV Linsenhofen - VSG Kernen
CLASS:PUBLIC
DTSTART:20230319T120000Z
DTSTAMP:20220914T113700Z
END:VEVENT
BEGIN:VEVENT
UID:624838-2da69939ed67427dc6bf3daba21059e9
X-WR-RELCALID:624838-2da69939ed67427dc6bf3daba21059e9
ORGANIZER:Volleyball
SEQUENCE:261111926
LOCATION:Otto-Maisch-Halle Linsenhofen, Frickenhausen-Linsenhofen, Ott
 o-Maisch-Halle Linsenhofen, 0  Frickenhausen-Linsenhofen
GEO:48.58269882202148400000;9.37473964691162100000
SUMMARY:A-Kl. 1 O Fr.: TSV Linsenhofen - TSV Schlierbach
CLASS:PUBLIC
DTSTART:20230319T120000Z
DTSTAMP:20220914T113700Z
END:VEVENT
BEGIN:VEVENT
UID:624846-2da69939ed67427dc6bf3daba21059e9
X-WR-RELCALID:624846-2da69939ed67427dc6bf3daba21059e9
ORGANIZER:Volleyball
SEQUENCE:261111926
LOCATION:Breitwiesenhalle Hochdorf, Hochdorf, Breitwiesenhalle Hochdor
 f, 0  Hochdorf
GEO:48.69467926025390600000;9.46743965148925800000
SUMMARY:A-Kl. 1 O Fr.: SG TV Hochdorf/TV Reichenbach - TSV Linsenhofen
 
CLASS:PUBLIC
DTSTART:20230402T090000Z
DTSTAMP:20220914T113700Z
END:VEVENT
END:VCALENDAR