BEGIN:VCALENDAR
VERSION:2.0
PRODID:VSD-Portal-www.volley.de
METHOD:PUBLISH
BEGIN:VEVENT
UID:625187-2da69939ed67427dc6bf3daba21059e9
X-WR-RELCALID:625187-2da69939ed67427dc6bf3daba21059e9
ORGANIZER:Volleyball
SEQUENCE:261121822
LOCATION:Sporthalle Hauberg (Musberg), Leinfelden-Echterdingen, Sporth
 alle Hauberg (Musberg), 0  Leinfelden-Echterdingen
GEO:48.69432067871094000000;9.11928367614746100000
SUMMARY:A-Kl. 2 O Fr.: TSV Musberg - TSV Wernau
CLASS:PUBLIC
DTSTART:20221001T123000Z
DTSTAMP:20220914T113900Z
END:VEVENT
BEGIN:VEVENT
UID:625188-2da69939ed67427dc6bf3daba21059e9
X-WR-RELCALID:625188-2da69939ed67427dc6bf3daba21059e9
ORGANIZER:Volleyball
SEQUENCE:261121822
LOCATION:Sporthalle Hauberg (Musberg), Leinfelden-Echterdingen, Sporth
 alle Hauberg (Musberg), 0  Leinfelden-Echterdingen
GEO:48.69432067871094000000;9.11928367614746100000
SUMMARY:A-Kl. 2 O Fr.: TSV Musberg - TSV Wernau 2
CLASS:PUBLIC
DTSTART:20221001T123000Z
DTSTAMP:20220914T113900Z
END:VEVENT
BEGIN:VEVENT
UID:625208-2da69939ed67427dc6bf3daba21059e9
X-WR-RELCALID:625208-2da69939ed67427dc6bf3daba21059e9
ORGANIZER:Volleyball
SEQUENCE:261121822
LOCATION:Sporthalle Hauberg (Musberg), Leinfelden-Echterdingen, Sporth
 alle Hauberg (Musberg), 0  Leinfelden-Echterdingen
GEO:48.69432067871094000000;9.11928367614746100000
SUMMARY:A-Kl. 2 O Fr.: TSV Musberg - TSV Birkach
CLASS:PUBLIC
DTSTART:20221210T133000Z
DTSTAMP:20220914T113900Z
END:VEVENT
BEGIN:VEVENT
UID:625209-2da69939ed67427dc6bf3daba21059e9
X-WR-RELCALID:625209-2da69939ed67427dc6bf3daba21059e9
ORGANIZER:Volleyball
SEQUENCE:261121822
LOCATION:Sporthalle Hauberg (Musberg), Leinfelden-Echterdingen, Sporth
 alle Hauberg (Musberg), 0  Leinfelden-Echterdingen
GEO:48.69432067871094000000;9.11928367614746100000
SUMMARY:A-Kl. 2 O Fr.: TSV Musberg - TSV Schmiden 2
CLASS:PUBLIC
DTSTART:20221210T133000Z
DTSTAMP:20220914T113900Z
END:VEVENT
BEGIN:VEVENT
UID:625226-2da69939ed67427dc6bf3daba21059e9
X-WR-RELCALID:625226-2da69939ed67427dc6bf3daba21059e9
ORGANIZER:Volleyball
SEQUENCE:261121822
LOCATION:Sporthalle Hauberg (Musberg), Leinfelden-Echterdingen, Sporth
 alle Hauberg (Musberg), 0  Leinfelden-Echterdingen
GEO:48.69432067871094000000;9.11928367614746100000
SUMMARY:A-Kl. 2 O Fr.: TSV Musberg - TG Nürtingen 2
CLASS:PUBLIC
DTSTART:20230218T133000Z
DTSTAMP:20220914T113900Z
END:VEVENT
BEGIN:VEVENT
UID:625232-2da69939ed67427dc6bf3daba21059e9
X-WR-RELCALID:625232-2da69939ed67427dc6bf3daba21059e9
ORGANIZER:Volleyball
SEQUENCE:261121822
LOCATION:Sporthalle Hauberg (Musberg), Leinfelden-Echterdingen, Sporth
 alle Hauberg (Musberg), 0  Leinfelden-Echterdingen
GEO:48.69432067871094000000;9.11928367614746100000
SUMMARY:A-Kl. 2 O Fr.: TSV Musberg - TSV Bernhausen
CLASS:PUBLIC
DTSTART:20230318T133000Z
DTSTAMP:20220914T113900Z
END:VEVENT
BEGIN:VEVENT
UID:625233-2da69939ed67427dc6bf3daba21059e9
X-WR-RELCALID:625233-2da69939ed67427dc6bf3daba21059e9
ORGANIZER:Volleyball
SEQUENCE:261121822
LOCATION:Sporthalle Hauberg (Musberg), Leinfelden-Echterdingen, Sporth
 alle Hauberg (Musberg), 0  Leinfelden-Echterdingen
GEO:48.69432067871094000000;9.11928367614746100000
SUMMARY:A-Kl. 2 O Fr.: TSV Musberg - SG Schorndorf
CLASS:PUBLIC
DTSTART:20230318T133000Z
DTSTAMP:20220914T113900Z
END:VEVENT
END:VCALENDAR