BEGIN:VCALENDAR
VERSION:2.0
PRODID:VSD-Portal-www.volley.de
METHOD:PUBLISH
BEGIN:VEVENT
UID:625840-2da69939ed67427dc6bf3daba21059e9
X-WR-RELCALID:625840-2da69939ed67427dc6bf3daba21059e9
ORGANIZER:Volleyball
SEQUENCE:261141754
LOCATION:Ballspielhalle Botnang, Stuttgart-Botnang, Ballspielhalle Bot
 nang, 0  Stuttgart-Botnang
GEO:48.77811813354492000000;9.12143993377685500000
SUMMARY:B-Kl. 2 N Fr.: ASV Botnang 2 - SG Stromberg III
CLASS:PUBLIC
DTSTART:20221001T083000Z
DTSTAMP:20220930T154500Z
END:VEVENT
BEGIN:VEVENT
UID:625839-2da69939ed67427dc6bf3daba21059e9
X-WR-RELCALID:625839-2da69939ed67427dc6bf3daba21059e9
ORGANIZER:Volleyball
SEQUENCE:261141754
LOCATION:Ballspielhalle Botnang, Stuttgart-Botnang, Ballspielhalle Bot
 nang, 0  Stuttgart-Botnang
GEO:48.77811813354492000000;9.12143993377685500000
SUMMARY:B-Kl. 2 N Fr.: ASV Botnang 2 - ASV Botnang 3
CLASS:PUBLIC
DTSTART:20221014T173000Z
DTSTAMP:20221013T064000Z
END:VEVENT
BEGIN:VEVENT
UID:625861-2da69939ed67427dc6bf3daba21059e9
X-WR-RELCALID:625861-2da69939ed67427dc6bf3daba21059e9
ORGANIZER:Volleyball
SEQUENCE:261141754
LOCATION:Ballspielhalle Botnang, Stuttgart-Botnang, Ballspielhalle Bot
 nang, 0  Stuttgart-Botnang
GEO:48.77811813354492000000;9.12143993377685500000
SUMMARY:B-Kl. 2 N Fr.: ASV Botnang 2 - TV Cannstatt 1846 3
CLASS:PUBLIC
DTSTART:20221126T090000Z
DTSTAMP:20220914T114300Z
END:VEVENT
BEGIN:VEVENT
UID:625862-2da69939ed67427dc6bf3daba21059e9
X-WR-RELCALID:625862-2da69939ed67427dc6bf3daba21059e9
ORGANIZER:Volleyball
SEQUENCE:261141754
LOCATION:Ballspielhalle Botnang, Stuttgart-Botnang, Ballspielhalle Bot
 nang, 0  Stuttgart-Botnang
GEO:48.77811813354492000000;9.12143993377685500000
SUMMARY:B-Kl. 2 N Fr.: ASV Botnang 2 - SV Fellbach 5
CLASS:PUBLIC
DTSTART:20221126T100000Z
DTSTAMP:20220914T114300Z
END:VEVENT
BEGIN:VEVENT
UID:625886-2da69939ed67427dc6bf3daba21059e9
X-WR-RELCALID:625886-2da69939ed67427dc6bf3daba21059e9
ORGANIZER:Volleyball
SEQUENCE:261141754
LOCATION:Ballspielhalle Botnang, Stuttgart-Botnang, Ballspielhalle Bot
 nang, 0  Stuttgart-Botnang
GEO:48.77811813354492000000;9.12143993377685500000
SUMMARY:B-Kl. 2 N Fr.: ASV Botnang 2 - SV Fellbach 4
CLASS:PUBLIC
DTSTART:20230218T140000Z
DTSTAMP:20220914T114300Z
END:VEVENT
BEGIN:VEVENT
UID:625885-2da69939ed67427dc6bf3daba21059e9
X-WR-RELCALID:625885-2da69939ed67427dc6bf3daba21059e9
ORGANIZER:Volleyball
SEQUENCE:261141754
LOCATION:Ballspielhalle Botnang, Stuttgart-Botnang, Ballspielhalle Bot
 nang, 0  Stuttgart-Botnang
GEO:48.77811813354492000000;9.12143993377685500000
SUMMARY:B-Kl. 2 N Fr.: ASV Botnang 2 - Volleyball Akademie Stuttgart 5
 
CLASS:PUBLIC
DTSTART;VALUE=DATE:20230218
DTSTAMP:20230218T225500Z
DTEND;VALUE=DATE:20230219
END:VEVENT
BEGIN:VEVENT
UID:625891-2da69939ed67427dc6bf3daba21059e9
X-WR-RELCALID:625891-2da69939ed67427dc6bf3daba21059e9
ORGANIZER:Volleyball
SEQUENCE:261141754
LOCATION:Ballspielhalle Botnang, Stuttgart-Botnang, Ballspielhalle Bot
 nang, 0  Stuttgart-Botnang
GEO:48.77811813354492000000;9.12143993377685500000
SUMMARY:B-Kl. 2 N Fr.: ASV Botnang 2 - TSV Schmiden 3
CLASS:PUBLIC
DTSTART:20230304T130000Z
DTSTAMP:20220914T114300Z
END:VEVENT
BEGIN:VEVENT
UID:625892-2da69939ed67427dc6bf3daba21059e9
X-WR-RELCALID:625892-2da69939ed67427dc6bf3daba21059e9
ORGANIZER:Volleyball
SEQUENCE:261141754
LOCATION:Ballspielhalle Botnang, Stuttgart-Botnang, Ballspielhalle Bot
 nang, 0  Stuttgart-Botnang
GEO:48.77811813354492000000;9.12143993377685500000
SUMMARY:B-Kl. 2 N Fr.: ASV Botnang 2 - SG Schorndorf 2
CLASS:PUBLIC
DTSTART:20230304T140000Z
DTSTAMP:20220914T114300Z
END:VEVENT
END:VCALENDAR