BEGIN:VCALENDAR
VERSION:2.0
PRODID:VSD-Portal-www.volley.de
METHOD:PUBLISH
BEGIN:VEVENT
UID:639046-2da69939ed67427dc6bf3daba21059e9
X-WR-RELCALID:639046-2da69939ed67427dc6bf3daba21059e9
ORGANIZER:Volleyball
SEQUENCE:261091546
LOCATION:268 - Sporthalle an der Hertabrücke, Hertastraße 1b, 12051 Be
 rlin-Rudow
GEO:52.46770950000000000000;13.43543530000000000000
SUMMARY:RL NO Fr.: TSV Rudow 1888 - TSV Tempelhof-Mariendorf
CLASS:PUBLIC
DTSTART:20230917T120000Z
DTSTAMP:20230712T220400Z
END:VEVENT
BEGIN:VEVENT
UID:639054-2da69939ed67427dc6bf3daba21059e9
X-WR-RELCALID:639054-2da69939ed67427dc6bf3daba21059e9
ORGANIZER:Volleyball
SEQUENCE:261091546
LOCATION:Friedrich-Ebert-Sportanlage, Bosestr. 21, 12103 Berlin
GEO:52.46340000000000000000;13.37241000000000000000
SUMMARY:RL NO Fr.: TSV Tempelhof-Mariendorf - SV Energie Cottbus II
CLASS:PUBLIC
DTSTART:20231001T130000Z
DTSTAMP:20230903T185500Z
END:VEVENT
BEGIN:VEVENT
UID:639063-2da69939ed67427dc6bf3daba21059e9
X-WR-RELCALID:639063-2da69939ed67427dc6bf3daba21059e9
ORGANIZER:Volleyball
SEQUENCE:261091546
LOCATION:147 | Anton-Saefkow-Halle, Anton-Saefkow-Platz 5, 10369 Licht
 enberg
GEO:52.52989250000000000000;13.47427250000000000000
SUMMARY:RL NO Fr.: Berliner VV - TSV Tempelhof-Mariendorf
CLASS:PUBLIC
DTSTART:20231014T160000Z
DTSTAMP:20230718T170900Z
END:VEVENT
BEGIN:VEVENT
UID:639066-2da69939ed67427dc6bf3daba21059e9
X-WR-RELCALID:639066-2da69939ed67427dc6bf3daba21059e9
ORGANIZER:Volleyball
SEQUENCE:261091546
LOCATION:1405 / Marienberghalle  , Willi-Sänger-Str.  , 14770 Brandenb
 urg
GEO:52.41979360000000000000;12.54567490000000000000
SUMMARY:RL NO Fr.: VC Blau-Weiß Brandenburg - TSV Tempelhof-Mariendorf
 
CLASS:PUBLIC
DTSTART:20231021T130000Z
DTSTAMP:20230718T170900Z
END:VEVENT
BEGIN:VEVENT
UID:639069-2da69939ed67427dc6bf3daba21059e9
X-WR-RELCALID:639069-2da69939ed67427dc6bf3daba21059e9
ORGANIZER:Volleyball
SEQUENCE:261091546
LOCATION:Friedrich-Ebert-Sportanlage, Bosestr. 21, 12103 Berlin
GEO:52.46340000000000000000;13.37241000000000000000
SUMMARY:RL NO Fr.: TSV Tempelhof-Mariendorf - SV Braunsbedra
CLASS:PUBLIC
DTSTART:20231022T130000Z
DTSTAMP:20230712T220400Z
END:VEVENT
BEGIN:VEVENT
UID:639074-2da69939ed67427dc6bf3daba21059e9
X-WR-RELCALID:639074-2da69939ed67427dc6bf3daba21059e9
ORGANIZER:Volleyball
SEQUENCE:261091546
LOCATION:147 | Anton-Saefkow-Halle, Anton-Saefkow-Platz 5, 10369 Licht
 enberg
GEO:52.52989250000000000000;13.47427250000000000000
SUMMARY:RL NO Fr.: TSV Tempelhof-Mariendorf - PSV Halle - VVSA Young V
 olleys
CLASS:PUBLIC
DTSTART:20231104T170000Z
DTSTAMP:20231006T103000Z
END:VEVENT
BEGIN:VEVENT
UID:639077-2da69939ed67427dc6bf3daba21059e9
X-WR-RELCALID:639077-2da69939ed67427dc6bf3daba21059e9
ORGANIZER:Volleyball
SEQUENCE:261091546
LOCATION:Friedrich-Ebert-Sportanlage, Bosestr. 21, 12103 Berlin
GEO:52.46340000000000000000;13.37241000000000000000
SUMMARY:RL NO Fr.: TSV Tempelhof-Mariendorf - VCO Berlin 2
CLASS:PUBLIC
DTSTART:20231112T140000Z
DTSTAMP:20230806T101500Z
END:VEVENT
BEGIN:VEVENT
UID:639088-2da69939ed67427dc6bf3daba21059e9
X-WR-RELCALID:639088-2da69939ed67427dc6bf3daba21059e9
ORGANIZER:Volleyball
SEQUENCE:261091546
LOCATION:5002 / Heidegrundschule  , Feldstrasse 4  , 03130 Spremberg
GEO:51.60332480000000000000;14.40299490000000000000
SUMMARY:RL NO Fr.: KSC ASAHI Spremberg - TSV Tempelhof-Mariendorf
CLASS:PUBLIC
DTSTART:20231119T140000Z
DTSTAMP:20230718T170900Z
END:VEVENT
BEGIN:VEVENT
UID:639094-2da69939ed67427dc6bf3daba21059e9
X-WR-RELCALID:639094-2da69939ed67427dc6bf3daba21059e9
ORGANIZER:Volleyball
SEQUENCE:261091546
LOCATION:Friedrich-Ebert-Sportanlage, Bosestr. 21, 12103 Berlin
GEO:52.46340000000000000000;13.37241000000000000000
SUMMARY:RL NO Fr.: TSV Tempelhof-Mariendorf - USC Magdeburg
CLASS:PUBLIC
DTSTART:20231126T140000Z
DTSTAMP:20230712T220400Z
END:VEVENT
BEGIN:VEVENT
UID:639100-2da69939ed67427dc6bf3daba21059e9
X-WR-RELCALID:639100-2da69939ed67427dc6bf3daba21059e9
ORGANIZER:Volleyball
SEQUENCE:261091546
LOCATION:Hohenzollernringhalle, Hohenzollernring 40, 13585 Berlin
GEO:52.54667730000000000000;13.20678250000000000000
SUMMARY:RL NO Fr.: TSV Spandau 1860 - TSV Tempelhof-Mariendorf
CLASS:PUBLIC
DTSTART:20231209T170000Z
DTSTAMP:20230712T220400Z
END:VEVENT
BEGIN:VEVENT
UID:639104-2da69939ed67427dc6bf3daba21059e9
X-WR-RELCALID:639104-2da69939ed67427dc6bf3daba21059e9
ORGANIZER:Volleyball
SEQUENCE:261091546
LOCATION:1608 / Hallenkomplex Poznaner Str.  , Poznaner Str. 40c, 0304
 8 Cottbus
GEO:51.72975000000000000000;14.31905000000000000000
SUMMARY:RL NO Fr.: SV Energie Cottbus II - TSV Tempelhof-Mariendorf
CLASS:PUBLIC
DTSTART:20231217T120000Z
DTSTAMP:20230718T170900Z
END:VEVENT
BEGIN:VEVENT
UID:639109-2da69939ed67427dc6bf3daba21059e9
X-WR-RELCALID:639109-2da69939ed67427dc6bf3daba21059e9
ORGANIZER:Volleyball
SEQUENCE:261091546
LOCATION:Friedrich-Ebert-Sportanlage, Bosestr. 21, 12103 Berlin
GEO:52.46340000000000000000;13.37241000000000000000
SUMMARY:RL NO Fr.: TSV Tempelhof-Mariendorf - VC Blau-Weiß Brandenburg
 
CLASS:PUBLIC
DTSTART:20240106T170000Z
DTSTAMP:20230712T220400Z
END:VEVENT
BEGIN:VEVENT
UID:639117-2da69939ed67427dc6bf3daba21059e9
X-WR-RELCALID:639117-2da69939ed67427dc6bf3daba21059e9
ORGANIZER:Volleyball
SEQUENCE:261091546
LOCATION:Friedrich-Ebert-Sportanlage, Bosestr. 21, 12103 Berlin
GEO:52.46340000000000000000;13.37241000000000000000
SUMMARY:RL NO Fr.: TSV Tempelhof-Mariendorf - Berliner VV
CLASS:PUBLIC
DTSTART:20240114T140000Z
DTSTAMP:20230712T220400Z
END:VEVENT
BEGIN:VEVENT
UID:639122-2da69939ed67427dc6bf3daba21059e9
X-WR-RELCALID:639122-2da69939ed67427dc6bf3daba21059e9
ORGANIZER:Volleyball
SEQUENCE:261091546
LOCATION:Geiseltalhalle St. Barbara, Am Stadion 5, 06242 Braunsbedra
GEO:51.28126000000000000000;11.87660000000000000000
SUMMARY:RL NO Fr.: SV Braunsbedra - TSV Tempelhof-Mariendorf
CLASS:PUBLIC
DTSTART:20240121T140000Z
DTSTAMP:20230712T220400Z
END:VEVENT
BEGIN:VEVENT
UID:639125-2da69939ed67427dc6bf3daba21059e9
X-WR-RELCALID:639125-2da69939ed67427dc6bf3daba21059e9
ORGANIZER:Volleyball
SEQUENCE:261091546
LOCATION:Giebichenstein-Gymnasium „Thomas Müntzer“, Friedenstraße 33, 
 06114 Halle (Saale)
GEO:51.50123130000000000000;11.95857270000000000000
SUMMARY:RL NO Fr.: PSV Halle - VVSA Young Volleys - TSV Tempelhof-Mari
 endorf
CLASS:PUBLIC
DTSTART:20240128T140000Z
DTSTAMP:20230712T220400Z
END:VEVENT
BEGIN:VEVENT
UID:639135-2da69939ed67427dc6bf3daba21059e9
X-WR-RELCALID:639135-2da69939ed67427dc6bf3daba21059e9
ORGANIZER:Volleyball
SEQUENCE:261091546
LOCATION:Friedrich-Ebert-Sportanlage, Bosestr. 21, 12103 Berlin
GEO:52.46340000000000000000;13.37241000000000000000
SUMMARY:RL NO Fr.: TSV Tempelhof-Mariendorf - KSC ASAHI Spremberg
CLASS:PUBLIC
DTSTART:20240211T140000Z
DTSTAMP:20230712T220400Z
END:VEVENT
BEGIN:VEVENT
UID:639138-2da69939ed67427dc6bf3daba21059e9
X-WR-RELCALID:639138-2da69939ed67427dc6bf3daba21059e9
ORGANIZER:Volleyball
SEQUENCE:261091546
LOCATION:Universitätssporthalle 3 (SH3), Johann-Gottlob-Nathusius-Ring
 , 39106 Magdeburg
GEO:52.13985620000000000000;11.64907630000000000000
SUMMARY:RL NO Fr.: USC Magdeburg - TSV Tempelhof-Mariendorf
CLASS:PUBLIC
DTSTART:20240217T140000Z
DTSTAMP:20230712T220400Z
END:VEVENT
BEGIN:VEVENT
UID:639144-2da69939ed67427dc6bf3daba21059e9
X-WR-RELCALID:639144-2da69939ed67427dc6bf3daba21059e9
ORGANIZER:Volleyball
SEQUENCE:261091546
LOCATION:Friedrich-Ebert-Sportanlage, Bosestr. 21, 12103 Berlin
GEO:52.46340000000000000000;13.37241000000000000000
SUMMARY:RL NO Fr.: TSV Tempelhof-Mariendorf - TSV Spandau 1860
CLASS:PUBLIC
DTSTART:20240225T140000Z
DTSTAMP:20230806T101500Z
END:VEVENT
BEGIN:VEVENT
UID:639070-2da69939ed67427dc6bf3daba21059e9
X-WR-RELCALID:639070-2da69939ed67427dc6bf3daba21059e9
ORGANIZER:Volleyball
SEQUENCE:261091546
LOCATION:Sporthalle Vineta Grundschule, Demminer Strasse 27, 13355 Ber
 lin-Mitte
GEO:52.54216680000000000000;13.39707340000000000000
SUMMARY:RL NO Fr.: TSV Tempelhof-Mariendorf - TSV Berlin-Wedding
CLASS:PUBLIC
DTSTART:20240303T140000Z
DTSTAMP:20240111T114500Z
END:VEVENT
BEGIN:VEVENT
UID:639155-2da69939ed67427dc6bf3daba21059e9
X-WR-RELCALID:639155-2da69939ed67427dc6bf3daba21059e9
ORGANIZER:Volleyball
SEQUENCE:261091546
LOCATION:Sporthalle Vineta Grundschule, Demminer Strasse 27, 13355 Ber
 lin-Mitte
GEO:52.54216680000000000000;13.39707340000000000000
SUMMARY:RL NO Fr.: TSV Berlin-Wedding - TSV Tempelhof-Mariendorf
CLASS:PUBLIC
DTSTART:20240317T140000Z
DTSTAMP:20230712T220400Z
END:VEVENT
BEGIN:VEVENT
UID:639156-2da69939ed67427dc6bf3daba21059e9
X-WR-RELCALID:639156-2da69939ed67427dc6bf3daba21059e9
ORGANIZER:Volleyball
SEQUENCE:261091546
LOCATION:Friedrich-Ebert-Sportanlage, Bosestr. 21, 12103 Berlin
GEO:52.46340000000000000000;13.37241000000000000000
SUMMARY:RL NO Fr.: TSV Tempelhof-Mariendorf - TSV Rudow 1888
CLASS:PUBLIC
DTSTART:20240324T140000Z
DTSTAMP:20230712T220400Z
END:VEVENT
END:VCALENDAR