BEGIN:VCALENDAR
VERSION:2.0
PRODID:VSD-Portal-www.volley.de
METHOD:PUBLISH
BEGIN:VEVENT
UID:646233-2da69939ed67427dc6bf3daba21059e9
X-WR-RELCALID:646233-2da69939ed67427dc6bf3daba21059e9
ORGANIZER:Volleyball
SEQUENCE:261120411
LOCATION:Leintalsporthalle (Frankenbach), Würzburger Str, 74078 Heilbr
 onn-Frankenbach
GEO:49.16346710000000000000;9.17703680000000000000
SUMMARY:BKl 1 Fr.: SV Heilbronn am Leinbach 2 - TG Böckingen
CLASS:PUBLIC
DTSTART:20231022T090000Z
DTSTAMP:20230806T091000Z
END:VEVENT
BEGIN:VEVENT
UID:646234-2da69939ed67427dc6bf3daba21059e9
X-WR-RELCALID:646234-2da69939ed67427dc6bf3daba21059e9
ORGANIZER:Volleyball
SEQUENCE:261120411
LOCATION:Leintalsporthalle (Frankenbach), Würzburger Str, 74078 Heilbr
 onn-Frankenbach
GEO:49.16346710000000000000;9.17703680000000000000
SUMMARY:BKl 1 Fr.: SV Heilbronn am Leinbach 2 - TV Bad Mergentheim 2
CLASS:PUBLIC
DTSTART:20231022T100000Z
DTSTAMP:20230806T091000Z
END:VEVENT
BEGIN:VEVENT
UID:646245-2da69939ed67427dc6bf3daba21059e9
X-WR-RELCALID:646245-2da69939ed67427dc6bf3daba21059e9
ORGANIZER:Volleyball
SEQUENCE:261120411
LOCATION:Leintalsporthalle (Frankenbach), Würzburger Str, 74078 Heilbr
 onn-Frankenbach
GEO:49.16346710000000000000;9.17703680000000000000
SUMMARY:BKl 1 Fr.: SV Heilbronn am Leinbach 2 - SpVgg Besigheim
CLASS:PUBLIC
DTSTART:20231118T130000Z
DTSTAMP:20230730T125000Z
END:VEVENT
BEGIN:VEVENT
UID:646246-2da69939ed67427dc6bf3daba21059e9
X-WR-RELCALID:646246-2da69939ed67427dc6bf3daba21059e9
ORGANIZER:Volleyball
SEQUENCE:261120411
LOCATION:Leintalsporthalle (Frankenbach), Würzburger Str, 74078 Heilbr
 onn-Frankenbach
GEO:49.16346710000000000000;9.17703680000000000000
SUMMARY:BKl 1 Fr.: SV Heilbronn am Leinbach 2 - SpVgg Möckmühl 2
CLASS:PUBLIC
DTSTART:20231118T140000Z
DTSTAMP:20230806T091000Z
END:VEVENT
BEGIN:VEVENT
UID:646269-2da69939ed67427dc6bf3daba21059e9
X-WR-RELCALID:646269-2da69939ed67427dc6bf3daba21059e9
ORGANIZER:Volleyball
SEQUENCE:261120411
LOCATION:Leintalsporthalle (Frankenbach), Würzburger Str, 74078 Heilbr
 onn-Frankenbach
GEO:49.16346710000000000000;9.17703680000000000000
SUMMARY:BKl 1 Fr.: SV Heilbronn am Leinbach 2 - SV Leingarten
CLASS:PUBLIC
DTSTART:20240127T130000Z
DTSTAMP:20230730T125000Z
END:VEVENT
BEGIN:VEVENT
UID:646270-2da69939ed67427dc6bf3daba21059e9
X-WR-RELCALID:646270-2da69939ed67427dc6bf3daba21059e9
ORGANIZER:Volleyball
SEQUENCE:261120411
LOCATION:Leintalsporthalle (Frankenbach), Würzburger Str, 74078 Heilbr
 onn-Frankenbach
GEO:49.16346710000000000000;9.17703680000000000000
SUMMARY:BKl 1 Fr.: SV Heilbronn am Leinbach 2 - TSV Massenbach
CLASS:PUBLIC
DTSTART:20240127T140000Z
DTSTAMP:20230806T091000Z
END:VEVENT
BEGIN:VEVENT
UID:646283-2da69939ed67427dc6bf3daba21059e9
X-WR-RELCALID:646283-2da69939ed67427dc6bf3daba21059e9
ORGANIZER:Volleyball
SEQUENCE:261120411
LOCATION:Leintalsporthalle (Frankenbach), Würzburger Str, 74078 Heilbr
 onn-Frankenbach
GEO:49.16346710000000000000;9.17703680000000000000
SUMMARY:BKl 1 Fr.: SV Heilbronn am Leinbach 2 - SC Buchenbach
CLASS:PUBLIC
DTSTART:20240224T130000Z
DTSTAMP:20230730T125000Z
END:VEVENT
BEGIN:VEVENT
UID:646284-2da69939ed67427dc6bf3daba21059e9
X-WR-RELCALID:646284-2da69939ed67427dc6bf3daba21059e9
ORGANIZER:Volleyball
SEQUENCE:261120411
LOCATION:Leintalsporthalle (Frankenbach), Würzburger Str, 74078 Heilbr
 onn-Frankenbach
GEO:49.16346710000000000000;9.17703680000000000000
SUMMARY:BKl 1 Fr.: SV Heilbronn am Leinbach 2 - SG Stromberg III
CLASS:PUBLIC
DTSTART:20240224T140000Z
DTSTAMP:20230806T091000Z
END:VEVENT
END:VCALENDAR