BEGIN:VCALENDAR
VERSION:2.0
PRODID:VSD-Portal-www.volley.de
METHOD:PUBLISH
BEGIN:VEVENT
UID:13515-0b1cb5f82de24c98f11e829bddb1f0f9
X-WR-RELCALID:13515-0b1cb5f82de24c98f11e829bddb1f0f9
ORGANIZER:Volleyball
SEQUENCE:261111137
LOCATION:Schul- und Sportzentrum Niederscheyern, Schrobenhausener Str.
  24, 85276 Pfaffenhofen
GEO:48.52198573051144600000;11.48702772750857500000
SUMMARY:KKL1 Fr.: MTV Pfaffenhofen II - SC Eching
CLASS:PUBLIC
DTSTART:20140118T130000Z
DTSTAMP:20140129T024300Z
END:VEVENT
BEGIN:VEVENT
UID:13516-0b1cb5f82de24c98f11e829bddb1f0f9
X-WR-RELCALID:13516-0b1cb5f82de24c98f11e829bddb1f0f9
ORGANIZER:Volleyball
SEQUENCE:261111137
LOCATION:Schul- und Sportzentrum Niederscheyern, Schrobenhausener Str.
  24, 85276 Pfaffenhofen
GEO:48.52198573051144600000;11.48702772750857500000
SUMMARY:KKL1 Fr.: MTV Pfaffenhofen II - TSV 1862 Neuburg IV
CLASS:PUBLIC
DTSTART:20140118T130000Z
DTSTAMP:20140129T024400Z
END:VEVENT
BEGIN:VEVENT
UID:13527-0b1cb5f82de24c98f11e829bddb1f0f9
X-WR-RELCALID:13527-0b1cb5f82de24c98f11e829bddb1f0f9
ORGANIZER:Volleyball
SEQUENCE:261111137
LOCATION:Schul- und Sportzentrum Niederscheyern, Schrobenhausener Str.
  24, 85276 Pfaffenhofen
GEO:48.52198573051144600000;11.48702772750857500000
SUMMARY:KKL1 Fr.: MTV Pfaffenhofen II - TSV 1862 Neuburg III
CLASS:PUBLIC
DTSTART:20140315T130000Z
DTSTAMP:20140513T141400Z
END:VEVENT
BEGIN:VEVENT
UID:13528-0b1cb5f82de24c98f11e829bddb1f0f9
X-WR-RELCALID:13528-0b1cb5f82de24c98f11e829bddb1f0f9
ORGANIZER:Volleyball
SEQUENCE:261111137
LOCATION:Schul- und Sportzentrum Niederscheyern, Schrobenhausener Str.
  24, 85276 Pfaffenhofen
GEO:48.52198573051144600000;11.48702772750857500000
SUMMARY:KKL1 Fr.: MTV Pfaffenhofen II - SV Buxheim
CLASS:PUBLIC
DTSTART:20140315T130000Z
DTSTAMP:20140513T141600Z
END:VEVENT
END:VCALENDAR