BEGIN:VCALENDAR
VERSION:2.0
PRODID:VSD-Portal-www.volley.de
METHOD:PUBLISH
BEGIN:VEVENT
UID:664313-2da69939ed67427dc6bf3daba21059e9
X-WR-RELCALID:664313-2da69939ed67427dc6bf3daba21059e9
ORGANIZER:Volleyball
SEQUENCE:261102017
LOCATION:Friedrich Harkort Schule, Hengsteyseestr. 40, 58313 Herdecke
GEO:51.39619300000000000000;7.44104900000000000000
SUMMARY:KL Bo - En-R - He Fr.: TSV Herdecke II - SVE Bochum-Grumme III
 
CLASS:PUBLIC
DTSTART:20231022T090000Z
DTSTAMP:20230718T200100Z
END:VEVENT
BEGIN:VEVENT
UID:664315-2da69939ed67427dc6bf3daba21059e9
X-WR-RELCALID:664315-2da69939ed67427dc6bf3daba21059e9
ORGANIZER:Volleyball
SEQUENCE:261102017
LOCATION:Friedrich Harkort Schule, Hengsteyseestr. 40, 58313 Herdecke
GEO:51.39619300000000000000;7.44104900000000000000
SUMMARY:KL Bo - En-R - He Fr.: TSV Herdecke II - TG z.r.E. Schwelm VI
CLASS:PUBLIC
DTSTART:20231022T110000Z
DTSTAMP:20230718T200100Z
END:VEVENT
BEGIN:VEVENT
UID:664319-2da69939ed67427dc6bf3daba21059e9
X-WR-RELCALID:664319-2da69939ed67427dc6bf3daba21059e9
ORGANIZER:Volleyball
SEQUENCE:261102017
LOCATION:Friedrich Harkort Schule, Hengsteyseestr. 40, 58313 Herdecke
GEO:51.39619300000000000000;7.44104900000000000000
SUMMARY:KL Bo - En-R - He Fr.: TSV Herdecke II - TG z.r.E. Schwelm V
CLASS:PUBLIC
DTSTART:20231110T160000Z
DTSTAMP:20231107T203000Z
END:VEVENT
BEGIN:VEVENT
UID:664336-2da69939ed67427dc6bf3daba21059e9
X-WR-RELCALID:664336-2da69939ed67427dc6bf3daba21059e9
ORGANIZER:Volleyball
SEQUENCE:261102017
LOCATION:Friedrich Harkort Schule, Hengsteyseestr. 40, 58313 Herdecke
GEO:51.39619300000000000000;7.44104900000000000000
SUMMARY:KL Bo - En-R - He Fr.: TSV Herdecke II - TSV Herdecke
CLASS:PUBLIC
DTSTART:20240114T100000Z
DTSTAMP:20230718T200100Z
END:VEVENT
BEGIN:VEVENT
UID:664338-2da69939ed67427dc6bf3daba21059e9
X-WR-RELCALID:664338-2da69939ed67427dc6bf3daba21059e9
ORGANIZER:Volleyball
SEQUENCE:261102017
LOCATION:Friedrich Harkort Schule, Hengsteyseestr. 40, 58313 Herdecke
GEO:51.39619300000000000000;7.44104900000000000000
SUMMARY:KL Bo - En-R - He Fr.: TSV Herdecke II - TV Wanne
CLASS:PUBLIC
DTSTART:20240126T173000Z
DTSTAMP:20240117T204500Z
END:VEVENT
BEGIN:VEVENT
UID:664350-2da69939ed67427dc6bf3daba21059e9
X-WR-RELCALID:664350-2da69939ed67427dc6bf3daba21059e9
ORGANIZER:Volleyball
SEQUENCE:261102017
LOCATION:Friedrich Harkort Schule, Hengsteyseestr. 40, 58313 Herdecke
GEO:51.39619300000000000000;7.44104900000000000000
SUMMARY:KL Bo - En-R - He Fr.: TG z.r.E. Schwelm V - TSV Herdecke II
CLASS:PUBLIC
DTSTART:20240209T163000Z
DTSTAMP:20240206T190000Z
END:VEVENT
BEGIN:VEVENT
UID:664355-2da69939ed67427dc6bf3daba21059e9
X-WR-RELCALID:664355-2da69939ed67427dc6bf3daba21059e9
ORGANIZER:Volleyball
SEQUENCE:261102017
LOCATION:Heinrich-Böll-Gesamtschule, Gretchenstr. 5, 44791 Bochum
GEO:51.49703000000000000000;7.21573000000000000000
SUMMARY:KL Bo - En-R - He Fr.: TSV Herdecke II - VfL Telstar Bochum VI
 
CLASS:PUBLIC
DTSTART:20240301T160000Z
DTSTAMP:20240228T183000Z
END:VEVENT
END:VCALENDAR