BEGIN:VCALENDAR
VERSION:2.0
PRODID:VSD-Portal-www.volley.de
METHOD:PUBLISH
BEGIN:VEVENT
UID:665230-2da69939ed67427dc6bf3daba21059e9
X-WR-RELCALID:665230-2da69939ed67427dc6bf3daba21059e9
ORGANIZER:Volleyball
SEQUENCE:261112137
LOCATION:Sporthalle am Hoptbühl, Stationenweg 2, 78048 Villingen-Schwe
 nningen
GEO:48.05632260000000000000;8.46950390000000000000
SUMMARY:3. L S Fr.: TV Villingen - TV Waldgirmes
CLASS:PUBLIC
DTSTART:20230930T170000Z
DTSTAMP:20230807T162900Z
END:VEVENT
BEGIN:VEVENT
UID:665236-2da69939ed67427dc6bf3daba21059e9
X-WR-RELCALID:665236-2da69939ed67427dc6bf3daba21059e9
ORGANIZER:Volleyball
SEQUENCE:261112137
LOCATION:Schänzle Sporthalle, Winterer Steig 23, 78462 Konstanz
GEO:47.66864000000000000000;9.16187000000000000000
SUMMARY:3. L S Fr.: USC Konstanz - TV Villingen
CLASS:PUBLIC
DTSTART:20231007T173000Z
DTSTAMP:20230807T162900Z
END:VEVENT
BEGIN:VEVENT
UID:665242-2da69939ed67427dc6bf3daba21059e9
X-WR-RELCALID:665242-2da69939ed67427dc6bf3daba21059e9
ORGANIZER:Volleyball
SEQUENCE:261112137
LOCATION:Sporthalle am Hoptbühl, Stationenweg 2, 78048 Villingen-Schwe
 nningen
GEO:48.05632260000000000000;8.46950390000000000000
SUMMARY:3. L S Fr.: TV Villingen - SSC Bad Vilbel
CLASS:PUBLIC
DTSTART:20231015T130000Z
DTSTAMP:20230807T162900Z
END:VEVENT
BEGIN:VEVENT
UID:665250-2da69939ed67427dc6bf3daba21059e9
X-WR-RELCALID:665250-2da69939ed67427dc6bf3daba21059e9
ORGANIZER:Volleyball
SEQUENCE:261112137
LOCATION:Hegel Halle, Robert Koch Str. 90, 70565 Stuttgart (Vaihingen)
 
GEO:48.72233910000000000000;9.10504410000000000000
SUMMARY:3. L S Fr.: TSV GA Stuttgart - TV Villingen
CLASS:PUBLIC
DTSTART:20231028T170000Z
DTSTAMP:20230807T162900Z
END:VEVENT
BEGIN:VEVENT
UID:665254-2da69939ed67427dc6bf3daba21059e9
X-WR-RELCALID:665254-2da69939ed67427dc6bf3daba21059e9
ORGANIZER:Volleyball
SEQUENCE:261112137
LOCATION:Sporthalle am Hoptbühl, Stationenweg 2, 78048 Villingen-Schwe
 nningen
GEO:48.05632260000000000000;8.46950390000000000000
SUMMARY:3. L S Fr.: TV Villingen - VfR Umkirch
CLASS:PUBLIC
DTSTART:20231111T180000Z
DTSTAMP:20230807T162900Z
END:VEVENT
BEGIN:VEVENT
UID:665261-2da69939ed67427dc6bf3daba21059e9
X-WR-RELCALID:665261-2da69939ed67427dc6bf3daba21059e9
ORGANIZER:Volleyball
SEQUENCE:261112137
LOCATION:Römersporthalle Straßdorf, Wallenstraße, 73529 Schwäbisch Gmü
 nd-Straßdorf
GEO:48.77889340000000000000;9.79786610000000000000
SUMMARY:3. L S Fr.: DJK Schwäbisch Gmünd - TV Villingen
CLASS:PUBLIC
DTSTART:20231118T180000Z
DTSTAMP:20230807T162900Z
END:VEVENT
BEGIN:VEVENT
UID:665265-2da69939ed67427dc6bf3daba21059e9
X-WR-RELCALID:665265-2da69939ed67427dc6bf3daba21059e9
ORGANIZER:Volleyball
SEQUENCE:261112137
LOCATION:Sporthalle am Hoptbühl, Stationenweg 2, 78048 Villingen-Schwe
 nningen
GEO:48.05632260000000000000;8.46950390000000000000
SUMMARY:3. L S Fr.: TV Villingen - TSV Auerbach
CLASS:PUBLIC
DTSTART:20231125T180000Z
DTSTAMP:20230807T162900Z
END:VEVENT
BEGIN:VEVENT
UID:665269-2da69939ed67427dc6bf3daba21059e9
X-WR-RELCALID:665269-2da69939ed67427dc6bf3daba21059e9
ORGANIZER:Volleyball
SEQUENCE:261112137
LOCATION:Mehrzweckhalle Weststadt (früher Ballspielhalle), Moltkestr. 
 10, 89077 Ulm
GEO:48.39326540000000000000;9.96697150000000000000
SUMMARY:3. L S Fr.: VfB Ulm - TV Villingen
CLASS:PUBLIC
DTSTART:20231209T140000Z
DTSTAMP:20230807T162900Z
END:VEVENT
BEGIN:VEVENT
UID:665276-2da69939ed67427dc6bf3daba21059e9
X-WR-RELCALID:665276-2da69939ed67427dc6bf3daba21059e9
ORGANIZER:Volleyball
SEQUENCE:261112137
LOCATION:Lahntalschule, Sudentenstraße 9, 35633 Lahnau
GEO:50.57738810000000000000;8.57888850000000000000
SUMMARY:3. L S Fr.: TV Waldgirmes - TV Villingen
CLASS:PUBLIC
DTSTART:20231216T190000Z
DTSTAMP:20230807T162900Z
END:VEVENT
BEGIN:VEVENT
UID:665286-2da69939ed67427dc6bf3daba21059e9
X-WR-RELCALID:665286-2da69939ed67427dc6bf3daba21059e9
ORGANIZER:Volleyball
SEQUENCE:261112137
LOCATION:Sportzentrum Bad Vilbel, Saalburstraße 1, 61118 Bad Vilbel
GEO:50.18380090000000000000;8.73569150000000000000
SUMMARY:3. L S Fr.: SSC Bad Vilbel - TV Villingen
CLASS:PUBLIC
DTSTART:20240114T140000Z
DTSTAMP:20230807T162900Z
END:VEVENT
BEGIN:VEVENT
UID:665292-2da69939ed67427dc6bf3daba21059e9
X-WR-RELCALID:665292-2da69939ed67427dc6bf3daba21059e9
ORGANIZER:Volleyball
SEQUENCE:261112137
LOCATION:Sporthalle am Hoptbühl, Stationenweg 2, 78048 Villingen-Schwe
 nningen
GEO:48.05632260000000000000;8.46950390000000000000
SUMMARY:3. L S Fr.: TV Villingen - TSV GA Stuttgart
CLASS:PUBLIC
DTSTART:20240127T180000Z
DTSTAMP:20230807T162900Z
END:VEVENT
BEGIN:VEVENT
UID:665298-2da69939ed67427dc6bf3daba21059e9
X-WR-RELCALID:665298-2da69939ed67427dc6bf3daba21059e9
ORGANIZER:Volleyball
SEQUENCE:261112137
LOCATION:Neue Sporthalle, Am Sportplatz 4, 79112 Freiburg-Opfingen
GEO:48.00055000000000000000;7.72066000000000000000
SUMMARY:3. L S Fr.: VfR Umkirch - TV Villingen
CLASS:PUBLIC
DTSTART:20240203T183000Z
DTSTAMP:20230807T162900Z
END:VEVENT
BEGIN:VEVENT
UID:665302-2da69939ed67427dc6bf3daba21059e9
X-WR-RELCALID:665302-2da69939ed67427dc6bf3daba21059e9
ORGANIZER:Volleyball
SEQUENCE:261112137
LOCATION:Sporthalle am Hoptbühl, Stationenweg 2, 78048 Villingen-Schwe
 nningen
GEO:48.05632260000000000000;8.46950390000000000000
SUMMARY:3. L S Fr.: TV Villingen - DJK Schwäbisch Gmünd
CLASS:PUBLIC
DTSTART:20240210T180000Z
DTSTAMP:20230807T162900Z
END:VEVENT
BEGIN:VEVENT
UID:665311-2da69939ed67427dc6bf3daba21059e9
X-WR-RELCALID:665311-2da69939ed67427dc6bf3daba21059e9
ORGANIZER:Volleyball
SEQUENCE:261112137
LOCATION:Sporthalle am Hoptbühl, Stationenweg 2, 78048 Villingen-Schwe
 nningen
GEO:48.05632260000000000000;8.46950390000000000000
SUMMARY:3. L S Fr.: TV Villingen - USC Konstanz
CLASS:PUBLIC
DTSTART:20240309T180000Z
DTSTAMP:20230807T162900Z
END:VEVENT
BEGIN:VEVENT
UID:665313-2da69939ed67427dc6bf3daba21059e9
X-WR-RELCALID:665313-2da69939ed67427dc6bf3daba21059e9
ORGANIZER:Volleyball
SEQUENCE:261112137
LOCATION:AKG Sporthalle Weiherhaus, Dammstraße 123, 64625 Bensheim
GEO:49.69098500000000000000;8.61452380000000000000
SUMMARY:3. L S Fr.: TSV Auerbach - TV Villingen
CLASS:PUBLIC
DTSTART:20240310T143000Z
DTSTAMP:20230807T162900Z
END:VEVENT
BEGIN:VEVENT
UID:665317-2da69939ed67427dc6bf3daba21059e9
X-WR-RELCALID:665317-2da69939ed67427dc6bf3daba21059e9
ORGANIZER:Volleyball
SEQUENCE:261112137
LOCATION:Sporthalle am Hoptbühl, Stationenweg 2, 78048 Villingen-Schwe
 nningen
GEO:48.05632260000000000000;8.46950390000000000000
SUMMARY:3. L S Fr.: TV Villingen - VfB Ulm
CLASS:PUBLIC
DTSTART:20240316T183000Z
DTSTAMP:20230807T162900Z
END:VEVENT
END:VCALENDAR