BEGIN:VCALENDAR
VERSION:2.0
PRODID:VSD-Portal-www.volley.de
METHOD:PUBLISH
BEGIN:VEVENT
UID:665903-2da69939ed67427dc6bf3daba21059e9
X-WR-RELCALID:665903-2da69939ed67427dc6bf3daba21059e9
ORGANIZER:Volleyball
SEQUENCE:261092229
LOCATION:Kreissporthalle 4, Karl-Medler-Str. 15, 36088 Hünfeld
GEO:50.66703690000000000000;9.77032330000000000000
SUMMARY:N-KL SO Fr.: Hünfelder SV 2 - Großenlüder-Hosenfeld
CLASS:PUBLIC
DTSTART:20231112T120000Z
DTSTAMP:20230903T114000Z
END:VEVENT
BEGIN:VEVENT
UID:665904-2da69939ed67427dc6bf3daba21059e9
X-WR-RELCALID:665904-2da69939ed67427dc6bf3daba21059e9
ORGANIZER:Volleyball
SEQUENCE:261092229
LOCATION:Kreissporthalle 4, Karl-Medler-Str. 15, 36088 Hünfeld
GEO:50.66703690000000000000;9.77032330000000000000
SUMMARY:N-KL SO Fr.: Hünfelder SV 2 - TV Weiterode 2
CLASS:PUBLIC
DTSTART:20231112T130000Z
DTSTAMP:20230903T114000Z
END:VEVENT
BEGIN:VEVENT
UID:665913-2da69939ed67427dc6bf3daba21059e9
X-WR-RELCALID:665913-2da69939ed67427dc6bf3daba21059e9
ORGANIZER:Volleyball
SEQUENCE:261092229
LOCATION:Kreissporthalle 4, Karl-Medler-Str. 15, 36088 Hünfeld
GEO:50.66703690000000000000;9.77032330000000000000
SUMMARY:N-KL SO Fr.: Hünfelder SV 2 - SG Johannesberg 2
CLASS:PUBLIC
DTSTART:20240218T120000Z
DTSTAMP:20230903T114000Z
END:VEVENT
BEGIN:VEVENT
UID:665914-2da69939ed67427dc6bf3daba21059e9
X-WR-RELCALID:665914-2da69939ed67427dc6bf3daba21059e9
ORGANIZER:Volleyball
SEQUENCE:261092229
LOCATION:Kreissporthalle 4, Karl-Medler-Str. 15, 36088 Hünfeld
GEO:50.66703690000000000000;9.77032330000000000000
SUMMARY:N-KL SO Fr.: Hünfelder SV 2 - Fuldaer TS
CLASS:PUBLIC
DTSTART:20240218T130000Z
DTSTAMP:20230903T114000Z
END:VEVENT
END:VCALENDAR