BEGIN:VCALENDAR
VERSION:2.0
PRODID:VSD-Portal-www.volley.de
METHOD:PUBLISH
BEGIN:VEVENT
UID:666510-2da69939ed67427dc6bf3daba21059e9
X-WR-RELCALID:666510-2da69939ed67427dc6bf3daba21059e9
ORGANIZER:Volleyball
SEQUENCE:261092314
LOCATION:Kaufmännische Schulen, Leopold-Lucas-Straße, 35037 Marburg
GEO:50.80037100000000000000;8.75479750000000000000
SUMMARY:OL Hin Fr.: SG Volleys Marburg-Biedenkopf 2 - TG Rotenburg
CLASS:PUBLIC
DTSTART:20230923T180000Z
DTSTAMP:20230807T164200Z
END:VEVENT
BEGIN:VEVENT
UID:666516-2da69939ed67427dc6bf3daba21059e9
X-WR-RELCALID:666516-2da69939ed67427dc6bf3daba21059e9
ORGANIZER:Volleyball
SEQUENCE:261092314
LOCATION:Kaufmännische Schulen, Leopold-Lucas-Straße, 35037 Marburg
GEO:50.80037100000000000000;8.75479750000000000000
SUMMARY:OL Hin Fr.: SG Volleys Marburg-Biedenkopf 2 - TuS Kriftel
CLASS:PUBLIC
DTSTART:20231008T140000Z
DTSTAMP:20230807T164200Z
END:VEVENT
BEGIN:VEVENT
UID:666523-2da69939ed67427dc6bf3daba21059e9
X-WR-RELCALID:666523-2da69939ed67427dc6bf3daba21059e9
ORGANIZER:Volleyball
SEQUENCE:261092314
LOCATION:Kaufmännische Schulen, Leopold-Lucas-Straße, 35037 Marburg
GEO:50.80037100000000000000;8.75479750000000000000
SUMMARY:OL Hin Fr.: SG Volleys Marburg-Biedenkopf 2 - TV Bommersheim
CLASS:PUBLIC
DTSTART:20231015T150000Z
DTSTAMP:20230807T164200Z
END:VEVENT
BEGIN:VEVENT
UID:666540-2da69939ed67427dc6bf3daba21059e9
X-WR-RELCALID:666540-2da69939ed67427dc6bf3daba21059e9
ORGANIZER:Volleyball
SEQUENCE:261092314
LOCATION:Kaufmännische Schulen, Leopold-Lucas-Straße, 35037 Marburg
GEO:50.80037100000000000000;8.75479750000000000000
SUMMARY:OL Hin Fr.: SG Volleys Marburg-Biedenkopf 2 - TG Wehlheiden
CLASS:PUBLIC
DTSTART:20231119T150000Z
DTSTAMP:20230807T164200Z
END:VEVENT
BEGIN:VEVENT
UID:666553-2da69939ed67427dc6bf3daba21059e9
X-WR-RELCALID:666553-2da69939ed67427dc6bf3daba21059e9
ORGANIZER:Volleyball
SEQUENCE:261092314
LOCATION:Gymnasium Philippinum, Leopold-Lucas-Str. 18, 35037 Marburg
GEO:50.80094600000000000000;8.75722710000000000000
SUMMARY:OL Hin Fr.: SG Volleys Marburg-Biedenkopf 2 - SG Johannesberg
CLASS:PUBLIC
DTSTART:20231216T170000Z
DTSTAMP:20231106T174500Z
END:VEVENT
END:VCALENDAR