BEGIN:VCALENDAR
VERSION:2.0
PRODID:VSD-Portal-www.volley.de
METHOD:PUBLISH
BEGIN:VEVENT
UID:674255-2da69939ed67427dc6bf3daba21059e9
X-WR-RELCALID:674255-2da69939ed67427dc6bf3daba21059e9
ORGANIZER:Volleyball
SEQUENCE:261112127
LOCATION:Geothermie Arena, Utzweg 1, 82008 Unterhaching
GEO:48.06089050000000000000;11.61474290000000000000
SUMMARY:1. BL Mä.: TSV Haching München - BADEN VOLLEYS SSC Karlsruhe
CLASS:PUBLIC
DTSTART:20240929T130000Z
DTSTAMP:20240703T165400Z
END:VEVENT
BEGIN:VEVENT
UID:674265-2da69939ed67427dc6bf3daba21059e9
X-WR-RELCALID:674265-2da69939ed67427dc6bf3daba21059e9
ORGANIZER:Volleyball
SEQUENCE:261112127
LOCATION:Geothermie Arena, Utzweg 1, 82008 Unterhaching
GEO:48.06089050000000000000;11.61474290000000000000
SUMMARY:1. BL Mä.: TSV Haching München - FT 1844 Freiburg
CLASS:PUBLIC
DTSTART:20241006T150000Z
DTSTAMP:20240703T165400Z
END:VEVENT
BEGIN:VEVENT
UID:674268-2da69939ed67427dc6bf3daba21059e9
X-WR-RELCALID:674268-2da69939ed67427dc6bf3daba21059e9
ORGANIZER:Volleyball
SEQUENCE:261112127
LOCATION:LKH Arena, Lüner Rennbahn 5a, 21339 Lüneburg
GEO:53.27282820000000000000;10.42418620000000000000
SUMMARY:1. BL Mä.: SVG Lüneburg - TSV Haching München
CLASS:PUBLIC
DTSTART:20241012T170000Z
DTSTAMP:20241109T181500Z
END:VEVENT
BEGIN:VEVENT
UID:674282-2da69939ed67427dc6bf3daba21059e9
X-WR-RELCALID:674282-2da69939ed67427dc6bf3daba21059e9
ORGANIZER:Volleyball
SEQUENCE:261112127
LOCATION:Sparkassen-Arena, Pappelallee 1, 31137 Hildesheim
GEO:52.15276500000000000000;9.93404200000000000000
SUMMARY:1. BL Mä.: Helios GRIZZLYS Giesen - TSV Haching München
CLASS:PUBLIC
DTSTART:20241026T180000Z
DTSTAMP:20240703T165400Z
END:VEVENT
BEGIN:VEVENT
UID:674286-2da69939ed67427dc6bf3daba21059e9
X-WR-RELCALID:674286-2da69939ed67427dc6bf3daba21059e9
ORGANIZER:Volleyball
SEQUENCE:261112127
LOCATION:Geothermie Arena, Utzweg 1, 82008 Unterhaching
GEO:48.06089050000000000000;11.61474290000000000000
SUMMARY:1. BL Mä.: TSV Haching München - ASV Dachau
CLASS:PUBLIC
DTSTART:20241029T180000Z
DTSTAMP:20240703T165400Z
END:VEVENT
BEGIN:VEVENT
UID:674288-2da69939ed67427dc6bf3daba21059e9
X-WR-RELCALID:674288-2da69939ed67427dc6bf3daba21059e9
ORGANIZER:Volleyball
SEQUENCE:261112127
LOCATION:Geothermie Arena, Utzweg 1, 82008 Unterhaching
GEO:48.06089050000000000000;11.61474290000000000000
SUMMARY:1. BL Mä.: TSV Haching München - WWK Volleys Herrsching
CLASS:PUBLIC
DTSTART:20241101T180000Z
DTSTAMP:20240703T165400Z
END:VEVENT
BEGIN:VEVENT
UID:674295-2da69939ed67427dc6bf3daba21059e9
X-WR-RELCALID:674295-2da69939ed67427dc6bf3daba21059e9
ORGANIZER:Volleyball
SEQUENCE:261112127
LOCATION:Paul-Dinter-Halle, Jahnstr., 15711 Königs Wusterhausen
GEO:52.29292060000000000000;13.62822870000000000000
SUMMARY:1. BL Mä.: Energiequelle Netzhoppers KW - TSV Haching München
CLASS:PUBLIC
DTSTART:20241106T170000Z
DTSTAMP:20241109T181500Z
END:VEVENT
BEGIN:VEVENT
UID:674297-2da69939ed67427dc6bf3daba21059e9
X-WR-RELCALID:674297-2da69939ed67427dc6bf3daba21059e9
ORGANIZER:Volleyball
SEQUENCE:261112127
LOCATION:Max-Schmeling-Halle, Falkplatz 1, 10437 Berlin
GEO:52.54601280000000000000;13.40604050000000000000
SUMMARY:1. BL Mä.: BERLIN RECYCLING Volleys - TSV Haching München
CLASS:PUBLIC
DTSTART:20241116T170000Z
DTSTAMP:20240703T165400Z
END:VEVENT
BEGIN:VEVENT
UID:674303-2da69939ed67427dc6bf3daba21059e9
X-WR-RELCALID:674303-2da69939ed67427dc6bf3daba21059e9
ORGANIZER:Volleyball
SEQUENCE:261112127
LOCATION:Sportforum Berlin, Weißenseeer Weg 51-53, 13053 Berlin
GEO:52.53949020000000000000;13.47841140000000000000
SUMMARY:1. BL Mä.: VCO Berlin - TSV Haching München
CLASS:PUBLIC
DTSTART:20241117T160000Z
DTSTAMP:20240703T165400Z
END:VEVENT
BEGIN:VEVENT
UID:674307-2da69939ed67427dc6bf3daba21059e9
X-WR-RELCALID:674307-2da69939ed67427dc6bf3daba21059e9
ORGANIZER:Volleyball
SEQUENCE:261112127
LOCATION:Geothermie Arena, Utzweg 1, 82008 Unterhaching
GEO:48.06089050000000000000;11.61474290000000000000
SUMMARY:1. BL Mä.: TSV Haching München - VfB Friedrichshafen
CLASS:PUBLIC
DTSTART:20241130T190000Z
DTSTAMP:20240703T165400Z
END:VEVENT
BEGIN:VEVENT
UID:674316-2da69939ed67427dc6bf3daba21059e9
X-WR-RELCALID:674316-2da69939ed67427dc6bf3daba21059e9
ORGANIZER:Volleyball
SEQUENCE:261112127
LOCATION:Arena Kreis Düren, Nippesstraße 4, 52349 Düren
GEO:50.79286830000000000000;6.48827330000000000000
SUMMARY:1. BL Mä.: SWD powervolleys Düren - TSV Haching München
CLASS:PUBLIC
DTSTART:20241208T150000Z
DTSTAMP:20240703T165400Z
END:VEVENT
BEGIN:VEVENT
UID:674322-2da69939ed67427dc6bf3daba21059e9
X-WR-RELCALID:674322-2da69939ed67427dc6bf3daba21059e9
ORGANIZER:Volleyball
SEQUENCE:261112127
LOCATION:Geothermie Arena, Utzweg 1, 82008 Unterhaching
GEO:48.06089050000000000000;11.61474290000000000000
SUMMARY:1. BL Mä.: TSV Haching München - VC Bitterfeld-Wolfen
CLASS:PUBLIC
DTSTART:20241215T150000Z
DTSTAMP:20240703T165400Z
END:VEVENT
BEGIN:VEVENT
UID:674328-2da69939ed67427dc6bf3daba21059e9
X-WR-RELCALID:674328-2da69939ed67427dc6bf3daba21059e9
ORGANIZER:Volleyball
SEQUENCE:261112127
LOCATION:Geothermie Arena, Utzweg 1, 82008 Unterhaching
GEO:48.06089050000000000000;11.61474290000000000000
SUMMARY:1. BL Mä.: TSV Haching München - Energiequelle Netzhoppers KW
CLASS:PUBLIC
DTSTART:20241222T160000Z
DTSTAMP:20240703T165400Z
END:VEVENT
BEGIN:VEVENT
UID:674334-2da69939ed67427dc6bf3daba21059e9
X-WR-RELCALID:674334-2da69939ed67427dc6bf3daba21059e9
ORGANIZER:Volleyball
SEQUENCE:261112127
LOCATION:Lina-Radke-Halle, Steinhäuserstr. 29, 76135 Karlsruhe
GEO:48.99722790000000000000;8.38239690000000000000
SUMMARY:1. BL Mä.: BADEN VOLLEYS SSC Karlsruhe - TSV Haching München
CLASS:PUBLIC
DTSTART:20241229T160000Z
DTSTAMP:20241109T181500Z
END:VEVENT
BEGIN:VEVENT
UID:674341-2da69939ed67427dc6bf3daba21059e9
X-WR-RELCALID:674341-2da69939ed67427dc6bf3daba21059e9
ORGANIZER:Volleyball
SEQUENCE:261112127
LOCATION:Act-Now-Halle, Schwarzwaldstrasse 181, 79117 Freiburg
GEO:47.98978860000000000000;7.88597410000000000000
SUMMARY:1. BL Mä.: FT 1844 Freiburg - TSV Haching München
CLASS:PUBLIC
DTSTART:20250111T190000Z
DTSTAMP:20241109T181500Z
END:VEVENT
BEGIN:VEVENT
UID:674347-2da69939ed67427dc6bf3daba21059e9
X-WR-RELCALID:674347-2da69939ed67427dc6bf3daba21059e9
ORGANIZER:Volleyball
SEQUENCE:261112127
LOCATION:Geothermie Arena, Utzweg 1, 82008 Unterhaching
GEO:48.06089050000000000000;11.61474290000000000000
SUMMARY:1. BL Mä.: TSV Haching München - SVG Lüneburg
CLASS:PUBLIC
DTSTART:20250118T190000Z
DTSTAMP:20240703T165400Z
END:VEVENT
BEGIN:VEVENT
UID:674355-2da69939ed67427dc6bf3daba21059e9
X-WR-RELCALID:674355-2da69939ed67427dc6bf3daba21059e9
ORGANIZER:Volleyball
SEQUENCE:261112127
LOCATION:Georg-Scherer-Halle, Gröbenrieder Str. 21, 85221 Dachau
GEO:48.24483000000000000000;11.43601000000000000000
SUMMARY:1. BL Mä.: ASV Dachau - TSV Haching München
CLASS:PUBLIC
DTSTART:20250125T190000Z
DTSTAMP:20241109T181500Z
END:VEVENT
BEGIN:VEVENT
UID:674364-2da69939ed67427dc6bf3daba21059e9
X-WR-RELCALID:674364-2da69939ed67427dc6bf3daba21059e9
ORGANIZER:Volleyball
SEQUENCE:261112127
LOCATION:Geothermie Arena, Utzweg 1, 82008 Unterhaching
GEO:48.06089050000000000000;11.61474290000000000000
SUMMARY:1. BL Mä.: TSV Haching München - Helios GRIZZLYS Giesen
CLASS:PUBLIC
DTSTART:20250202T150000Z
DTSTAMP:20240703T165400Z
END:VEVENT
BEGIN:VEVENT
UID:674370-2da69939ed67427dc6bf3daba21059e9
X-WR-RELCALID:674370-2da69939ed67427dc6bf3daba21059e9
ORGANIZER:Volleyball
SEQUENCE:261112127
LOCATION:Nikolaushalle, Nikolausstraße 11, 82211 Herrsching
GEO:47.99473000000000000000;11.17525000000000000000
SUMMARY:1. BL Mä.: WWK Volleys Herrsching - TSV Haching München
CLASS:PUBLIC
DTSTART:20250208T190000Z
DTSTAMP:20240711T091500Z
END:VEVENT
BEGIN:VEVENT
UID:674376-2da69939ed67427dc6bf3daba21059e9
X-WR-RELCALID:674376-2da69939ed67427dc6bf3daba21059e9
ORGANIZER:Volleyball
SEQUENCE:261112127
LOCATION:Geothermie Arena, Utzweg 1, 82008 Unterhaching
GEO:48.06089050000000000000;11.61474290000000000000
SUMMARY:1. BL Mä.: TSV Haching München - BERLIN RECYCLING Volleys
CLASS:PUBLIC
DTSTART:20250215T190000Z
DTSTAMP:20240703T165400Z
END:VEVENT
BEGIN:VEVENT
UID:674384-2da69939ed67427dc6bf3daba21059e9
X-WR-RELCALID:674384-2da69939ed67427dc6bf3daba21059e9
ORGANIZER:Volleyball
SEQUENCE:261112127
LOCATION:SPACETECH ARENA, Flughafen 28/2, 88046 Friedrichshafen
GEO:47.66824580000000000000;9.51310060000000000000
SUMMARY:1. BL Mä.: VfB Friedrichshafen - TSV Haching München
CLASS:PUBLIC
DTSTART:20250223T160000Z
DTSTAMP:20241109T181500Z
END:VEVENT
BEGIN:VEVENT
UID:674388-2da69939ed67427dc6bf3daba21059e9
X-WR-RELCALID:674388-2da69939ed67427dc6bf3daba21059e9
ORGANIZER:Volleyball
SEQUENCE:261112127
LOCATION:Geothermie Arena, Utzweg 1, 82008 Unterhaching
GEO:48.06089050000000000000;11.61474290000000000000
SUMMARY:1. BL Mä.: TSV Haching München - VCO Berlin
CLASS:PUBLIC
DTSTART:20250308T160000Z
DTSTAMP:20240703T165400Z
END:VEVENT
BEGIN:VEVENT
UID:674393-2da69939ed67427dc6bf3daba21059e9
X-WR-RELCALID:674393-2da69939ed67427dc6bf3daba21059e9
ORGANIZER:Volleyball
SEQUENCE:261112127
LOCATION:Geothermie Arena, Utzweg 1, 82008 Unterhaching
GEO:48.06089050000000000000;11.61474290000000000000
SUMMARY:1. BL Mä.: TSV Haching München - SWD powervolleys Düren
CLASS:PUBLIC
DTSTART:20250309T160000Z
DTSTAMP:20240703T165400Z
END:VEVENT
BEGIN:VEVENT
UID:674397-2da69939ed67427dc6bf3daba21059e9
X-WR-RELCALID:674397-2da69939ed67427dc6bf3daba21059e9
ORGANIZER:Volleyball
SEQUENCE:261112127
LOCATION:Bernsteinhalle Friedersdorf, An den Gehren 1, 06774 Muldestau
 see
GEO:51.64157740000000000000;12.37377260000000000000
SUMMARY:1. BL Mä.: VC Bitterfeld-Wolfen - TSV Haching München
CLASS:PUBLIC
DTSTART:20250315T180000Z
DTSTAMP:20241109T181500Z
END:VEVENT
END:VCALENDAR