BEGIN:VCALENDAR
VERSION:2.0
PRODID:VSD-Portal-www.volley.de
METHOD:PUBLISH
BEGIN:VEVENT
UID:682165-2da69939ed67427dc6bf3daba21059e9
X-WR-RELCALID:682165-2da69939ed67427dc6bf3daba21059e9
ORGANIZER:Volleyball
SEQUENCE:261101304
LOCATION:Albecker-Tor-Halle, Albecker-Tor-Strasse 38, 89129 Langenau
GEO:48.49195000000000000000;10.11242000000000000000
SUMMARY:LL 3 Fr.: TSV Langenau - SG MADS Ostalb II
CLASS:PUBLIC
DTSTART:20241006T090000Z
DTSTAMP:20240731T215300Z
END:VEVENT
BEGIN:VEVENT
UID:682167-2da69939ed67427dc6bf3daba21059e9
X-WR-RELCALID:682167-2da69939ed67427dc6bf3daba21059e9
ORGANIZER:Volleyball
SEQUENCE:261101304
LOCATION:Albecker-Tor-Halle, Albecker-Tor-Strasse 38, 89129 Langenau
GEO:48.49195000000000000000;10.11242000000000000000
SUMMARY:LL 3 Fr.: TSV Langenau - SG Volley Alb/Brenztal II
CLASS:PUBLIC
DTSTART:20241006T100000Z
DTSTAMP:20240731T215300Z
END:VEVENT
BEGIN:VEVENT
UID:682169-2da69939ed67427dc6bf3daba21059e9
X-WR-RELCALID:682169-2da69939ed67427dc6bf3daba21059e9
ORGANIZER:Volleyball
SEQUENCE:261101304
LOCATION:Sporthalle Horgenzell, Kornstraße 46, 88263 Horgenzell
GEO:47.80275000000000000000;9.49734000000000000000
SUMMARY:LL 3 Fr.: SV Horgenzell - TSV Langenau
CLASS:PUBLIC
DTSTART:20241019T120000Z
DTSTAMP:20240731T215300Z
END:VEVENT
BEGIN:VEVENT
UID:682176-2da69939ed67427dc6bf3daba21059e9
X-WR-RELCALID:682176-2da69939ed67427dc6bf3daba21059e9
ORGANIZER:Volleyball
SEQUENCE:261101304
LOCATION:Turnhalle Eglofs, Eisenharzer Weg, 88260 Argenbühl
GEO:47.66457320000000000000;9.93718840000000000000
SUMMARY:LL 3 Fr.: SV Eglofs - TSV Langenau
CLASS:PUBLIC
DTSTART:20241102T140000Z
DTSTAMP:20241028T090000Z
END:VEVENT
BEGIN:VEVENT
UID:682181-2da69939ed67427dc6bf3daba21059e9
X-WR-RELCALID:682181-2da69939ed67427dc6bf3daba21059e9
ORGANIZER:Volleyball
SEQUENCE:261101304
LOCATION:Albecker-Tor-Halle, Albecker-Tor-Strasse 38, 89129 Langenau
GEO:48.49195000000000000000;10.11242000000000000000
SUMMARY:LL 3 Fr.: TSV Langenau - SV Hauerz
CLASS:PUBLIC
DTSTART:20241117T100000Z
DTSTAMP:20240731T215300Z
END:VEVENT
BEGIN:VEVENT
UID:682185-2da69939ed67427dc6bf3daba21059e9
X-WR-RELCALID:682185-2da69939ed67427dc6bf3daba21059e9
ORGANIZER:Volleyball
SEQUENCE:261101304
LOCATION:Albecker-Tor-Halle, Albecker-Tor-Strasse 38, 89129 Langenau
GEO:48.49195000000000000000;10.11242000000000000000
SUMMARY:LL 3 Fr.: TSV Langenau - SV Ing.Muttensweiler-St.
CLASS:PUBLIC
DTSTART:20241117T110000Z
DTSTAMP:20240731T215300Z
END:VEVENT
BEGIN:VEVENT
UID:682196-2da69939ed67427dc6bf3daba21059e9
X-WR-RELCALID:682196-2da69939ed67427dc6bf3daba21059e9
ORGANIZER:Volleyball
SEQUENCE:261101304
LOCATION:Hans-Liebherr-Halle, Riedstraße 44, 88416 Ochsenhausen
GEO:48.06467630000000000000;9.95789060000000000000
SUMMARY:LL 3 Fr.: SG SV Ochsenhausen/TG Biberach 2 - TSV Langenau
CLASS:PUBLIC
DTSTART:20241201T110000Z
DTSTAMP:20241118T183000Z
END:VEVENT
BEGIN:VEVENT
UID:682202-2da69939ed67427dc6bf3daba21059e9
X-WR-RELCALID:682202-2da69939ed67427dc6bf3daba21059e9
ORGANIZER:Volleyball
SEQUENCE:261101304
LOCATION:Wilhelm-Leger Halle, Hans-Liebherr-Str./Wilhelm Leger. Str., 
 88400 Biberach
GEO:48.09234790000000000000;9.79695150000000000000
SUMMARY:LL 3 Fr.: TG Biberach 3 - TSV Langenau
CLASS:PUBLIC
DTSTART:20241214T130000Z
DTSTAMP:20241211T184500Z
END:VEVENT
BEGIN:VEVENT
UID:682218-2da69939ed67427dc6bf3daba21059e9
X-WR-RELCALID:682218-2da69939ed67427dc6bf3daba21059e9
ORGANIZER:Volleyball
SEQUENCE:261101304
LOCATION:Galgenberghalle, Galgenbergstrasse 50, 73431 Aalen
GEO:48.84040270000000000000;10.10389160000000000000
SUMMARY:LL 3 Fr.: SG MADS Ostalb II - TSV Langenau
CLASS:PUBLIC
DTSTART:20250112T100000Z
DTSTAMP:20250110T092100Z
END:VEVENT
BEGIN:VEVENT
UID:682231-2da69939ed67427dc6bf3daba21059e9
X-WR-RELCALID:682231-2da69939ed67427dc6bf3daba21059e9
ORGANIZER:Volleyball
SEQUENCE:261101304
LOCATION:Lindenhalle, Querstr. 14, 89547 Gerstetten-Dettingen
GEO:48.59625460000000000000;10.12481800000000000000
SUMMARY:LL 3 Fr.: SG Volley Alb/Brenztal II - TSV Langenau
CLASS:PUBLIC
DTSTART:20250126T120000Z
DTSTAMP:20240731T215300Z
END:VEVENT
BEGIN:VEVENT
UID:682237-2da69939ed67427dc6bf3daba21059e9
X-WR-RELCALID:682237-2da69939ed67427dc6bf3daba21059e9
ORGANIZER:Volleyball
SEQUENCE:261101304
LOCATION:Albecker-Tor-Halle, Albecker-Tor-Strasse 38, 89129 Langenau
GEO:48.49195000000000000000;10.11242000000000000000
SUMMARY:LL 3 Fr.: TSV Langenau - SV Horgenzell
CLASS:PUBLIC
DTSTART:20250208T130000Z
DTSTAMP:20240731T215300Z
END:VEVENT
BEGIN:VEVENT
UID:682241-2da69939ed67427dc6bf3daba21059e9
X-WR-RELCALID:682241-2da69939ed67427dc6bf3daba21059e9
ORGANIZER:Volleyball
SEQUENCE:261101304
LOCATION:Albecker-Tor-Halle, Albecker-Tor-Strasse 38, 89129 Langenau
GEO:48.49195000000000000000;10.11242000000000000000
SUMMARY:LL 3 Fr.: TSV Langenau - SV Eglofs
CLASS:PUBLIC
DTSTART:20250208T140000Z
DTSTAMP:20240731T215300Z
END:VEVENT
BEGIN:VEVENT
UID:682250-2da69939ed67427dc6bf3daba21059e9
X-WR-RELCALID:682250-2da69939ed67427dc6bf3daba21059e9
ORGANIZER:Volleyball
SEQUENCE:261101304
LOCATION:Mehrzweckhalle Ingoldingen, Niederbergstraße 11, 88456 Ingold
 ingen
GEO:48.02770000000000000000;9.74179000000000000000
SUMMARY:LL 3 Fr.: SV Ing.Muttensweiler-St. - TSV Langenau
CLASS:PUBLIC
DTSTART:20250222T120000Z
DTSTAMP:20240731T215300Z
END:VEVENT
BEGIN:VEVENT
UID:682273-2da69939ed67427dc6bf3daba21059e9
X-WR-RELCALID:682273-2da69939ed67427dc6bf3daba21059e9
ORGANIZER:Volleyball
SEQUENCE:261101304
LOCATION:Friedrich-Schiedel-Halle Dietmanns, Am Schulplatz 2, 88410 Ba
 d Wurzach-Dietmanns
GEO:47.93941190000000000000;9.93418440000000000000
SUMMARY:LL 3 Fr.: SV Hauerz - TSV Langenau
CLASS:PUBLIC
DTSTART:20250309T100000Z
DTSTAMP:20240731T215300Z
END:VEVENT
BEGIN:VEVENT
UID:682279-2da69939ed67427dc6bf3daba21059e9
X-WR-RELCALID:682279-2da69939ed67427dc6bf3daba21059e9
ORGANIZER:Volleyball
SEQUENCE:261101304
LOCATION:Pfleghofhalle, Freistegstraße 12, 89129 Langenau
GEO:48.49607000000000000000;10.12163000000000000000
SUMMARY:LL 3 Fr.: TSV Langenau - SG SV Ochsenhausen/TG Biberach 2
CLASS:PUBLIC
DTSTART:20250322T130000Z
DTSTAMP:20250306T094100Z
END:VEVENT
BEGIN:VEVENT
UID:682285-2da69939ed67427dc6bf3daba21059e9
X-WR-RELCALID:682285-2da69939ed67427dc6bf3daba21059e9
ORGANIZER:Volleyball
SEQUENCE:261101304
LOCATION:Pfleghofhalle, Freistegstraße 12, 89129 Langenau
GEO:48.49607000000000000000;10.12163000000000000000
SUMMARY:LL 3 Fr.: TSV Langenau - TG Biberach 3
CLASS:PUBLIC
DTSTART:20250322T140000Z
DTSTAMP:20250306T094100Z
END:VEVENT
END:VCALENDAR