BEGIN:VCALENDAR
VERSION:2.0
PRODID:VSD-Portal-www.volley.de
METHOD:PUBLISH
BEGIN:VEVENT
UID:683330-2da69939ed67427dc6bf3daba21059e9
X-WR-RELCALID:683330-2da69939ed67427dc6bf3daba21059e9
ORGANIZER:Volleyball
SEQUENCE:261131650
LOCATION:Otto-Locher-Halle, Jahnstr. 37, Jahnstr. 37, 72108 Rottenburg
 
GEO:48.47913180000000000000;8.94094860000000000000
SUMMARY:OL Fr.: TV Rottenburg - TG Nürtingen
CLASS:PUBLIC
DTSTART:20241012T160000Z
DTSTAMP:20241109T190600Z
END:VEVENT
BEGIN:VEVENT
UID:683340-2da69939ed67427dc6bf3daba21059e9
X-WR-RELCALID:683340-2da69939ed67427dc6bf3daba21059e9
ORGANIZER:Volleyball
SEQUENCE:261131650
LOCATION:Volksbank Arena, Jahnstr. 31, 72108 Rottenburg
GEO:48.48490690000000000000;8.93778020000000000000
SUMMARY:OL Fr.: TV Rottenburg - TG Biberach
CLASS:PUBLIC
DTSTART:20241103T103000Z
DTSTAMP:20240805T050000Z
END:VEVENT
BEGIN:VEVENT
UID:683350-2da69939ed67427dc6bf3daba21059e9
X-WR-RELCALID:683350-2da69939ed67427dc6bf3daba21059e9
ORGANIZER:Volleyball
SEQUENCE:261131650
LOCATION:Volksbank Arena, Jahnstr. 31, 72108 Rottenburg
GEO:48.48490690000000000000;8.93778020000000000000
SUMMARY:OL Fr.: TV Rottenburg - SV Frickenhofen
CLASS:PUBLIC
DTSTART:20241117T103000Z
DTSTAMP:20240805T050000Z
END:VEVENT
BEGIN:VEVENT
UID:683360-2da69939ed67427dc6bf3daba21059e9
X-WR-RELCALID:683360-2da69939ed67427dc6bf3daba21059e9
ORGANIZER:Volleyball
SEQUENCE:261131650
LOCATION:Otto-Locher-Halle, Jahnstr. 37, Jahnstr. 37, 72108 Rottenburg
 
GEO:48.47913180000000000000;8.94094860000000000000
SUMMARY:OL Fr.: TV Rottenburg - SV Pfrondorf
CLASS:PUBLIC
DTSTART:20241208T140000Z
DTSTAMP:20241109T190600Z
END:VEVENT
BEGIN:VEVENT
UID:683375-2da69939ed67427dc6bf3daba21059e9
X-WR-RELCALID:683375-2da69939ed67427dc6bf3daba21059e9
ORGANIZER:Volleyball
SEQUENCE:261131650
LOCATION:Volksbank Arena, Jahnstr. 31, 72108 Rottenburg
GEO:48.48490690000000000000;8.93778020000000000000
SUMMARY:OL Fr.: TV Rottenburg - SG Volley Alb/Brenztal
CLASS:PUBLIC
DTSTART:20250118T170000Z
DTSTAMP:20240805T050000Z
END:VEVENT
BEGIN:VEVENT
UID:683385-2da69939ed67427dc6bf3daba21059e9
X-WR-RELCALID:683385-2da69939ed67427dc6bf3daba21059e9
ORGANIZER:Volleyball
SEQUENCE:261131650
LOCATION:Volksbank Arena, Jahnstr. 31, 72108 Rottenburg
GEO:48.48490690000000000000;8.93778020000000000000
SUMMARY:OL Fr.: TV Rottenburg - SSV Ulm 1846
CLASS:PUBLIC
DTSTART:20250208T140000Z
DTSTAMP:20240805T050000Z
END:VEVENT
BEGIN:VEVENT
UID:683395-2da69939ed67427dc6bf3daba21059e9
X-WR-RELCALID:683395-2da69939ed67427dc6bf3daba21059e9
ORGANIZER:Volleyball
SEQUENCE:261131650
LOCATION:Volksbank Arena, Jahnstr. 31, 72108 Rottenburg
GEO:48.48490690000000000000;8.93778020000000000000
SUMMARY:OL Fr.: TV Rottenburg - TSG Reutlingen
CLASS:PUBLIC
DTSTART:20250222T140000Z
DTSTAMP:20240805T050000Z
END:VEVENT
BEGIN:VEVENT
UID:683410-2da69939ed67427dc6bf3daba21059e9
X-WR-RELCALID:683410-2da69939ed67427dc6bf3daba21059e9
ORGANIZER:Volleyball
SEQUENCE:261131650
LOCATION:Volksbank Arena, Jahnstr. 31, 72108 Rottenburg
GEO:48.48490690000000000000;8.93778020000000000000
SUMMARY:OL Fr.: TV Rottenburg - TSV G.A Stuttgart 2
CLASS:PUBLIC
DTSTART:20250329T140000Z
DTSTAMP:20240805T050000Z
END:VEVENT
END:VCALENDAR