BEGIN:VCALENDAR
VERSION:2.0
PRODID:VSD-Portal-www.volley.de
METHOD:PUBLISH
BEGIN:VEVENT
UID:684913-2da69939ed67427dc6bf3daba21059e9
X-WR-RELCALID:684913-2da69939ed67427dc6bf3daba21059e9
ORGANIZER:Volleyball
SEQUENCE:261121628
LOCATION:Brauereiturnhalle, Gartenstraße 1, 06749 Bitterfeld-Wolfen
GEO:51.62736780000000000000;12.32101770000000000000
SUMMARY:OL Fr.: VC Bitterfeld-Wolfen - USC Magdeburg
CLASS:PUBLIC
DTSTART:20240929T080000Z
DTSTAMP:20240731T220500Z
END:VEVENT
BEGIN:VEVENT
UID:684914-2da69939ed67427dc6bf3daba21059e9
X-WR-RELCALID:684914-2da69939ed67427dc6bf3daba21059e9
ORGANIZER:Volleyball
SEQUENCE:261121628
LOCATION:Brauereiturnhalle, Gartenstraße 1, 06749 Bitterfeld-Wolfen
GEO:51.62736780000000000000;12.32101770000000000000
SUMMARY:OL Fr.: VC Bitterfeld-Wolfen - SV Teutonia Siersleben
CLASS:PUBLIC
DTSTART:20240929T080000Z
DTSTAMP:20240731T220500Z
END:VEVENT
BEGIN:VEVENT
UID:684916-2da69939ed67427dc6bf3daba21059e9
X-WR-RELCALID:684916-2da69939ed67427dc6bf3daba21059e9
ORGANIZER:Volleyball
SEQUENCE:261121628
LOCATION:Dr.-Frank-Gymnasium Staßfurt, Stadtbadstraße 3, 39418 Staßfur
 t
GEO:51.85862220000000000000;11.58146410000000000000
SUMMARY:OL Fr.: VC Bitterfeld-Wolfen - Dessau Volleys
CLASS:PUBLIC
DTSTART:20241012T080000Z
DTSTAMP:20240731T220500Z
END:VEVENT
BEGIN:VEVENT
UID:684917-2da69939ed67427dc6bf3daba21059e9
X-WR-RELCALID:684917-2da69939ed67427dc6bf3daba21059e9
ORGANIZER:Volleyball
SEQUENCE:261121628
LOCATION:Dr.-Frank-Gymnasium Staßfurt, Stadtbadstraße 3, 39418 Staßfur
 t
GEO:51.85862220000000000000;11.58146410000000000000
SUMMARY:OL Fr.: VC Bitterfeld-Wolfen - VC 97 Staßfurt
CLASS:PUBLIC
DTSTART:20241012T080000Z
DTSTAMP:20240731T220500Z
END:VEVENT
BEGIN:VEVENT
UID:684935-2da69939ed67427dc6bf3daba21059e9
X-WR-RELCALID:684935-2da69939ed67427dc6bf3daba21059e9
ORGANIZER:Volleyball
SEQUENCE:261121628
LOCATION:SH Dr.-Carl-Hermann-Gymnasium, Moskauer Straße, 39218 Schöneb
 eck
GEO:52.00893800000000000000;11.73397000000000000000
SUMMARY:OL Fr.: SV Pädagogik Schönebeck - VC Bitterfeld-Wolfen
CLASS:PUBLIC
DTSTART:20241103T090000Z
DTSTAMP:20240731T220500Z
END:VEVENT
BEGIN:VEVENT
UID:684936-2da69939ed67427dc6bf3daba21059e9
X-WR-RELCALID:684936-2da69939ed67427dc6bf3daba21059e9
ORGANIZER:Volleyball
SEQUENCE:261121628
LOCATION:SH Dr.-Carl-Hermann-Gymnasium, Moskauer Straße, 39218 Schöneb
 eck
GEO:52.00893800000000000000;11.73397000000000000000
SUMMARY:OL Fr.: MTV von 1862 Wittenberg - VC Bitterfeld-Wolfen
CLASS:PUBLIC
DTSTART:20241103T090000Z
DTSTAMP:20240731T220500Z
END:VEVENT
BEGIN:VEVENT
UID:684940-2da69939ed67427dc6bf3daba21059e9
X-WR-RELCALID:684940-2da69939ed67427dc6bf3daba21059e9
ORGANIZER:Volleyball
SEQUENCE:261121628
LOCATION:Brauereiturnhalle, Gartenstraße 1, 06749 Bitterfeld-Wolfen
GEO:51.62736780000000000000;12.32101770000000000000
SUMMARY:OL Fr.: VC Bitterfeld-Wolfen - PSV Halle
CLASS:PUBLIC
DTSTART:20241110T090000Z
DTSTAMP:20240731T220500Z
END:VEVENT
BEGIN:VEVENT
UID:684941-2da69939ed67427dc6bf3daba21059e9
X-WR-RELCALID:684941-2da69939ed67427dc6bf3daba21059e9
ORGANIZER:Volleyball
SEQUENCE:261121628
LOCATION:Brauereiturnhalle, Gartenstraße 1, 06749 Bitterfeld-Wolfen
GEO:51.62736780000000000000;12.32101770000000000000
SUMMARY:OL Fr.: VC Bitterfeld-Wolfen - Magdeburger SV 90
CLASS:PUBLIC
DTSTART:20241110T090000Z
DTSTAMP:20240731T220500Z
END:VEVENT
BEGIN:VEVENT
UID:684946-2da69939ed67427dc6bf3daba21059e9
X-WR-RELCALID:684946-2da69939ed67427dc6bf3daba21059e9
ORGANIZER:Volleyball
SEQUENCE:261121628
LOCATION:Universitätssporthalle 1 (SH1), Zschockestraße, 39106 Magdebu
 rg
GEO:52.13861840000000000000;11.63302790000000000000
SUMMARY:OL Fr.: USC Magdeburg - VC Bitterfeld-Wolfen
CLASS:PUBLIC
DTSTART:20241201T090000Z
DTSTAMP:20240731T220500Z
END:VEVENT
BEGIN:VEVENT
UID:684948-2da69939ed67427dc6bf3daba21059e9
X-WR-RELCALID:684948-2da69939ed67427dc6bf3daba21059e9
ORGANIZER:Volleyball
SEQUENCE:261121628
LOCATION:Universitätssporthalle 1 (SH1), Zschockestraße, 39106 Magdebu
 rg
GEO:52.13861840000000000000;11.63302790000000000000
SUMMARY:OL Fr.: VC Bitterfeld-Wolfen - SV Teutonia Siersleben
CLASS:PUBLIC
DTSTART:20241201T090000Z
DTSTAMP:20240731T220500Z
END:VEVENT
BEGIN:VEVENT
UID:684961-2da69939ed67427dc6bf3daba21059e9
X-WR-RELCALID:684961-2da69939ed67427dc6bf3daba21059e9
ORGANIZER:Volleyball
SEQUENCE:261121628
LOCATION:Geiseltalhalle St. Barbara, Am Stadion 5, 06242 Braunsbedra
GEO:51.28126000000000000000;11.87660000000000000000
SUMMARY:OL Fr.: SV Braunsbedra - VC Bitterfeld-Wolfen
CLASS:PUBLIC
DTSTART:20241221T090000Z
DTSTAMP:20240731T220500Z
END:VEVENT
BEGIN:VEVENT
UID:684963-2da69939ed67427dc6bf3daba21059e9
X-WR-RELCALID:684963-2da69939ed67427dc6bf3daba21059e9
ORGANIZER:Volleyball
SEQUENCE:261121628
LOCATION:Geiseltalhalle St. Barbara, Am Stadion 5, 06242 Braunsbedra
GEO:51.28126000000000000000;11.87660000000000000000
SUMMARY:OL Fr.: VC Bitterfeld-Wolfen - VC 97 Staßfurt
CLASS:PUBLIC
DTSTART:20241221T090000Z
DTSTAMP:20240731T220500Z
END:VEVENT
BEGIN:VEVENT
UID:684971-2da69939ed67427dc6bf3daba21059e9
X-WR-RELCALID:684971-2da69939ed67427dc6bf3daba21059e9
ORGANIZER:Volleyball
SEQUENCE:261121628
LOCATION:TH Grundschule Ziebigk, Elballee 24, 06846 Dessau-Roßlau
GEO:0E-20;0E-20
SUMMARY:OL Fr.: Dessau Volleys - VC Bitterfeld-Wolfen
CLASS:PUBLIC
DTSTART:20250112T090000Z
DTSTAMP:20240731T220500Z
END:VEVENT
BEGIN:VEVENT
UID:684972-2da69939ed67427dc6bf3daba21059e9
X-WR-RELCALID:684972-2da69939ed67427dc6bf3daba21059e9
ORGANIZER:Volleyball
SEQUENCE:261121628
LOCATION:TH Grundschule Ziebigk, Elballee 24, 06846 Dessau-Roßlau
GEO:0E-20;0E-20
SUMMARY:OL Fr.: SV Braunsbedra - VC Bitterfeld-Wolfen
CLASS:PUBLIC
DTSTART:20250112T090000Z
DTSTAMP:20240731T220500Z
END:VEVENT
BEGIN:VEVENT
UID:684982-2da69939ed67427dc6bf3daba21059e9
X-WR-RELCALID:684982-2da69939ed67427dc6bf3daba21059e9
ORGANIZER:Volleyball
SEQUENCE:261121628
LOCATION:Sporthalle Bodestraße, Bodestr. 9, 39118 Magdeburg
GEO:52.09123000000000000000;11.60596380000000000000
SUMMARY:OL Fr.: Magdeburger SV 90 - VC Bitterfeld-Wolfen
CLASS:PUBLIC
DTSTART:20250209T090000Z
DTSTAMP:20240731T220500Z
END:VEVENT
BEGIN:VEVENT
UID:684984-2da69939ed67427dc6bf3daba21059e9
X-WR-RELCALID:684984-2da69939ed67427dc6bf3daba21059e9
ORGANIZER:Volleyball
SEQUENCE:261121628
LOCATION:Sporthalle Bodestraße, Bodestr. 9, 39118 Magdeburg
GEO:52.09123000000000000000;11.60596380000000000000
SUMMARY:OL Fr.: VC Bitterfeld-Wolfen - SV Schwarz-Weiß Badeborn
CLASS:PUBLIC
DTSTART:20250209T090000Z
DTSTAMP:20240731T220500Z
END:VEVENT
BEGIN:VEVENT
UID:684998-2da69939ed67427dc6bf3daba21059e9
X-WR-RELCALID:684998-2da69939ed67427dc6bf3daba21059e9
ORGANIZER:Volleyball
SEQUENCE:261121628
LOCATION:Marguerite Friedlaender Gesamtschule, Mannheimer Straße 76, 0
 6128 Halle Saale
GEO:51.45239910000000000000;11.95233600000000000000
SUMMARY:OL Fr.: PSV Halle - VC Bitterfeld-Wolfen
CLASS:PUBLIC
DTSTART:20250309T090000Z
DTSTAMP:20250306T103200Z
END:VEVENT
BEGIN:VEVENT
UID:684999-2da69939ed67427dc6bf3daba21059e9
X-WR-RELCALID:684999-2da69939ed67427dc6bf3daba21059e9
ORGANIZER:Volleyball
SEQUENCE:261121628
LOCATION:Marguerite Friedlaender Gesamtschule, Mannheimer Straße 76, 0
 6128 Halle Saale
GEO:51.45239910000000000000;11.95233600000000000000
SUMMARY:OL Fr.: MTV von 1862 Wittenberg - VC Bitterfeld-Wolfen
CLASS:PUBLIC
DTSTART:20250309T090000Z
DTSTAMP:20250306T103200Z
END:VEVENT
BEGIN:VEVENT
UID:685006-2da69939ed67427dc6bf3daba21059e9
X-WR-RELCALID:685006-2da69939ed67427dc6bf3daba21059e9
ORGANIZER:Volleyball
SEQUENCE:261121628
LOCATION:Geiseltalhalle St. Barbara, Am Stadion 5, 06242 Braunsbedra
GEO:51.28126000000000000000;11.87660000000000000000
SUMMARY:OL Fr.: VC Bitterfeld-Wolfen - SV Schwarz-Weiß Badeborn
CLASS:PUBLIC
DTSTART:20250329T090000Z
DTSTAMP:20240731T220500Z
END:VEVENT
BEGIN:VEVENT
UID:685012-2da69939ed67427dc6bf3daba21059e9
X-WR-RELCALID:685012-2da69939ed67427dc6bf3daba21059e9
ORGANIZER:Volleyball
SEQUENCE:261121628
LOCATION:Geiseltalhalle St. Barbara, Am Stadion 5, 06242 Braunsbedra
GEO:51.28126000000000000000;11.87660000000000000000
SUMMARY:OL Fr.: VC Bitterfeld-Wolfen - SV Pädagogik Schönebeck
CLASS:PUBLIC
DTSTART:20250329T110000Z
DTSTAMP:20240731T220500Z
END:VEVENT
END:VCALENDAR