BEGIN:VCALENDAR
VERSION:2.0
PRODID:VSD-Portal-www.volley.de
METHOD:PUBLISH
BEGIN:VEVENT
UID:188060-0b1cb5f82de24c98f11e829bddb1f0f9
X-WR-RELCALID:188060-0b1cb5f82de24c98f11e829bddb1f0f9
ORGANIZER:Volleyball
SEQUENCE:261110325
SUMMARY:K: M U18 w: ESV Neuaubing - TUSC Obermenzing
CLASS:PUBLIC
DTSTART:20171001T080000Z
DTSTAMP:20171001T182100Z
END:VEVENT
BEGIN:VEVENT
UID:188061-0b1cb5f82de24c98f11e829bddb1f0f9
X-WR-RELCALID:188061-0b1cb5f82de24c98f11e829bddb1f0f9
ORGANIZER:Volleyball
SEQUENCE:261110325
SUMMARY:K: M U18 w: PSV München - TUSC Obermenzing
CLASS:PUBLIC
DTSTART:20171001T080000Z
DTSTAMP:20171001T182200Z
END:VEVENT
BEGIN:VEVENT
UID:188072-0b1cb5f82de24c98f11e829bddb1f0f9
X-WR-RELCALID:188072-0b1cb5f82de24c98f11e829bddb1f0f9
ORGANIZER:Volleyball
SEQUENCE:261110325
SUMMARY:K: M U18 w: TSV Milbertshofen - TUSC Obermenzing
CLASS:PUBLIC
DTSTART:20171001T113000Z
DTSTAMP:20171001T182700Z
END:VEVENT
BEGIN:VEVENT
UID:188073-0b1cb5f82de24c98f11e829bddb1f0f9
X-WR-RELCALID:188073-0b1cb5f82de24c98f11e829bddb1f0f9
ORGANIZER:Volleyball
SEQUENCE:261110325
SUMMARY:K: M U18 w: TS Jahn München II - TUSC Obermenzing
CLASS:PUBLIC
DTSTART:20171001T113000Z
DTSTAMP:20171001T182800Z
END:VEVENT
BEGIN:VEVENT
UID:188084-0b1cb5f82de24c98f11e829bddb1f0f9
X-WR-RELCALID:188084-0b1cb5f82de24c98f11e829bddb1f0f9
ORGANIZER:Volleyball
SEQUENCE:261110325
LOCATION:Sporthalle an der Führichstraße, Kirchseeoner Straße 5, 81671
  München
GEO:48.11755400000000000000;11.61439500000000000000
SUMMARY:K: M U18 w: FTM Schwabing - TUSC Obermenzing
CLASS:PUBLIC
DTSTART:20171022T080000Z
DTSTAMP:20171022T190900Z
END:VEVENT
BEGIN:VEVENT
UID:188085-0b1cb5f82de24c98f11e829bddb1f0f9
X-WR-RELCALID:188085-0b1cb5f82de24c98f11e829bddb1f0f9
ORGANIZER:Volleyball
SEQUENCE:261110325
SUMMARY:K: M U18 w: ESV München - TUSC Obermenzing
CLASS:PUBLIC
DTSTART:20171022T080000Z
DTSTAMP:20171022T191000Z
END:VEVENT
BEGIN:VEVENT
UID:188089-0b1cb5f82de24c98f11e829bddb1f0f9
X-WR-RELCALID:188089-0b1cb5f82de24c98f11e829bddb1f0f9
ORGANIZER:Volleyball
SEQUENCE:261110325
SUMMARY:K: M U18 w: TUSC Obermenzing - TSV München-Ost - a.K.
CLASS:PUBLIC
DTSTART:20171022T113000Z
DTSTAMP:20171022T191500Z
END:VEVENT
BEGIN:VEVENT
UID:188090-0b1cb5f82de24c98f11e829bddb1f0f9
X-WR-RELCALID:188090-0b1cb5f82de24c98f11e829bddb1f0f9
ORGANIZER:Volleyball
SEQUENCE:261110325
SUMMARY:K: M U18 w: TUSC Obermenzing - VC DJK München-Ost-Herrsching I
 I
CLASS:PUBLIC
DTSTART:20171022T113000Z
DTSTAMP:20171022T191600Z
END:VEVENT
BEGIN:VEVENT
UID:190628-0b1cb5f82de24c98f11e829bddb1f0f9
X-WR-RELCALID:190628-0b1cb5f82de24c98f11e829bddb1f0f9
ORGANIZER:Volleyball
SEQUENCE:261110325
SUMMARY:K: M U18 w: TUSC Obermenzing - PSV München
CLASS:PUBLIC
DTSTART:20171112T090000Z
DTSTAMP:20171112T153100Z
END:VEVENT
BEGIN:VEVENT
UID:190629-0b1cb5f82de24c98f11e829bddb1f0f9
X-WR-RELCALID:190629-0b1cb5f82de24c98f11e829bddb1f0f9
ORGANIZER:Volleyball
SEQUENCE:261110325
SUMMARY:K: M U18 w: TUSC Obermenzing - TSV Milbertshofen
CLASS:PUBLIC
DTSTART:20171112T090000Z
DTSTAMP:20171112T153200Z
END:VEVENT
BEGIN:VEVENT
UID:190637-0b1cb5f82de24c98f11e829bddb1f0f9
X-WR-RELCALID:190637-0b1cb5f82de24c98f11e829bddb1f0f9
ORGANIZER:Volleyball
SEQUENCE:261110325
SUMMARY:K: M U18 w: TUSC Obermenzing - ESV München
CLASS:PUBLIC
DTSTART:20171112T123000Z
DTSTAMP:20171112T153400Z
END:VEVENT
BEGIN:VEVENT
UID:190638-0b1cb5f82de24c98f11e829bddb1f0f9
X-WR-RELCALID:190638-0b1cb5f82de24c98f11e829bddb1f0f9
ORGANIZER:Volleyball
SEQUENCE:261110325
SUMMARY:K: M U18 w: TUSC Obermenzing - FTM Schwabing
CLASS:PUBLIC
DTSTART:20171112T123000Z
DTSTAMP:20171112T153400Z
END:VEVENT
BEGIN:VEVENT
UID:190640-0b1cb5f82de24c98f11e829bddb1f0f9
X-WR-RELCALID:190640-0b1cb5f82de24c98f11e829bddb1f0f9
ORGANIZER:Volleyball
SEQUENCE:261110325
SUMMARY:K: M U18 w: VC DJK München-Ost-Herrsching - TUSC Obermenzing
CLASS:PUBLIC
DTSTART:20171126T090000Z
DTSTAMP:20171126T170800Z
END:VEVENT
BEGIN:VEVENT
UID:190642-0b1cb5f82de24c98f11e829bddb1f0f9
X-WR-RELCALID:190642-0b1cb5f82de24c98f11e829bddb1f0f9
ORGANIZER:Volleyball
SEQUENCE:261110325
SUMMARY:K: M U18 w: TUSC Obermenzing - ESV Neuaubing
CLASS:PUBLIC
DTSTART:20171126T090000Z
DTSTAMP:20171126T170600Z
END:VEVENT
BEGIN:VEVENT
UID:190665-0b1cb5f82de24c98f11e829bddb1f0f9
X-WR-RELCALID:190665-0b1cb5f82de24c98f11e829bddb1f0f9
ORGANIZER:Volleyball
SEQUENCE:261110325
LOCATION:Berufsschulen Orleansstraße, Orleansstraße 44, 81667 München
GEO:48.12639093671598000000;11.60194901852423800000
SUMMARY:K: M U18 w: VC DJK München-Ost-Herrsching II - TUSC Obermenzin
 g
CLASS:PUBLIC
DTSTART:20171210T090000Z
DTSTAMP:20171210T201600Z
END:VEVENT
BEGIN:VEVENT
UID:190666-0b1cb5f82de24c98f11e829bddb1f0f9
X-WR-RELCALID:190666-0b1cb5f82de24c98f11e829bddb1f0f9
ORGANIZER:Volleyball
SEQUENCE:261110325
LOCATION:Berufsschulen Orleansstraße, Orleansstraße 44, 81667 München
GEO:48.12639093671598000000;11.60194901852423800000
SUMMARY:K: M U18 w: TSV München-Ost - a.K. - TUSC Obermenzing
CLASS:PUBLIC
DTSTART:20171210T090000Z
DTSTAMP:20171210T200600Z
END:VEVENT
BEGIN:VEVENT
UID:190671-0b1cb5f82de24c98f11e829bddb1f0f9
X-WR-RELCALID:190671-0b1cb5f82de24c98f11e829bddb1f0f9
ORGANIZER:Volleyball
SEQUENCE:261110325
SUMMARY:K: M U18 w: TUSC Obermenzing - VC DJK München-Ost-Herrsching
CLASS:PUBLIC
DTSTART;VALUE=DATE:20171210
DTSTAMP:20171210T195900Z
DTEND;VALUE=DATE:20171211
END:VEVENT
BEGIN:VEVENT
UID:190672-0b1cb5f82de24c98f11e829bddb1f0f9
X-WR-RELCALID:190672-0b1cb5f82de24c98f11e829bddb1f0f9
ORGANIZER:Volleyball
SEQUENCE:261110325
SUMMARY:K: M U18 w: TUSC Obermenzing - TS Jahn München II
CLASS:PUBLIC
DTSTART;VALUE=DATE:20171210
DTSTAMP:20171210T200300Z
DTEND;VALUE=DATE:20171211
END:VEVENT
END:VCALENDAR