BEGIN:VCALENDAR
VERSION:2.0
PRODID:VSD-Portal-www.volley.de
METHOD:PUBLISH
BEGIN:VEVENT
UID:697949-2da69939ed67427dc6bf3daba21059e9
X-WR-RELCALID:697949-2da69939ed67427dc6bf3daba21059e9
ORGANIZER:Volleyball
SEQUENCE:261101845
LOCATION:Vechtetalhalle, Deichweg, 49824 Emlichheim
GEO:52.60227590000000000000;6.85461770000000000000
SUMMARY:RL NW Fr.: SC Union Emlichheim III - Emder Volleys
CLASS:PUBLIC
DTSTART:20241005T130000Z
DTSTAMP:20240805T213100Z
END:VEVENT
BEGIN:VEVENT
UID:697953-2da69939ed67427dc6bf3daba21059e9
X-WR-RELCALID:697953-2da69939ed67427dc6bf3daba21059e9
ORGANIZER:Volleyball
SEQUENCE:261101845
LOCATION:OBS Spelle, Brink 7, 48480 Spelle
GEO:52.36990000000000000000;7.47066000000000000000
SUMMARY:RL NW Fr.: SC Spelle-Venhaus - Emder Volleys
CLASS:PUBLIC
DTSTART:20241012T180000Z
DTSTAMP:20250110T141600Z
END:VEVENT
BEGIN:VEVENT
UID:697955-2da69939ed67427dc6bf3daba21059e9
X-WR-RELCALID:697955-2da69939ed67427dc6bf3daba21059e9
ORGANIZER:Volleyball
SEQUENCE:261101845
LOCATION:Sporthalle am Park, Parkstraße, 49835 Lohne
GEO:52.50003820000000000000;7.22932880000000000000
SUMMARY:RL NW Fr.: SV Union Lohne - Emder Volleys
CLASS:PUBLIC
DTSTART:20241019T140000Z
DTSTAMP:20250110T141600Z
END:VEVENT
BEGIN:VEVENT
UID:697960-2da69939ed67427dc6bf3daba21059e9
X-WR-RELCALID:697960-2da69939ed67427dc6bf3daba21059e9
ORGANIZER:Volleyball
SEQUENCE:261101845
LOCATION:Sportzentrum Blau-Weiß Borssum, Wykhoffweg 12, 26725 Emden
GEO:53.34648390000000000000;7.22598090000000000000
SUMMARY:RL NW Fr.: Emder Volleys - Tuspo Weende
CLASS:PUBLIC
DTSTART:20241026T180000Z
DTSTAMP:20250110T141600Z
END:VEVENT
BEGIN:VEVENT
UID:697966-2da69939ed67427dc6bf3daba21059e9
X-WR-RELCALID:697966-2da69939ed67427dc6bf3daba21059e9
ORGANIZER:Volleyball
SEQUENCE:261101845
LOCATION:Neue Sporthalle Bad Laer, An der Turnhalle, 49196 Bad Laer
GEO:52.10254420000000000000;8.07921480000000000000
SUMMARY:RL NW Fr.: SV Bad Laer - Emder Volleys
CLASS:PUBLIC
DTSTART:20241102T190000Z
DTSTAMP:20250110T141600Z
END:VEVENT
BEGIN:VEVENT
UID:697973-2da69939ed67427dc6bf3daba21059e9
X-WR-RELCALID:697973-2da69939ed67427dc6bf3daba21059e9
ORGANIZER:Volleyball
SEQUENCE:261101845
LOCATION:Sportzentrum Blau-Weiß Borssum, Wykhoffweg 12, 26725 Emden
GEO:53.34648390000000000000;7.22598090000000000000
SUMMARY:RL NW Fr.: Emder Volleys - TV Eiche Horn Bremen
CLASS:PUBLIC
DTSTART:20241116T190000Z
DTSTAMP:20250110T141600Z
END:VEVENT
BEGIN:VEVENT
UID:697976-2da69939ed67427dc6bf3daba21059e9
X-WR-RELCALID:697976-2da69939ed67427dc6bf3daba21059e9
ORGANIZER:Volleyball
SEQUENCE:261101845
LOCATION:Freie Waldorfschule Hannover-Maschsee, Rudolf-von-Bennigsen-U
 fer 70, 30173 Hannover
GEO:52.35146620000000000000;9.74888090000000000000
SUMMARY:RL NW Fr.: GfL Hannover - Emder Volleys
CLASS:PUBLIC
DTSTART:20241123T190000Z
DTSTAMP:20250110T141600Z
END:VEVENT
BEGIN:VEVENT
UID:697984-2da69939ed67427dc6bf3daba21059e9
X-WR-RELCALID:697984-2da69939ed67427dc6bf3daba21059e9
ORGANIZER:Volleyball
SEQUENCE:261101845
LOCATION:Sportzentrum Blau-Weiß Borssum, Wykhoffweg 12, 26725 Emden
GEO:53.34648390000000000000;7.22598090000000000000
SUMMARY:RL NW Fr.: Emder Volleys - USC Braunschweig
CLASS:PUBLIC
DTSTART:20241207T190000Z
DTSTAMP:20250110T141600Z
END:VEVENT
BEGIN:VEVENT
UID:697986-2da69939ed67427dc6bf3daba21059e9
X-WR-RELCALID:697986-2da69939ed67427dc6bf3daba21059e9
ORGANIZER:Volleyball
SEQUENCE:261101845
LOCATION:OTB-Halle Am Haarenesch, Haareneschstr. 64, 26121 Oldenburg
GEO:53.14511000000000000000;8.19635000000000000000
SUMMARY:RL NW Fr.: Oldenburger TB - Emder Volleys
CLASS:PUBLIC
DTSTART:20241214T190000Z
DTSTAMP:20250110T141600Z
END:VEVENT
BEGIN:VEVENT
UID:697993-2da69939ed67427dc6bf3daba21059e9
X-WR-RELCALID:697993-2da69939ed67427dc6bf3daba21059e9
ORGANIZER:Volleyball
SEQUENCE:261101845
LOCATION:Sportzentrum Blau-Weiß Borssum, Wykhoffweg 12, 26725 Emden
GEO:53.34648390000000000000;7.22598090000000000000
SUMMARY:RL NW Fr.: Emder Volleys - SC Union Emlichheim III
CLASS:PUBLIC
DTSTART:20250111T190000Z
DTSTAMP:20250110T141600Z
END:VEVENT
BEGIN:VEVENT
UID:697996-2da69939ed67427dc6bf3daba21059e9
X-WR-RELCALID:697996-2da69939ed67427dc6bf3daba21059e9
ORGANIZER:Volleyball
SEQUENCE:261101845
LOCATION:Sportzentrum Blau-Weiß Borssum, Wykhoffweg 12, 26725 Emden
GEO:53.34648390000000000000;7.22598090000000000000
SUMMARY:RL NW Fr.: Emder Volleys - SC Spelle-Venhaus
CLASS:PUBLIC
DTSTART:20250118T190000Z
DTSTAMP:20250110T141600Z
END:VEVENT
BEGIN:VEVENT
UID:698002-2da69939ed67427dc6bf3daba21059e9
X-WR-RELCALID:698002-2da69939ed67427dc6bf3daba21059e9
ORGANIZER:Volleyball
SEQUENCE:261101845
LOCATION:Sportzentrum Blau-Weiß Borssum, Wykhoffweg 12, 26725 Emden
GEO:53.34648390000000000000;7.22598090000000000000
SUMMARY:RL NW Fr.: Emder Volleys - SV Union Lohne
CLASS:PUBLIC
DTSTART:20250125T190000Z
DTSTAMP:20250110T141600Z
END:VEVENT
BEGIN:VEVENT
UID:698006-2da69939ed67427dc6bf3daba21059e9
X-WR-RELCALID:698006-2da69939ed67427dc6bf3daba21059e9
ORGANIZER:Volleyball
SEQUENCE:261101845
LOCATION:Sporthalle Weende, James-Franck-Ring, 37077 Göttingen
GEO:51.57167960000000000000;9.93103580000000000000
SUMMARY:RL NW Fr.: Tuspo Weende - Emder Volleys
CLASS:PUBLIC
DTSTART:20250201T190000Z
DTSTAMP:20250110T141600Z
END:VEVENT
BEGIN:VEVENT
UID:698013-2da69939ed67427dc6bf3daba21059e9
X-WR-RELCALID:698013-2da69939ed67427dc6bf3daba21059e9
ORGANIZER:Volleyball
SEQUENCE:261101845
LOCATION:Sportzentrum Blau-Weiß Borssum, Wykhoffweg 12, 26725 Emden
GEO:53.34648390000000000000;7.22598090000000000000
SUMMARY:RL NW Fr.: Emder Volleys - SV Bad Laer
CLASS:PUBLIC
DTSTART:20250215T190000Z
DTSTAMP:20250110T141600Z
END:VEVENT
BEGIN:VEVENT
UID:698016-2da69939ed67427dc6bf3daba21059e9
X-WR-RELCALID:698016-2da69939ed67427dc6bf3daba21059e9
ORGANIZER:Volleyball
SEQUENCE:261101845
LOCATION:Sporthalle Ronzelenstraße (untere Halle), Ronzelenstraße 55, 
 28359 Bremen
GEO:53.09591730000000000000;8.87514210000000000000
SUMMARY:RL NW Fr.: TV Eiche Horn Bremen - Emder Volleys
CLASS:PUBLIC
DTSTART:20250222T183000Z
DTSTAMP:20250110T141600Z
END:VEVENT
BEGIN:VEVENT
UID:698024-2da69939ed67427dc6bf3daba21059e9
X-WR-RELCALID:698024-2da69939ed67427dc6bf3daba21059e9
ORGANIZER:Volleyball
SEQUENCE:261101845
LOCATION:Sportzentrum Blau-Weiß Borssum, Wykhoffweg 12, 26725 Emden
GEO:53.34648390000000000000;7.22598090000000000000
SUMMARY:RL NW Fr.: Emder Volleys - GfL Hannover
CLASS:PUBLIC
DTSTART:20250308T190000Z
DTSTAMP:20250110T141600Z
END:VEVENT
BEGIN:VEVENT
UID:698025-2da69939ed67427dc6bf3daba21059e9
X-WR-RELCALID:698025-2da69939ed67427dc6bf3daba21059e9
ORGANIZER:Volleyball
SEQUENCE:261101845
LOCATION:Tunica-Sporthalle, Hasenwinkel, 38114 Braunschweig
GEO:52.27573000000000000000;10.51596000000000000000
SUMMARY:RL NW Fr.: USC Braunschweig - Emder Volleys
CLASS:PUBLIC
DTSTART:20250315T140000Z
DTSTAMP:20250110T141600Z
END:VEVENT
BEGIN:VEVENT
UID:698033-2da69939ed67427dc6bf3daba21059e9
X-WR-RELCALID:698033-2da69939ed67427dc6bf3daba21059e9
ORGANIZER:Volleyball
SEQUENCE:261101845
LOCATION:Sportzentrum Blau-Weiß Borssum, Wykhoffweg 12, 26725 Emden
GEO:53.34648390000000000000;7.22598090000000000000
SUMMARY:RL NW Fr.: Emder Volleys - Oldenburger TB
CLASS:PUBLIC
DTSTART:20250329T190000Z
DTSTAMP:20250110T141600Z
END:VEVENT
END:VCALENDAR