BEGIN:VCALENDAR
VERSION:2.0
PRODID:VSD-Portal-www.volley.de
METHOD:PUBLISH
BEGIN:VEVENT
UID:744653-2da69939ed67427dc6bf3daba21059e9
X-WR-RELCALID:744653-2da69939ed67427dc6bf3daba21059e9
ORGANIZER:Volleyball
SEQUENCE:261160057
LOCATION:Kreissporthalle Bückeburg, Lulu-von-Strauß-und-Thorney-Str. 3
 0, 31675 Bückeburg
GEO:52.25687000000000000000;9.04736000000000000000
SUMMARY:BKl 2 RegV Han. Fr.: VfL Bückeburg II - Team Schaumburg II
CLASS:PUBLIC
DTSTART:20260426T080000Z
DTSTAMP:20250816T113200Z
END:VEVENT
END:VCALENDAR