BEGIN:VCALENDAR
VERSION:2.0
PRODID:VSD-Portal-www.volley.de
METHOD:PUBLISH
BEGIN:VEVENT
UID:200750-0b1cb5f82de24c98f11e829bddb1f0f9
X-WR-RELCALID:200750-0b1cb5f82de24c98f11e829bddb1f0f9
ORGANIZER:Volleyball
SEQUENCE:261110313
LOCATION:Realschule, Salvatorstraße 17, 94447 Plattling
GEO:48.78401600000000000000;12.86554200000000000000
SUMMARY:BKLNO Fr.: TSV Plattling - Wilde Wespen Steinach II
CLASS:PUBLIC
DTSTART:20181006T120000Z
DTSTAMP:20181009T154000Z
END:VEVENT
BEGIN:VEVENT
UID:200751-0b1cb5f82de24c98f11e829bddb1f0f9
X-WR-RELCALID:200751-0b1cb5f82de24c98f11e829bddb1f0f9
ORGANIZER:Volleyball
SEQUENCE:261110313
LOCATION:Realschule, Salvatorstraße 17, 94447 Plattling
GEO:48.78401600000000000000;12.86554200000000000000
SUMMARY:BKLNO Fr.: TSV Plattling - TSV Waldkirchen II
CLASS:PUBLIC
DTSTART:20181006T120000Z
DTSTAMP:20181009T154400Z
END:VEVENT
BEGIN:VEVENT
UID:200752-0b1cb5f82de24c98f11e829bddb1f0f9
X-WR-RELCALID:200752-0b1cb5f82de24c98f11e829bddb1f0f9
ORGANIZER:Volleyball
SEQUENCE:261110313
LOCATION:Realschule, Salvatorstraße 17, 94447 Plattling
GEO:48.78401600000000000000;12.86554200000000000000
SUMMARY:BKLNO Fr.: Wilde Wespen Steinach II - TSV Waldkirchen II
CLASS:PUBLIC
DTSTART:20181006T120000Z
DTSTAMP:20181009T154800Z
END:VEVENT
BEGIN:VEVENT
UID:200753-0b1cb5f82de24c98f11e829bddb1f0f9
X-WR-RELCALID:200753-0b1cb5f82de24c98f11e829bddb1f0f9
ORGANIZER:Volleyball
SEQUENCE:261110313
LOCATION:Mehrzweckhalle, Bäckerreuthweg, 94113 Tiefenbach
GEO:48.62566400000000000000;13.39711100000000000000
SUMMARY:BKLNO Fr.: FC-DJK Tiefenbach II - SV Aicha v.W.
CLASS:PUBLIC
DTSTART:20181006T120000Z
DTSTAMP:20181012T164300Z
END:VEVENT
BEGIN:VEVENT
UID:200754-0b1cb5f82de24c98f11e829bddb1f0f9
X-WR-RELCALID:200754-0b1cb5f82de24c98f11e829bddb1f0f9
ORGANIZER:Volleyball
SEQUENCE:261110313
LOCATION:Mehrzweckhalle, Bäckerreuthweg, 94113 Tiefenbach
GEO:48.62566400000000000000;13.39711100000000000000
SUMMARY:BKLNO Fr.: FC-DJK Tiefenbach II - VC/DJK Passau
CLASS:PUBLIC
DTSTART:20181006T120000Z
DTSTAMP:20181012T164700Z
END:VEVENT
BEGIN:VEVENT
UID:200755-0b1cb5f82de24c98f11e829bddb1f0f9
X-WR-RELCALID:200755-0b1cb5f82de24c98f11e829bddb1f0f9
ORGANIZER:Volleyball
SEQUENCE:261110313
LOCATION:Mehrzweckhalle, Bäckerreuthweg, 94113 Tiefenbach
GEO:48.62566400000000000000;13.39711100000000000000
SUMMARY:BKLNO Fr.: SV Aicha v.W. - VC/DJK Passau
CLASS:PUBLIC
DTSTART:20181006T120000Z
DTSTAMP:20181012T165100Z
END:VEVENT
BEGIN:VEVENT
UID:200756-0b1cb5f82de24c98f11e829bddb1f0f9
X-WR-RELCALID:200756-0b1cb5f82de24c98f11e829bddb1f0f9
ORGANIZER:Volleyball
SEQUENCE:261110313
LOCATION:Gymnasiumhalle, Schulstraße 2, 94065 Waldkirchen
GEO:48.72788000000000000000;13.60700000000000000000
SUMMARY:BKLNO Fr.: TSV Waldkirchen II - VC/DJK Passau
CLASS:PUBLIC
DTSTART:20181103T130000Z
DTSTAMP:20181107T203300Z
END:VEVENT
BEGIN:VEVENT
UID:200757-0b1cb5f82de24c98f11e829bddb1f0f9
X-WR-RELCALID:200757-0b1cb5f82de24c98f11e829bddb1f0f9
ORGANIZER:Volleyball
SEQUENCE:261110313
LOCATION:Gymnasiumhalle, Schulstraße 2, 94065 Waldkirchen
GEO:48.72788000000000000000;13.60700000000000000000
SUMMARY:BKLNO Fr.: TSV Waldkirchen II - SG TSV Bad Griesbach/FC Fürste
 nzell
CLASS:PUBLIC
DTSTART:20181103T130000Z
DTSTAMP:20181107T203600Z
END:VEVENT
BEGIN:VEVENT
UID:200758-0b1cb5f82de24c98f11e829bddb1f0f9
X-WR-RELCALID:200758-0b1cb5f82de24c98f11e829bddb1f0f9
ORGANIZER:Volleyball
SEQUENCE:261110313
LOCATION:Gymnasiumhalle, Schulstraße 2, 94065 Waldkirchen
GEO:48.72788000000000000000;13.60700000000000000000
SUMMARY:BKLNO Fr.: VC/DJK Passau - SG TSV Bad Griesbach/FC Fürstenzell
 
CLASS:PUBLIC
DTSTART:20181103T130000Z
DTSTAMP:20181107T203900Z
END:VEVENT
BEGIN:VEVENT
UID:200759-0b1cb5f82de24c98f11e829bddb1f0f9
X-WR-RELCALID:200759-0b1cb5f82de24c98f11e829bddb1f0f9
ORGANIZER:Volleyball
SEQUENCE:261110313
LOCATION:Gymnasiumhalle, Schulstraße 2, 94065 Waldkirchen
GEO:48.72788000000000000000;13.60700000000000000000
SUMMARY:BKLNO Fr.: TSV Waldkirchen II - FC-DJK Tiefenbach II
CLASS:PUBLIC
DTSTART:20181110T130000Z
DTSTAMP:20181113T215800Z
END:VEVENT
BEGIN:VEVENT
UID:200760-0b1cb5f82de24c98f11e829bddb1f0f9
X-WR-RELCALID:200760-0b1cb5f82de24c98f11e829bddb1f0f9
ORGANIZER:Volleyball
SEQUENCE:261110313
LOCATION:Gymnasiumhalle, Schulstraße 2, 94065 Waldkirchen
GEO:48.72788000000000000000;13.60700000000000000000
SUMMARY:BKLNO Fr.: TSV Waldkirchen II - SV Tettenweis
CLASS:PUBLIC
DTSTART:20181110T130000Z
DTSTAMP:20181113T220100Z
END:VEVENT
BEGIN:VEVENT
UID:200761-0b1cb5f82de24c98f11e829bddb1f0f9
X-WR-RELCALID:200761-0b1cb5f82de24c98f11e829bddb1f0f9
ORGANIZER:Volleyball
SEQUENCE:261110313
LOCATION:Gymnasiumhalle, Schulstraße 2, 94065 Waldkirchen
GEO:48.72788000000000000000;13.60700000000000000000
SUMMARY:BKLNO Fr.: FC-DJK Tiefenbach II - SV Tettenweis
CLASS:PUBLIC
DTSTART:20181110T130000Z
DTSTAMP:20181113T220400Z
END:VEVENT
BEGIN:VEVENT
UID:200762-0b1cb5f82de24c98f11e829bddb1f0f9
X-WR-RELCALID:200762-0b1cb5f82de24c98f11e829bddb1f0f9
ORGANIZER:Volleyball
SEQUENCE:261110313
LOCATION:Gymnasium Leopoldinum, Klosterwinkel 1, 94032 Passau
GEO:48.57337234311499000000;13.47152583068850600000
SUMMARY:BKLNO Fr.: VC/DJK Passau - TV Viechtach
CLASS:PUBLIC
DTSTART:20181110T130000Z
DTSTAMP:20181114T211600Z
END:VEVENT
BEGIN:VEVENT
UID:200763-0b1cb5f82de24c98f11e829bddb1f0f9
X-WR-RELCALID:200763-0b1cb5f82de24c98f11e829bddb1f0f9
ORGANIZER:Volleyball
SEQUENCE:261110313
LOCATION:Gymnasium Leopoldinum, Klosterwinkel 1, 94032 Passau
GEO:48.57337234311499000000;13.47152583068850600000
SUMMARY:BKLNO Fr.: VC/DJK Passau - TSV Plattling
CLASS:PUBLIC
DTSTART:20181110T130000Z
DTSTAMP:20181114T211000Z
END:VEVENT
BEGIN:VEVENT
UID:200764-0b1cb5f82de24c98f11e829bddb1f0f9
X-WR-RELCALID:200764-0b1cb5f82de24c98f11e829bddb1f0f9
ORGANIZER:Volleyball
SEQUENCE:261110313
LOCATION:Gymnasium Leopoldinum, Klosterwinkel 1, 94032 Passau
GEO:48.57337234311499000000;13.47152583068850600000
SUMMARY:BKLNO Fr.: TV Viechtach - TSV Plattling
CLASS:PUBLIC
DTSTART:20181110T130000Z
DTSTAMP:20181114T211300Z
END:VEVENT
BEGIN:VEVENT
UID:200765-0b1cb5f82de24c98f11e829bddb1f0f9
X-WR-RELCALID:200765-0b1cb5f82de24c98f11e829bddb1f0f9
ORGANIZER:Volleyball
SEQUENCE:261110313
LOCATION:Turnhalle, Badstr., 94167 Tettenweis
GEO:48.44581663112495600000;13.26893823544310200000
SUMMARY:BKLNO Fr.: SV Tettenweis - TSV Plattling
CLASS:PUBLIC
DTSTART:20181124T130000Z
DTSTAMP:20181128T203900Z
END:VEVENT
BEGIN:VEVENT
UID:200766-0b1cb5f82de24c98f11e829bddb1f0f9
X-WR-RELCALID:200766-0b1cb5f82de24c98f11e829bddb1f0f9
ORGANIZER:Volleyball
SEQUENCE:261110313
LOCATION:Turnhalle, Badstr., 94167 Tettenweis
GEO:48.44581663112495600000;13.26893823544310200000
SUMMARY:BKLNO Fr.: SV Tettenweis - SV Aicha v.W.
CLASS:PUBLIC
DTSTART:20181124T130000Z
DTSTAMP:20181128T204300Z
END:VEVENT
BEGIN:VEVENT
UID:200767-0b1cb5f82de24c98f11e829bddb1f0f9
X-WR-RELCALID:200767-0b1cb5f82de24c98f11e829bddb1f0f9
ORGANIZER:Volleyball
SEQUENCE:261110313
LOCATION:Turnhalle, Badstr., 94167 Tettenweis
GEO:48.44581663112495600000;13.26893823544310200000
SUMMARY:BKLNO Fr.: TSV Plattling - SV Aicha v.W.
CLASS:PUBLIC
DTSTART:20181124T130000Z
DTSTAMP:20181128T204700Z
END:VEVENT
BEGIN:VEVENT
UID:200768-0b1cb5f82de24c98f11e829bddb1f0f9
X-WR-RELCALID:200768-0b1cb5f82de24c98f11e829bddb1f0f9
ORGANIZER:Volleyball
SEQUENCE:261110313
LOCATION:Josef-Schlicht-Grundschule, August-Schmieder-Straße 54, 94377
  Steinach
GEO:48.95359800000000000000;12.61405900000000000000
SUMMARY:BKLNO Fr.: Wilde Wespen Steinach II - TV Viechtach
CLASS:PUBLIC
DTSTART:20181124T130000Z
DTSTAMP:20181127T225500Z
END:VEVENT
BEGIN:VEVENT
UID:200769-0b1cb5f82de24c98f11e829bddb1f0f9
X-WR-RELCALID:200769-0b1cb5f82de24c98f11e829bddb1f0f9
ORGANIZER:Volleyball
SEQUENCE:261110313
LOCATION:Josef-Schlicht-Grundschule, August-Schmieder-Straße 54, 94377
  Steinach
GEO:48.95359800000000000000;12.61405900000000000000
SUMMARY:BKLNO Fr.: Wilde Wespen Steinach II - FC-DJK Tiefenbach II
CLASS:PUBLIC
DTSTART:20181124T130000Z
DTSTAMP:20181127T224800Z
END:VEVENT
BEGIN:VEVENT
UID:200770-0b1cb5f82de24c98f11e829bddb1f0f9
X-WR-RELCALID:200770-0b1cb5f82de24c98f11e829bddb1f0f9
ORGANIZER:Volleyball
SEQUENCE:261110313
LOCATION:Josef-Schlicht-Grundschule, August-Schmieder-Straße 54, 94377
  Steinach
GEO:48.95359800000000000000;12.61405900000000000000
SUMMARY:BKLNO Fr.: TV Viechtach - FC-DJK Tiefenbach II
CLASS:PUBLIC
DTSTART:20181124T130000Z
DTSTAMP:20181127T225200Z
END:VEVENT
BEGIN:VEVENT
UID:200771-0b1cb5f82de24c98f11e829bddb1f0f9
X-WR-RELCALID:200771-0b1cb5f82de24c98f11e829bddb1f0f9
ORGANIZER:Volleyball
SEQUENCE:261110313
LOCATION:Dreifachhalle, Jahnstr. 38, 94234 Viechtach
GEO:49.07335315755755500000;12.88302096427918000000
SUMMARY:BKLNO Fr.: TV Viechtach - SG TSV Bad Griesbach/FC Fürstenzell
CLASS:PUBLIC
DTSTART:20181201T120000Z
DTSTAMP:20181206T201600Z
END:VEVENT
BEGIN:VEVENT
UID:200772-0b1cb5f82de24c98f11e829bddb1f0f9
X-WR-RELCALID:200772-0b1cb5f82de24c98f11e829bddb1f0f9
ORGANIZER:Volleyball
SEQUENCE:261110313
LOCATION:Dreifachhalle, Jahnstr. 38, 94234 Viechtach
GEO:49.07335315755755500000;12.88302096427918000000
SUMMARY:BKLNO Fr.: TV Viechtach - SV Tettenweis
CLASS:PUBLIC
DTSTART:20181201T120000Z
DTSTAMP:20181206T202100Z
END:VEVENT
BEGIN:VEVENT
UID:200773-0b1cb5f82de24c98f11e829bddb1f0f9
X-WR-RELCALID:200773-0b1cb5f82de24c98f11e829bddb1f0f9
ORGANIZER:Volleyball
SEQUENCE:261110313
LOCATION:Dreifachhalle, Jahnstr. 38, 94234 Viechtach
GEO:49.07335315755755500000;12.88302096427918000000
SUMMARY:BKLNO Fr.: SG TSV Bad Griesbach/FC Fürstenzell - SV Tettenweis
 
CLASS:PUBLIC
DTSTART:20181201T120000Z
DTSTAMP:20181206T202400Z
END:VEVENT
BEGIN:VEVENT
UID:200775-0b1cb5f82de24c98f11e829bddb1f0f9
X-WR-RELCALID:200775-0b1cb5f82de24c98f11e829bddb1f0f9
ORGANIZER:Volleyball
SEQUENCE:261110313
LOCATION:Dreifachhalle, Jahnstr. 38, 94234 Viechtach
GEO:49.07335315755755500000;12.88302096427918000000
SUMMARY:BKLNO Fr.: TV Viechtach - TSV Waldkirchen II
CLASS:PUBLIC
DTSTART:20181208T130000Z
DTSTAMP:20181215T091600Z
END:VEVENT
BEGIN:VEVENT
UID:200774-0b1cb5f82de24c98f11e829bddb1f0f9
X-WR-RELCALID:200774-0b1cb5f82de24c98f11e829bddb1f0f9
ORGANIZER:Volleyball
SEQUENCE:261110313
LOCATION:Dreifachhalle, Jahnstr. 38, 94234 Viechtach
GEO:49.07335315755755500000;12.88302096427918000000
SUMMARY:BKLNO Fr.: TV Viechtach - SV Aicha v.W.
CLASS:PUBLIC
DTSTART:20181208T130000Z
DTSTAMP:20181215T092200Z
END:VEVENT
BEGIN:VEVENT
UID:200776-0b1cb5f82de24c98f11e829bddb1f0f9
X-WR-RELCALID:200776-0b1cb5f82de24c98f11e829bddb1f0f9
ORGANIZER:Volleyball
SEQUENCE:261110313
LOCATION:Dreifachhalle, Jahnstr. 38, 94234 Viechtach
GEO:49.07335315755755500000;12.88302096427918000000
SUMMARY:BKLNO Fr.: SV Aicha v.W. - TSV Waldkirchen II
CLASS:PUBLIC
DTSTART:20181208T130000Z
DTSTAMP:20181215T093100Z
END:VEVENT
BEGIN:VEVENT
UID:200777-0b1cb5f82de24c98f11e829bddb1f0f9
X-WR-RELCALID:200777-0b1cb5f82de24c98f11e829bddb1f0f9
ORGANIZER:Volleyball
SEQUENCE:261110313
LOCATION:Turnhalle, Badstr., 94167 Tettenweis
GEO:48.44581663112495600000;13.26893823544310200000
SUMMARY:BKLNO Fr.: SV Tettenweis - Wilde Wespen Steinach II
CLASS:PUBLIC
DTSTART:20181208T130000Z
DTSTAMP:20181213T225700Z
END:VEVENT
BEGIN:VEVENT
UID:200778-0b1cb5f82de24c98f11e829bddb1f0f9
X-WR-RELCALID:200778-0b1cb5f82de24c98f11e829bddb1f0f9
ORGANIZER:Volleyball
SEQUENCE:261110313
LOCATION:Turnhalle, Badstr., 94167 Tettenweis
GEO:48.44581663112495600000;13.26893823544310200000
SUMMARY:BKLNO Fr.: SV Tettenweis - VC/DJK Passau
CLASS:PUBLIC
DTSTART:20181208T130000Z
DTSTAMP:20181213T225000Z
END:VEVENT
BEGIN:VEVENT
UID:200779-0b1cb5f82de24c98f11e829bddb1f0f9
X-WR-RELCALID:200779-0b1cb5f82de24c98f11e829bddb1f0f9
ORGANIZER:Volleyball
SEQUENCE:261110313
LOCATION:Turnhalle, Badstr., 94167 Tettenweis
GEO:48.44581663112495600000;13.26893823544310200000
SUMMARY:BKLNO Fr.: Wilde Wespen Steinach II - VC/DJK Passau
CLASS:PUBLIC
DTSTART:20181208T130000Z
DTSTAMP:20181213T230000Z
END:VEVENT
BEGIN:VEVENT
UID:200780-0b1cb5f82de24c98f11e829bddb1f0f9
X-WR-RELCALID:200780-0b1cb5f82de24c98f11e829bddb1f0f9
ORGANIZER:Volleyball
SEQUENCE:261110313
LOCATION:Maristengymnasium, Schulstraße 18, 94081 Fürstenzell
GEO:48.51993830805979000000;13.32349688095087000000
SUMMARY:BKLNO Fr.: SG TSV Bad Griesbach/FC Fürstenzell - TSV Plattling
 
CLASS:PUBLIC
DTSTART:20181208T130000Z
DTSTAMP:20181211T165000Z
END:VEVENT
BEGIN:VEVENT
UID:200781-0b1cb5f82de24c98f11e829bddb1f0f9
X-WR-RELCALID:200781-0b1cb5f82de24c98f11e829bddb1f0f9
ORGANIZER:Volleyball
SEQUENCE:261110313
LOCATION:Maristengymnasium, Schulstraße 18, 94081 Fürstenzell
GEO:48.51993830805979000000;13.32349688095087000000
SUMMARY:BKLNO Fr.: SG TSV Bad Griesbach/FC Fürstenzell - FC-DJK Tiefen
 bach II
CLASS:PUBLIC
DTSTART:20181208T130000Z
DTSTAMP:20181211T164700Z
END:VEVENT
BEGIN:VEVENT
UID:200782-0b1cb5f82de24c98f11e829bddb1f0f9
X-WR-RELCALID:200782-0b1cb5f82de24c98f11e829bddb1f0f9
ORGANIZER:Volleyball
SEQUENCE:261110313
LOCATION:Maristengymnasium, Schulstraße 18, 94081 Fürstenzell
GEO:48.51993830805979000000;13.32349688095087000000
SUMMARY:BKLNO Fr.: TSV Plattling - FC-DJK Tiefenbach II
CLASS:PUBLIC
DTSTART:20181208T130000Z
DTSTAMP:20181211T164300Z
END:VEVENT
BEGIN:VEVENT
UID:200783-0b1cb5f82de24c98f11e829bddb1f0f9
X-WR-RELCALID:200783-0b1cb5f82de24c98f11e829bddb1f0f9
ORGANIZER:Volleyball
SEQUENCE:261110313
LOCATION:Maristengymnasium, Schulstraße 18, 94081 Fürstenzell
GEO:48.51993830805979000000;13.32349688095087000000
SUMMARY:BKLNO Fr.: SG TSV Bad Griesbach/FC Fürstenzell - SV Aicha v.W.
 
CLASS:PUBLIC
DTSTART:20190112T130000Z
DTSTAMP:20190115T195900Z
END:VEVENT
BEGIN:VEVENT
UID:200784-0b1cb5f82de24c98f11e829bddb1f0f9
X-WR-RELCALID:200784-0b1cb5f82de24c98f11e829bddb1f0f9
ORGANIZER:Volleyball
SEQUENCE:261110313
LOCATION:Maristengymnasium, Schulstraße 18, 94081 Fürstenzell
GEO:48.51993830805979000000;13.32349688095087000000
SUMMARY:BKLNO Fr.: SG TSV Bad Griesbach/FC Fürstenzell - VC/DJK Passau
 
CLASS:PUBLIC
DTSTART:20190112T130000Z
DTSTAMP:20190115T195800Z
END:VEVENT
BEGIN:VEVENT
UID:200785-0b1cb5f82de24c98f11e829bddb1f0f9
X-WR-RELCALID:200785-0b1cb5f82de24c98f11e829bddb1f0f9
ORGANIZER:Volleyball
SEQUENCE:261110313
LOCATION:Maristengymnasium, Schulstraße 18, 94081 Fürstenzell
GEO:48.51993830805979000000;13.32349688095087000000
SUMMARY:BKLNO Fr.: SV Aicha v.W. - VC/DJK Passau
CLASS:PUBLIC
DTSTART:20190112T130000Z
DTSTAMP:20190115T195200Z
END:VEVENT
BEGIN:VEVENT
UID:200786-0b1cb5f82de24c98f11e829bddb1f0f9
X-WR-RELCALID:200786-0b1cb5f82de24c98f11e829bddb1f0f9
ORGANIZER:Volleyball
SEQUENCE:261110313
LOCATION:Realschule, Salvatorstraße 17, 94447 Plattling
GEO:48.78401600000000000000;12.86554200000000000000
SUMMARY:BKLNO Fr.: TSV Plattling - TV Viechtach
CLASS:PUBLIC
DTSTART:20190112T130000Z
DTSTAMP:20190116T210900Z
END:VEVENT
BEGIN:VEVENT
UID:200787-0b1cb5f82de24c98f11e829bddb1f0f9
X-WR-RELCALID:200787-0b1cb5f82de24c98f11e829bddb1f0f9
ORGANIZER:Volleyball
SEQUENCE:261110313
LOCATION:Realschule, Salvatorstraße 17, 94447 Plattling
GEO:48.78401600000000000000;12.86554200000000000000
SUMMARY:BKLNO Fr.: TSV Plattling - SV Tettenweis
CLASS:PUBLIC
DTSTART:20190112T130000Z
DTSTAMP:20190116T210500Z
END:VEVENT
BEGIN:VEVENT
UID:200788-0b1cb5f82de24c98f11e829bddb1f0f9
X-WR-RELCALID:200788-0b1cb5f82de24c98f11e829bddb1f0f9
ORGANIZER:Volleyball
SEQUENCE:261110313
LOCATION:Realschule, Salvatorstraße 17, 94447 Plattling
GEO:48.78401600000000000000;12.86554200000000000000
SUMMARY:BKLNO Fr.: TV Viechtach - SV Tettenweis
CLASS:PUBLIC
DTSTART:20190112T130000Z
DTSTAMP:20190116T211200Z
END:VEVENT
BEGIN:VEVENT
UID:200789-0b1cb5f82de24c98f11e829bddb1f0f9
X-WR-RELCALID:200789-0b1cb5f82de24c98f11e829bddb1f0f9
ORGANIZER:Volleyball
SEQUENCE:261110313
LOCATION:Mehrzweckhalle, Bäckerreuthweg, 94113 Tiefenbach
GEO:48.62566400000000000000;13.39711100000000000000
SUMMARY:BKLNO Fr.: FC-DJK Tiefenbach II - TSV Waldkirchen II
CLASS:PUBLIC
DTSTART:20190112T130000Z
DTSTAMP:20190116T210000Z
END:VEVENT
BEGIN:VEVENT
UID:200790-0b1cb5f82de24c98f11e829bddb1f0f9
X-WR-RELCALID:200790-0b1cb5f82de24c98f11e829bddb1f0f9
ORGANIZER:Volleyball
SEQUENCE:261110313
LOCATION:Mehrzweckhalle, Bäckerreuthweg, 94113 Tiefenbach
GEO:48.62566400000000000000;13.39711100000000000000
SUMMARY:BKLNO Fr.: FC-DJK Tiefenbach II - Wilde Wespen Steinach II
CLASS:PUBLIC
DTSTART:20190112T130000Z
DTSTAMP:20190116T211700Z
END:VEVENT
BEGIN:VEVENT
UID:200791-0b1cb5f82de24c98f11e829bddb1f0f9
X-WR-RELCALID:200791-0b1cb5f82de24c98f11e829bddb1f0f9
ORGANIZER:Volleyball
SEQUENCE:261110313
LOCATION:Mehrzweckhalle, Bäckerreuthweg, 94113 Tiefenbach
GEO:48.62566400000000000000;13.39711100000000000000
SUMMARY:BKLNO Fr.: TSV Waldkirchen II - Wilde Wespen Steinach II
CLASS:PUBLIC
DTSTART:20190112T130000Z
DTSTAMP:20190116T212000Z
END:VEVENT
BEGIN:VEVENT
UID:200792-0b1cb5f82de24c98f11e829bddb1f0f9
X-WR-RELCALID:200792-0b1cb5f82de24c98f11e829bddb1f0f9
ORGANIZER:Volleyball
SEQUENCE:261110313
LOCATION:Josef-Schlicht-Grundschule, August-Schmieder-Straße 54, 94377
  Steinach
GEO:48.95359800000000000000;12.61405900000000000000
SUMMARY:BKLNO Fr.: Wilde Wespen Steinach II - SG TSV Bad Griesbach/FC 
 Fürstenzell
CLASS:PUBLIC
DTSTART:20190126T130000Z
DTSTAMP:20190310T164600Z
END:VEVENT
BEGIN:VEVENT
UID:200793-0b1cb5f82de24c98f11e829bddb1f0f9
X-WR-RELCALID:200793-0b1cb5f82de24c98f11e829bddb1f0f9
ORGANIZER:Volleyball
SEQUENCE:261110313
LOCATION:Josef-Schlicht-Grundschule, August-Schmieder-Straße 54, 94377
  Steinach
GEO:48.95359800000000000000;12.61405900000000000000
SUMMARY:BKLNO Fr.: Wilde Wespen Steinach II - TSV Plattling
CLASS:PUBLIC
DTSTART:20190126T130000Z
DTSTAMP:20190130T204200Z
END:VEVENT
BEGIN:VEVENT
UID:200794-0b1cb5f82de24c98f11e829bddb1f0f9
X-WR-RELCALID:200794-0b1cb5f82de24c98f11e829bddb1f0f9
ORGANIZER:Volleyball
SEQUENCE:261110313
LOCATION:Josef-Schlicht-Grundschule, August-Schmieder-Straße 54, 94377
  Steinach
GEO:48.95359800000000000000;12.61405900000000000000
SUMMARY:BKLNO Fr.: SG TSV Bad Griesbach/FC Fürstenzell - TSV Plattling
 
CLASS:PUBLIC
DTSTART:20190126T130000Z
DTSTAMP:20190310T164700Z
END:VEVENT
BEGIN:VEVENT
UID:200795-0b1cb5f82de24c98f11e829bddb1f0f9
X-WR-RELCALID:200795-0b1cb5f82de24c98f11e829bddb1f0f9
ORGANIZER:Volleyball
SEQUENCE:261110313
LOCATION:Hauptschule, Schulstr. 10, 94529 Aicha v.W.
GEO:48.67288000000000000000;13.28994400000000000000
SUMMARY:BKLNO Fr.: SV Aicha v.W. - FC-DJK Tiefenbach II
CLASS:PUBLIC
DTSTART:20190126T130000Z
DTSTAMP:20190129T192600Z
END:VEVENT
BEGIN:VEVENT
UID:200796-0b1cb5f82de24c98f11e829bddb1f0f9
X-WR-RELCALID:200796-0b1cb5f82de24c98f11e829bddb1f0f9
ORGANIZER:Volleyball
SEQUENCE:261110313
LOCATION:Hauptschule, Schulstr. 10, 94529 Aicha v.W.
GEO:48.67288000000000000000;13.28994400000000000000
SUMMARY:BKLNO Fr.: SV Aicha v.W. - TV Viechtach
CLASS:PUBLIC
DTSTART:20190126T130000Z
DTSTAMP:20190129T192300Z
END:VEVENT
BEGIN:VEVENT
UID:200797-0b1cb5f82de24c98f11e829bddb1f0f9
X-WR-RELCALID:200797-0b1cb5f82de24c98f11e829bddb1f0f9
ORGANIZER:Volleyball
SEQUENCE:261110313
LOCATION:Hauptschule, Schulstr. 10, 94529 Aicha v.W.
GEO:48.67288000000000000000;13.28994400000000000000
SUMMARY:BKLNO Fr.: FC-DJK Tiefenbach II - TV Viechtach
CLASS:PUBLIC
DTSTART:20190126T130000Z
DTSTAMP:20190129T192100Z
END:VEVENT
BEGIN:VEVENT
UID:200798-0b1cb5f82de24c98f11e829bddb1f0f9
X-WR-RELCALID:200798-0b1cb5f82de24c98f11e829bddb1f0f9
ORGANIZER:Volleyball
SEQUENCE:261110313
LOCATION:Dreifachhalle, Jahnstr. 38, 94234 Viechtach
GEO:49.07335315755755500000;12.88302096427918000000
SUMMARY:BKLNO Fr.: TV Viechtach - VC/DJK Passau
CLASS:PUBLIC
DTSTART:20190209T130000Z
DTSTAMP:20190212T191100Z
END:VEVENT
BEGIN:VEVENT
UID:200799-0b1cb5f82de24c98f11e829bddb1f0f9
X-WR-RELCALID:200799-0b1cb5f82de24c98f11e829bddb1f0f9
ORGANIZER:Volleyball
SEQUENCE:261110313
LOCATION:Dreifachhalle, Jahnstr. 38, 94234 Viechtach
GEO:49.07335315755755500000;12.88302096427918000000
SUMMARY:BKLNO Fr.: TV Viechtach - Wilde Wespen Steinach II
CLASS:PUBLIC
DTSTART:20190209T130000Z
DTSTAMP:20190212T191300Z
END:VEVENT
BEGIN:VEVENT
UID:200800-0b1cb5f82de24c98f11e829bddb1f0f9
X-WR-RELCALID:200800-0b1cb5f82de24c98f11e829bddb1f0f9
ORGANIZER:Volleyball
SEQUENCE:261110313
LOCATION:Dreifachhalle, Jahnstr. 38, 94234 Viechtach
GEO:49.07335315755755500000;12.88302096427918000000
SUMMARY:BKLNO Fr.: VC/DJK Passau - Wilde Wespen Steinach II
CLASS:PUBLIC
DTSTART:20190209T130000Z
DTSTAMP:20190212T191600Z
END:VEVENT
BEGIN:VEVENT
UID:200803-0b1cb5f82de24c98f11e829bddb1f0f9
X-WR-RELCALID:200803-0b1cb5f82de24c98f11e829bddb1f0f9
ORGANIZER:Volleyball
SEQUENCE:261110313
LOCATION:Gymnasiumhalle, Schulstraße 2, 94065 Waldkirchen
GEO:48.72788000000000000000;13.60700000000000000000
SUMMARY:BKLNO Fr.: SV Aicha v.W. - TSV Plattling
CLASS:PUBLIC
DTSTART:20190209T130000Z
DTSTAMP:20190213T211500Z
END:VEVENT
BEGIN:VEVENT
UID:200802-0b1cb5f82de24c98f11e829bddb1f0f9
X-WR-RELCALID:200802-0b1cb5f82de24c98f11e829bddb1f0f9
ORGANIZER:Volleyball
SEQUENCE:261110313
LOCATION:Gymnasiumhalle, Schulstraße 2, 94065 Waldkirchen
GEO:48.72788000000000000000;13.60700000000000000000
SUMMARY:BKLNO Fr.: TSV Waldkirchen II - TSV Plattling
CLASS:PUBLIC
DTSTART:20190209T130000Z
DTSTAMP:20190213T211100Z
END:VEVENT
BEGIN:VEVENT
UID:200801-0b1cb5f82de24c98f11e829bddb1f0f9
X-WR-RELCALID:200801-0b1cb5f82de24c98f11e829bddb1f0f9
ORGANIZER:Volleyball
SEQUENCE:261110313
LOCATION:Gymnasiumhalle, Schulstraße 2, 94065 Waldkirchen
GEO:48.72788000000000000000;13.60700000000000000000
SUMMARY:BKLNO Fr.: TSV Waldkirchen II - SV Aicha v.W.
CLASS:PUBLIC
DTSTART:20190209T130000Z
DTSTAMP:20190213T210800Z
END:VEVENT
BEGIN:VEVENT
UID:200804-0b1cb5f82de24c98f11e829bddb1f0f9
X-WR-RELCALID:200804-0b1cb5f82de24c98f11e829bddb1f0f9
ORGANIZER:Volleyball
SEQUENCE:261110313
LOCATION:Turnhalle, Badstr., 94167 Tettenweis
GEO:48.44581663112495600000;13.26893823544310200000
SUMMARY:BKLNO Fr.: SV Tettenweis - SG TSV Bad Griesbach/FC Fürstenzell
 
CLASS:PUBLIC
DTSTART:20190216T130000Z
DTSTAMP:20190219T193600Z
END:VEVENT
BEGIN:VEVENT
UID:200805-0b1cb5f82de24c98f11e829bddb1f0f9
X-WR-RELCALID:200805-0b1cb5f82de24c98f11e829bddb1f0f9
ORGANIZER:Volleyball
SEQUENCE:261110313
LOCATION:Turnhalle, Badstr., 94167 Tettenweis
GEO:48.44581663112495600000;13.26893823544310200000
SUMMARY:BKLNO Fr.: SV Tettenweis - FC-DJK Tiefenbach II
CLASS:PUBLIC
DTSTART:20190216T130000Z
DTSTAMP:20190219T193900Z
END:VEVENT
BEGIN:VEVENT
UID:200806-0b1cb5f82de24c98f11e829bddb1f0f9
X-WR-RELCALID:200806-0b1cb5f82de24c98f11e829bddb1f0f9
ORGANIZER:Volleyball
SEQUENCE:261110313
LOCATION:Turnhalle, Badstr., 94167 Tettenweis
GEO:48.44581663112495600000;13.26893823544310200000
SUMMARY:BKLNO Fr.: SG TSV Bad Griesbach/FC Fürstenzell - FC-DJK Tiefen
 bach II
CLASS:PUBLIC
DTSTART:20190216T130000Z
DTSTAMP:20190219T194200Z
END:VEVENT
BEGIN:VEVENT
UID:200807-0b1cb5f82de24c98f11e829bddb1f0f9
X-WR-RELCALID:200807-0b1cb5f82de24c98f11e829bddb1f0f9
ORGANIZER:Volleyball
SEQUENCE:261110313
LOCATION:Volksschulturnhalle, Seilerberg 16, 94086 Bad Griesbach
GEO:48.45317518223115000000;13.19771827976228500000
SUMMARY:BKLNO Fr.: SG TSV Bad Griesbach/FC Fürstenzell - TSV Waldkirch
 en II
CLASS:PUBLIC
DTSTART:20190223T130000Z
DTSTAMP:20190226T192500Z
END:VEVENT
BEGIN:VEVENT
UID:200808-0b1cb5f82de24c98f11e829bddb1f0f9
X-WR-RELCALID:200808-0b1cb5f82de24c98f11e829bddb1f0f9
ORGANIZER:Volleyball
SEQUENCE:261110313
LOCATION:Volksschulturnhalle, Seilerberg 16, 94086 Bad Griesbach
GEO:48.45317518223115000000;13.19771827976228500000
SUMMARY:BKLNO Fr.: SG TSV Bad Griesbach/FC Fürstenzell - TV Viechtach
CLASS:PUBLIC
DTSTART:20190223T130000Z
DTSTAMP:20190226T192800Z
END:VEVENT
BEGIN:VEVENT
UID:200809-0b1cb5f82de24c98f11e829bddb1f0f9
X-WR-RELCALID:200809-0b1cb5f82de24c98f11e829bddb1f0f9
ORGANIZER:Volleyball
SEQUENCE:261110313
LOCATION:Volksschulturnhalle, Seilerberg 16, 94086 Bad Griesbach
GEO:48.45317518223115000000;13.19771827976228500000
SUMMARY:BKLNO Fr.: TSV Waldkirchen II - TV Viechtach
CLASS:PUBLIC
DTSTART:20190223T130000Z
DTSTAMP:20190226T193000Z
END:VEVENT
BEGIN:VEVENT
UID:200810-0b1cb5f82de24c98f11e829bddb1f0f9
X-WR-RELCALID:200810-0b1cb5f82de24c98f11e829bddb1f0f9
ORGANIZER:Volleyball
SEQUENCE:261110313
LOCATION:Realschule, Salvatorstraße 17, 94447 Plattling
GEO:48.78401600000000000000;12.86554200000000000000
SUMMARY:BKLNO Fr.: TSV Plattling - FC-DJK Tiefenbach II
CLASS:PUBLIC
DTSTART:20190223T130000Z
DTSTAMP:20190226T193500Z
END:VEVENT
BEGIN:VEVENT
UID:200811-0b1cb5f82de24c98f11e829bddb1f0f9
X-WR-RELCALID:200811-0b1cb5f82de24c98f11e829bddb1f0f9
ORGANIZER:Volleyball
SEQUENCE:261110313
LOCATION:Realschule, Salvatorstraße 17, 94447 Plattling
GEO:48.78401600000000000000;12.86554200000000000000
SUMMARY:BKLNO Fr.: TSV Plattling - VC/DJK Passau
CLASS:PUBLIC
DTSTART:20190223T130000Z
DTSTAMP:20190226T193900Z
END:VEVENT
BEGIN:VEVENT
UID:200812-0b1cb5f82de24c98f11e829bddb1f0f9
X-WR-RELCALID:200812-0b1cb5f82de24c98f11e829bddb1f0f9
ORGANIZER:Volleyball
SEQUENCE:261110313
LOCATION:Realschule, Salvatorstraße 17, 94447 Plattling
GEO:48.78401600000000000000;12.86554200000000000000
SUMMARY:BKLNO Fr.: FC-DJK Tiefenbach II - VC/DJK Passau
CLASS:PUBLIC
DTSTART:20190223T130000Z
DTSTAMP:20190226T194300Z
END:VEVENT
BEGIN:VEVENT
UID:200813-0b1cb5f82de24c98f11e829bddb1f0f9
X-WR-RELCALID:200813-0b1cb5f82de24c98f11e829bddb1f0f9
ORGANIZER:Volleyball
SEQUENCE:261110313
LOCATION:Josef-Schlicht-Grundschule, August-Schmieder-Straße 54, 94377
  Steinach
GEO:48.95359800000000000000;12.61405900000000000000
SUMMARY:BKLNO Fr.: Wilde Wespen Steinach II - SV Tettenweis
CLASS:PUBLIC
DTSTART:20190223T130000Z
DTSTAMP:20190226T194900Z
END:VEVENT
BEGIN:VEVENT
UID:200814-0b1cb5f82de24c98f11e829bddb1f0f9
X-WR-RELCALID:200814-0b1cb5f82de24c98f11e829bddb1f0f9
ORGANIZER:Volleyball
SEQUENCE:261110313
LOCATION:Josef-Schlicht-Grundschule, August-Schmieder-Straße 54, 94377
  Steinach
GEO:48.95359800000000000000;12.61405900000000000000
SUMMARY:BKLNO Fr.: Wilde Wespen Steinach II - SV Aicha v.W.
CLASS:PUBLIC
DTSTART:20190223T130000Z
DTSTAMP:20190226T195100Z
END:VEVENT
BEGIN:VEVENT
UID:200815-0b1cb5f82de24c98f11e829bddb1f0f9
X-WR-RELCALID:200815-0b1cb5f82de24c98f11e829bddb1f0f9
ORGANIZER:Volleyball
SEQUENCE:261110313
LOCATION:Josef-Schlicht-Grundschule, August-Schmieder-Straße 54, 94377
  Steinach
GEO:48.95359800000000000000;12.61405900000000000000
SUMMARY:BKLNO Fr.: SV Tettenweis - SV Aicha v.W.
CLASS:PUBLIC
DTSTART:20190223T130000Z
DTSTAMP:20190226T194600Z
END:VEVENT
BEGIN:VEVENT
UID:200816-0b1cb5f82de24c98f11e829bddb1f0f9
X-WR-RELCALID:200816-0b1cb5f82de24c98f11e829bddb1f0f9
ORGANIZER:Volleyball
SEQUENCE:261110313
LOCATION:Hauptschule, Schulstr. 10, 94529 Aicha v.W.
GEO:48.67288000000000000000;13.28994400000000000000
SUMMARY:BKLNO Fr.: SV Aicha v.W. - SG TSV Bad Griesbach/FC Fürstenzell
 
CLASS:PUBLIC
DTSTART:20190309T130000Z
DTSTAMP:20190313T203800Z
END:VEVENT
BEGIN:VEVENT
UID:200817-0b1cb5f82de24c98f11e829bddb1f0f9
X-WR-RELCALID:200817-0b1cb5f82de24c98f11e829bddb1f0f9
ORGANIZER:Volleyball
SEQUENCE:261110313
LOCATION:Hauptschule, Schulstr. 10, 94529 Aicha v.W.
GEO:48.67288000000000000000;13.28994400000000000000
SUMMARY:BKLNO Fr.: SV Aicha v.W. - Wilde Wespen Steinach II
CLASS:PUBLIC
DTSTART:20190309T130000Z
DTSTAMP:20190313T204000Z
END:VEVENT
BEGIN:VEVENT
UID:200818-0b1cb5f82de24c98f11e829bddb1f0f9
X-WR-RELCALID:200818-0b1cb5f82de24c98f11e829bddb1f0f9
ORGANIZER:Volleyball
SEQUENCE:261110313
LOCATION:Hauptschule, Schulstr. 10, 94529 Aicha v.W.
GEO:48.67288000000000000000;13.28994400000000000000
SUMMARY:BKLNO Fr.: SG TSV Bad Griesbach/FC Fürstenzell - Wilde Wespen 
 Steinach II
CLASS:PUBLIC
DTSTART:20190309T130000Z
DTSTAMP:20190313T204200Z
END:VEVENT
BEGIN:VEVENT
UID:200819-0b1cb5f82de24c98f11e829bddb1f0f9
X-WR-RELCALID:200819-0b1cb5f82de24c98f11e829bddb1f0f9
ORGANIZER:Volleyball
SEQUENCE:261110313
LOCATION:Dreifachturnhalle, Neuburger Str. 96d, 94032 Passau
GEO:48.56637339932234400000;13.43494097882080500000
SUMMARY:BKLNO Fr.: VC/DJK Passau - SV Tettenweis
CLASS:PUBLIC
DTSTART:20190316T130000Z
DTSTAMP:20190322T151600Z
END:VEVENT
BEGIN:VEVENT
UID:200820-0b1cb5f82de24c98f11e829bddb1f0f9
X-WR-RELCALID:200820-0b1cb5f82de24c98f11e829bddb1f0f9
ORGANIZER:Volleyball
SEQUENCE:261110313
LOCATION:Dreifachturnhalle, Neuburger Str. 96d, 94032 Passau
GEO:48.56637339932234400000;13.43494097882080500000
SUMMARY:BKLNO Fr.: VC/DJK Passau - TSV Waldkirchen II
CLASS:PUBLIC
DTSTART:20190316T130000Z
DTSTAMP:20190322T151400Z
END:VEVENT
BEGIN:VEVENT
UID:200821-0b1cb5f82de24c98f11e829bddb1f0f9
X-WR-RELCALID:200821-0b1cb5f82de24c98f11e829bddb1f0f9
ORGANIZER:Volleyball
SEQUENCE:261110313
LOCATION:Dreifachturnhalle, Neuburger Str. 96d, 94032 Passau
GEO:48.56637339932234400000;13.43494097882080500000
SUMMARY:BKLNO Fr.: SV Tettenweis - TSV Waldkirchen II
CLASS:PUBLIC
DTSTART:20190316T130000Z
DTSTAMP:20190322T152000Z
END:VEVENT
END:VCALENDAR