BEGIN:VCALENDAR
VERSION:2.0
PRODID:VSD-Portal-www.volley.de
METHOD:PUBLISH
BEGIN:VEVENT
UID:201905-0b1cb5f82de24c98f11e829bddb1f0f9
X-WR-RELCALID:201905-0b1cb5f82de24c98f11e829bddb1f0f9
ORGANIZER:Volleyball
SEQUENCE:261160258
LOCATION:Wittelsbacher Halle, Fliederstraße 70, 82110 Germering
GEO:48.13517214333969000000;11.37890526256558100000
SUMMARY:BKL2 Fr.: SV Germering II - TSV Unterpf.-Germering
CLASS:PUBLIC
DTSTART:20181014T100000Z
DTSTAMP:20181027T192600Z
END:VEVENT
BEGIN:VEVENT
UID:201907-0b1cb5f82de24c98f11e829bddb1f0f9
X-WR-RELCALID:201907-0b1cb5f82de24c98f11e829bddb1f0f9
ORGANIZER:Volleyball
SEQUENCE:261160258
LOCATION:Wittelsbacher Halle, Fliederstraße 70, 82110 Germering
GEO:48.13517214333969000000;11.37890526256558100000
SUMMARY:BKL2 Fr.: TSV Unterpf.-Germering - PSV München IV
CLASS:PUBLIC
DTSTART:20181014T100000Z
DTSTAMP:20181027T193100Z
END:VEVENT
BEGIN:VEVENT
UID:201925-0b1cb5f82de24c98f11e829bddb1f0f9
X-WR-RELCALID:201925-0b1cb5f82de24c98f11e829bddb1f0f9
ORGANIZER:Volleyball
SEQUENCE:261160258
LOCATION:TSV Sportzentrum, Alfons-Baumann-Straße 7, 82110 Germering
GEO:48.12313000000000000000;11.35590000000000000000
SUMMARY:BKL2 Fr.: TSV Unterpf.-Germering - TSV Schongau
CLASS:PUBLIC
DTSTART:20181117T130000Z
DTSTAMP:20181119T205000Z
END:VEVENT
BEGIN:VEVENT
UID:201926-0b1cb5f82de24c98f11e829bddb1f0f9
X-WR-RELCALID:201926-0b1cb5f82de24c98f11e829bddb1f0f9
ORGANIZER:Volleyball
SEQUENCE:261160258
LOCATION:TSV Sportzentrum, Alfons-Baumann-Straße 7, 82110 Germering
GEO:48.12313000000000000000;11.35590000000000000000
SUMMARY:BKL2 Fr.: TSV Unterpf.-Germering - FC Weil e.V.
CLASS:PUBLIC
DTSTART:20181117T130000Z
DTSTAMP:20181119T205300Z
END:VEVENT
BEGIN:VEVENT
UID:201929-0b1cb5f82de24c98f11e829bddb1f0f9
X-WR-RELCALID:201929-0b1cb5f82de24c98f11e829bddb1f0f9
ORGANIZER:Volleyball
SEQUENCE:261160258
LOCATION:Mehrzweckhalle, Schloßstraße 21, 82140 Esting
GEO:48.20967000000000000000;11.31607000000000000000
SUMMARY:BKL2 Fr.: SV Esting III - TSV Unterpf.-Germering
CLASS:PUBLIC
DTSTART:20181124T110000Z
DTSTAMP:20181207T025800Z
END:VEVENT
BEGIN:VEVENT
UID:201931-0b1cb5f82de24c98f11e829bddb1f0f9
X-WR-RELCALID:201931-0b1cb5f82de24c98f11e829bddb1f0f9
ORGANIZER:Volleyball
SEQUENCE:261160258
LOCATION:Mehrzweckhalle, Schloßstraße 21, 82140 Esting
GEO:48.20967000000000000000;11.31607000000000000000
SUMMARY:BKL2 Fr.: TSV Unterpf.-Germering - SV Inning
CLASS:PUBLIC
DTSTART:20181124T110000Z
DTSTAMP:20181207T030500Z
END:VEVENT
BEGIN:VEVENT
UID:201932-0b1cb5f82de24c98f11e829bddb1f0f9
X-WR-RELCALID:201932-0b1cb5f82de24c98f11e829bddb1f0f9
ORGANIZER:Volleyball
SEQUENCE:261160258
LOCATION:TSV Sportzentrum, Alfons-Baumann-Straße 7, 82110 Germering
GEO:48.12313000000000000000;11.35590000000000000000
SUMMARY:BKL2 Fr.: TSV Unterpf.-Germering - SV Inning
CLASS:PUBLIC
DTSTART:20181201T130000Z
DTSTAMP:20181201T205200Z
END:VEVENT
BEGIN:VEVENT
UID:201933-0b1cb5f82de24c98f11e829bddb1f0f9
X-WR-RELCALID:201933-0b1cb5f82de24c98f11e829bddb1f0f9
ORGANIZER:Volleyball
SEQUENCE:261160258
LOCATION:TSV Sportzentrum, Alfons-Baumann-Straße 7, 82110 Germering
GEO:48.12313000000000000000;11.35590000000000000000
SUMMARY:BKL2 Fr.: TSV Unterpf.-Germering - TSG Maisach
CLASS:PUBLIC
DTSTART:20181201T130000Z
DTSTAMP:20181201T205500Z
END:VEVENT
BEGIN:VEVENT
UID:201948-0b1cb5f82de24c98f11e829bddb1f0f9
X-WR-RELCALID:201948-0b1cb5f82de24c98f11e829bddb1f0f9
ORGANIZER:Volleyball
SEQUENCE:261160258
LOCATION:Sporthalle der FOS/BOS, Südliche Ingolstädter Str. 1, 85716 U
 nterschleißheim
GEO:48.28839000000000000000;11.58330000000000000000
SUMMARY:BKL2 Fr.: SV Lohhof IV - TSV Unterpf.-Germering
CLASS:PUBLIC
DTSTART:20190112T130000Z
DTSTAMP:20190118T141400Z
END:VEVENT
BEGIN:VEVENT
UID:201949-0b1cb5f82de24c98f11e829bddb1f0f9
X-WR-RELCALID:201949-0b1cb5f82de24c98f11e829bddb1f0f9
ORGANIZER:Volleyball
SEQUENCE:261160258
LOCATION:Sporthalle der FOS/BOS, Südliche Ingolstädter Str. 1, 85716 U
 nterschleißheim
GEO:48.28839000000000000000;11.58330000000000000000
SUMMARY:BKL2 Fr.: SV Haspelmoor - TSV Unterpf.-Germering
CLASS:PUBLIC
DTSTART:20190112T130000Z
DTSTAMP:20190118T141700Z
END:VEVENT
BEGIN:VEVENT
UID:201956-0b1cb5f82de24c98f11e829bddb1f0f9
X-WR-RELCALID:201956-0b1cb5f82de24c98f11e829bddb1f0f9
ORGANIZER:Volleyball
SEQUENCE:261160258
LOCATION:TSV Sportzentrum, Alfons-Baumann-Straße 7, 82110 Germering
GEO:48.12313000000000000000;11.35590000000000000000
SUMMARY:BKL2 Fr.: TSV Unterpf.-Germering - SV Lohhof IV
CLASS:PUBLIC
DTSTART:20190119T130000Z
DTSTAMP:20190301T111800Z
END:VEVENT
BEGIN:VEVENT
UID:201957-0b1cb5f82de24c98f11e829bddb1f0f9
X-WR-RELCALID:201957-0b1cb5f82de24c98f11e829bddb1f0f9
ORGANIZER:Volleyball
SEQUENCE:261160258
LOCATION:TSV Sportzentrum, Alfons-Baumann-Straße 7, 82110 Germering
GEO:48.12313000000000000000;11.35590000000000000000
SUMMARY:BKL2 Fr.: TSV Unterpf.-Germering - SV Germering II
CLASS:PUBLIC
DTSTART:20190119T130000Z
DTSTAMP:20190301T112100Z
END:VEVENT
BEGIN:VEVENT
UID:201961-0b1cb5f82de24c98f11e829bddb1f0f9
X-WR-RELCALID:201961-0b1cb5f82de24c98f11e829bddb1f0f9
ORGANIZER:Volleyball
SEQUENCE:261160258
LOCATION:Orlando-di-Lasso Realschule, Lusstraße 36, 82216 Maisach
GEO:48.22027897592293000000;11.25652462698360500000
SUMMARY:BKL2 Fr.: TSG Maisach - TSV Unterpf.-Germering
CLASS:PUBLIC
DTSTART:20190202T133000Z
DTSTAMP:20190301T122000Z
END:VEVENT
BEGIN:VEVENT
UID:201960-0b1cb5f82de24c98f11e829bddb1f0f9
X-WR-RELCALID:201960-0b1cb5f82de24c98f11e829bddb1f0f9
ORGANIZER:Volleyball
SEQUENCE:261160258
LOCATION:Orlando-di-Lasso Realschule, Lusstraße 36, 82216 Maisach
GEO:48.22027897592293000000;11.25652462698360500000
SUMMARY:BKL2 Fr.: FC Weil e.V. - TSV Unterpf.-Germering
CLASS:PUBLIC
DTSTART:20190202T133000Z
DTSTAMP:20190301T122200Z
END:VEVENT
BEGIN:VEVENT
UID:201975-0b1cb5f82de24c98f11e829bddb1f0f9
X-WR-RELCALID:201975-0b1cb5f82de24c98f11e829bddb1f0f9
ORGANIZER:Volleyball
SEQUENCE:261160258
LOCATION:Mehrzweckhalle, Schloßstraße 21, 82140 Esting
GEO:48.20967000000000000000;11.31607000000000000000
SUMMARY:BKL2 Fr.: SV Esting III - TSV Unterpf.-Germering
CLASS:PUBLIC
DTSTART:20190216T130000Z
DTSTAMP:20190303T101800Z
END:VEVENT
BEGIN:VEVENT
UID:201976-0b1cb5f82de24c98f11e829bddb1f0f9
X-WR-RELCALID:201976-0b1cb5f82de24c98f11e829bddb1f0f9
ORGANIZER:Volleyball
SEQUENCE:261160258
LOCATION:Mehrzweckhalle, Schloßstraße 21, 82140 Esting
GEO:48.20967000000000000000;11.31607000000000000000
SUMMARY:BKL2 Fr.: TSV Schongau - TSV Unterpf.-Germering
CLASS:PUBLIC
DTSTART:20190216T130000Z
DTSTAMP:20190303T102100Z
END:VEVENT
BEGIN:VEVENT
UID:201980-0b1cb5f82de24c98f11e829bddb1f0f9
X-WR-RELCALID:201980-0b1cb5f82de24c98f11e829bddb1f0f9
ORGANIZER:Volleyball
SEQUENCE:261160258
LOCATION:Nelson Mandela Berufsoberschule München, Schleißheimerstraße 
 510, 80937 München
GEO:48.21373155837929400000;11.56378014680478800000
SUMMARY:BKL2 Fr.: PSV München IV - TSV Unterpf.-Germering
CLASS:PUBLIC
DTSTART:20190223T123000Z
DTSTAMP:20190301T151800Z
END:VEVENT
BEGIN:VEVENT
UID:201982-0b1cb5f82de24c98f11e829bddb1f0f9
X-WR-RELCALID:201982-0b1cb5f82de24c98f11e829bddb1f0f9
ORGANIZER:Volleyball
SEQUENCE:261160258
LOCATION:Nelson Mandela Berufsoberschule München, Schleißheimerstraße 
 510, 80937 München
GEO:48.21373155837929400000;11.56378014680478800000
SUMMARY:BKL2 Fr.: TSV Unterpf.-Germering - SV Haspelmoor
CLASS:PUBLIC
DTSTART:20190223T123000Z
DTSTAMP:20190301T152200Z
END:VEVENT
END:VCALENDAR