BEGIN:VCALENDAR
VERSION:2.0
PRODID:VSD-Portal-www.volley.de
METHOD:PUBLISH
BEGIN:VEVENT
UID:221711-0b1cb5f82de24c98f11e829bddb1f0f9
X-WR-RELCALID:221711-0b1cb5f82de24c98f11e829bddb1f0f9
ORGANIZER:Volleyball
SEQUENCE:261121823
SUMMARY:Rel BKK Mä.: TSV Konnersreuth - VC 06 Hirschaid II
CLASS:PUBLIC
DTSTART:20190406T120000Z
DTSTAMP:20190406T182800Z
END:VEVENT
BEGIN:VEVENT
UID:221713-0b1cb5f82de24c98f11e829bddb1f0f9
X-WR-RELCALID:221713-0b1cb5f82de24c98f11e829bddb1f0f9
ORGANIZER:Volleyball
SEQUENCE:261121823
SUMMARY:Rel BKK Mä.: ATS Kulmbach - TSV Konnersreuth
CLASS:PUBLIC
DTSTART:20190406T120000Z
DTSTAMP:20190406T182900Z
END:VEVENT
END:VCALENDAR