BEGIN:VCALENDAR
VERSION:2.0
PRODID:VSD-Portal-www.volley.de
METHOD:PUBLISH
BEGIN:VEVENT
UID:221551-0b1cb5f82de24c98f11e829bddb1f0f9
X-WR-RELCALID:221551-0b1cb5f82de24c98f11e829bddb1f0f9
ORGANIZER:Volleyball
SEQUENCE:261120751
LOCATION:TH Hofecker Schule, Quetschenweg 4, 95030 Hof
GEO:50.32596426351536000000;11.89187388822176700000
SUMMARY:OM U13 w: SC Memmelsdorf - VG Bamberg
CLASS:PUBLIC
DTSTART:20190210T090000Z
DTSTAMP:20190211T011400Z
END:VEVENT
END:VCALENDAR