BEGIN:VCALENDAR
VERSION:2.0
PRODID:VSD-Portal-www.volley.de
METHOD:PUBLISH
BEGIN:VEVENT
UID:18932-0b1cb5f82de24c98f11e829bddb1f0f9
X-WR-RELCALID:18932-0b1cb5f82de24c98f11e829bddb1f0f9
ORGANIZER:Volleyball
SEQUENCE:261091858
SUMMARY:Re. LL NO Fr.: VG Bamberg II - TUS Schnaittenbach
CLASS:PUBLIC
DTSTART;VALUE=DATE:20140405
DTSTAMP:20140410T125700Z
DTEND;VALUE=DATE:20140406
END:VEVENT
END:VCALENDAR