BEGIN:VCALENDAR
VERSION:2.0
PRODID:VSD-Portal-www.volley.de
METHOD:PUBLISH
BEGIN:VEVENT
UID:235838-0b1cb5f82de24c98f11e829bddb1f0f9
X-WR-RELCALID:235838-0b1cb5f82de24c98f11e829bddb1f0f9
ORGANIZER:Volleyball
SEQUENCE:261140437
LOCATION:TSV Sportzentrum, Alfons-Baumann-Straße 7, 82110 Germering
GEO:48.12313000000000000000;11.35590000000000000000
SUMMARY:BKL2 Fr.: TSV Unterpf.-Germering - SV Inning
CLASS:PUBLIC
DTSTART:20200314T130000Z
DTSTAMP:20190916T163100Z
END:VEVENT
END:VCALENDAR