BEGIN:VCALENDAR
VERSION:2.0
PRODID:VSD-Portal-www.volley.de
METHOD:PUBLISH
BEGIN:VEVENT
UID:235766-0b1cb5f82de24c98f11e829bddb1f0f9
X-WR-RELCALID:235766-0b1cb5f82de24c98f11e829bddb1f0f9
ORGANIZER:Volleyball
SEQUENCE:261141959
LOCATION:FOS/BOS Lindwurmstraße, Lindwurmstraße 90, 80337 München
GEO:48.12422000000000000000;11.54747000000000000000
SUMMARY:BKL2 Fr.: MTV München - TSV Schongau
CLASS:PUBLIC
DTSTART:20191019T120000Z
DTSTAMP:20191019T180900Z
END:VEVENT
BEGIN:VEVENT
UID:235767-0b1cb5f82de24c98f11e829bddb1f0f9
X-WR-RELCALID:235767-0b1cb5f82de24c98f11e829bddb1f0f9
ORGANIZER:Volleyball
SEQUENCE:261141959
LOCATION:FOS/BOS Lindwurmstraße, Lindwurmstraße 90, 80337 München
GEO:48.12422000000000000000;11.54747000000000000000
SUMMARY:BKL2 Fr.: MTV München - ASV Dachau II
CLASS:PUBLIC
DTSTART:20191019T120000Z
DTSTAMP:20191019T180800Z
END:VEVENT
BEGIN:VEVENT
UID:235781-0b1cb5f82de24c98f11e829bddb1f0f9
X-WR-RELCALID:235781-0b1cb5f82de24c98f11e829bddb1f0f9
ORGANIZER:Volleyball
SEQUENCE:261141959
LOCATION:FOS/BOS Lindwurmstraße, Lindwurmstraße 90, 80337 München
GEO:48.12422000000000000000;11.54747000000000000000
SUMMARY:BKL2 Fr.: MTV München - SV Lohhof IV
CLASS:PUBLIC
DTSTART:20191116T130000Z
DTSTAMP:20191116T140800Z
END:VEVENT
BEGIN:VEVENT
UID:235782-0b1cb5f82de24c98f11e829bddb1f0f9
X-WR-RELCALID:235782-0b1cb5f82de24c98f11e829bddb1f0f9
ORGANIZER:Volleyball
SEQUENCE:261141959
LOCATION:FOS/BOS Lindwurmstraße, Lindwurmstraße 90, 80337 München
GEO:48.12422000000000000000;11.54747000000000000000
SUMMARY:BKL2 Fr.: MTV München - TV Planegg Krailling IV
CLASS:PUBLIC
DTSTART:20191116T130000Z
DTSTAMP:20191116T161000Z
END:VEVENT
BEGIN:VEVENT
UID:235811-0b1cb5f82de24c98f11e829bddb1f0f9
X-WR-RELCALID:235811-0b1cb5f82de24c98f11e829bddb1f0f9
ORGANIZER:Volleyball
SEQUENCE:261141959
LOCATION:FOS/BOS Lindwurmstraße, Lindwurmstraße 90, 80337 München
GEO:48.12422000000000000000;11.54747000000000000000
SUMMARY:BKL2 Fr.: MTV München - TSV Schongau
CLASS:PUBLIC
DTSTART:20200118T130000Z
DTSTAMP:20200118T140900Z
END:VEVENT
BEGIN:VEVENT
UID:235812-0b1cb5f82de24c98f11e829bddb1f0f9
X-WR-RELCALID:235812-0b1cb5f82de24c98f11e829bddb1f0f9
ORGANIZER:Volleyball
SEQUENCE:261141959
LOCATION:FOS/BOS Lindwurmstraße, Lindwurmstraße 90, 80337 München
GEO:48.12422000000000000000;11.54747000000000000000
SUMMARY:BKL2 Fr.: MTV München - TSV Unterpf.-Germering
CLASS:PUBLIC
DTSTART:20200118T130000Z
DTSTAMP:20200118T160000Z
END:VEVENT
END:VCALENDAR