BEGIN:VCALENDAR
VERSION:2.0
PRODID:VSD-Portal-www.volley.de
METHOD:PUBLISH
BEGIN:VEVENT
UID:235757-0b1cb5f82de24c98f11e829bddb1f0f9
X-WR-RELCALID:235757-0b1cb5f82de24c98f11e829bddb1f0f9
ORGANIZER:Volleyball
SEQUENCE:261141658
LOCATION:Sportzentrum, Schornstr. 3, 82266 Inning
GEO:48.07151205714260000000;11.14422647354126600000
SUMMARY:BKL2 Fr.: SV Inning - TSV Unterpf.-Germering
CLASS:PUBLIC
DTSTART:20191005T120000Z
DTSTAMP:20191008T085200Z
END:VEVENT
BEGIN:VEVENT
UID:235758-0b1cb5f82de24c98f11e829bddb1f0f9
X-WR-RELCALID:235758-0b1cb5f82de24c98f11e829bddb1f0f9
ORGANIZER:Volleyball
SEQUENCE:261141658
LOCATION:Sportzentrum, Schornstr. 3, 82266 Inning
GEO:48.07151205714260000000;11.14422647354126600000
SUMMARY:BKL2 Fr.: SV Inning - MTV München
CLASS:PUBLIC
DTSTART:20191005T120000Z
DTSTAMP:20191008T085200Z
END:VEVENT
BEGIN:VEVENT
UID:235779-0b1cb5f82de24c98f11e829bddb1f0f9
X-WR-RELCALID:235779-0b1cb5f82de24c98f11e829bddb1f0f9
ORGANIZER:Volleyball
SEQUENCE:261141658
LOCATION:Feodor-Lynen-Gymnasium, Feodor-Lynen-Str. 1, 82152 Planegg
GEO:48.10456000000000000000;11.43447000000000000000
SUMMARY:BKL2 Fr.: TV Planegg Krailling IV - SV Inning
CLASS:PUBLIC
DTSTART:20191109T130000Z
DTSTAMP:20191109T230500Z
END:VEVENT
BEGIN:VEVENT
UID:235780-0b1cb5f82de24c98f11e829bddb1f0f9
X-WR-RELCALID:235780-0b1cb5f82de24c98f11e829bddb1f0f9
ORGANIZER:Volleyball
SEQUENCE:261141658
LOCATION:Feodor-Lynen-Gymnasium, Feodor-Lynen-Str. 1, 82152 Planegg
GEO:48.10456000000000000000;11.43447000000000000000
SUMMARY:BKL2 Fr.: ASV Dachau II - SV Inning
CLASS:PUBLIC
DTSTART:20191109T130000Z
DTSTAMP:20191109T201200Z
END:VEVENT
BEGIN:VEVENT
UID:235784-0b1cb5f82de24c98f11e829bddb1f0f9
X-WR-RELCALID:235784-0b1cb5f82de24c98f11e829bddb1f0f9
ORGANIZER:Volleyball
SEQUENCE:261141658
LOCATION:Orlando-di-Lasso Realschule, Lusstraße 36, 82216 Maisach
GEO:48.22027897592293000000;11.25652462698360500000
SUMMARY:BKL2 Fr.: TSG Maisach - SV Inning
CLASS:PUBLIC
DTSTART:20191116T130000Z
DTSTAMP:20191116T144700Z
END:VEVENT
BEGIN:VEVENT
UID:235786-0b1cb5f82de24c98f11e829bddb1f0f9
X-WR-RELCALID:235786-0b1cb5f82de24c98f11e829bddb1f0f9
ORGANIZER:Volleyball
SEQUENCE:261141658
LOCATION:Sportzentrum, Schornstr. 3, 82266 Inning
GEO:48.07151205714260000000;11.14422647354126600000
SUMMARY:BKL2 Fr.: SV Inning - TSV Schongau
CLASS:PUBLIC
DTSTART:20191206T180000Z
DTSTAMP:20191206T220500Z
END:VEVENT
BEGIN:VEVENT
UID:235797-0b1cb5f82de24c98f11e829bddb1f0f9
X-WR-RELCALID:235797-0b1cb5f82de24c98f11e829bddb1f0f9
ORGANIZER:Volleyball
SEQUENCE:261141658
LOCATION:Berufsschulen Riesstr., Riesstraße 32 - 50, 80992 München
GEO:48.18079754756488000000;11.53716269577023500000
SUMMARY:BKL2 Fr.: PSV München III - SV Inning
CLASS:PUBLIC
DTSTART:20191214T130000Z
DTSTAMP:20191214T173200Z
END:VEVENT
BEGIN:VEVENT
UID:235798-0b1cb5f82de24c98f11e829bddb1f0f9
X-WR-RELCALID:235798-0b1cb5f82de24c98f11e829bddb1f0f9
ORGANIZER:Volleyball
SEQUENCE:261141658
LOCATION:Berufsschulen Riesstr., Riesstraße 32 - 50, 80992 München
GEO:48.18079754756488000000;11.53716269577023500000
SUMMARY:BKL2 Fr.: TV Planegg Krailling IV - SV Inning
CLASS:PUBLIC
DTSTART:20191214T130000Z
DTSTAMP:20191214T195800Z
END:VEVENT
BEGIN:VEVENT
UID:235808-0b1cb5f82de24c98f11e829bddb1f0f9
X-WR-RELCALID:235808-0b1cb5f82de24c98f11e829bddb1f0f9
ORGANIZER:Volleyball
SEQUENCE:261141658
LOCATION:Sporthalle der FOS/BOS, Südliche Ingolstädter Str. 1, 85716 U
 nterschleißheim
GEO:48.28839000000000000000;11.58330000000000000000
SUMMARY:BKL2 Fr.: SV Lohhof IV - SV Inning
CLASS:PUBLIC
DTSTART:20200111T130000Z
DTSTAMP:20200111T150100Z
END:VEVENT
BEGIN:VEVENT
UID:235810-0b1cb5f82de24c98f11e829bddb1f0f9
X-WR-RELCALID:235810-0b1cb5f82de24c98f11e829bddb1f0f9
ORGANIZER:Volleyball
SEQUENCE:261141658
LOCATION:Sporthalle der FOS/BOS, Südliche Ingolstädter Str. 1, 85716 U
 nterschleißheim
GEO:48.28839000000000000000;11.58330000000000000000
SUMMARY:BKL2 Fr.: SV Inning - ASV Dachau II
CLASS:PUBLIC
DTSTART:20200111T130000Z
DTSTAMP:20200111T200700Z
END:VEVENT
BEGIN:VEVENT
UID:235817-0b1cb5f82de24c98f11e829bddb1f0f9
X-WR-RELCALID:235817-0b1cb5f82de24c98f11e829bddb1f0f9
ORGANIZER:Volleyball
SEQUENCE:261141658
LOCATION:Sportzentrum, Schornstr. 3, 82266 Inning
GEO:48.07151205714260000000;11.14422647354126600000
SUMMARY:BKL2 Fr.: SV Inning - TSV Solln
CLASS:PUBLIC
DTSTART:20200201T130000Z
DTSTAMP:20200201T140000Z
END:VEVENT
BEGIN:VEVENT
UID:235818-0b1cb5f82de24c98f11e829bddb1f0f9
X-WR-RELCALID:235818-0b1cb5f82de24c98f11e829bddb1f0f9
ORGANIZER:Volleyball
SEQUENCE:261141658
LOCATION:Sportzentrum, Schornstr. 3, 82266 Inning
GEO:48.07151205714260000000;11.14422647354126600000
SUMMARY:BKL2 Fr.: SV Inning - TSV Schongau
CLASS:PUBLIC
DTSTART:20200201T130000Z
DTSTAMP:20200201T165000Z
END:VEVENT
BEGIN:VEVENT
UID:235833-0b1cb5f82de24c98f11e829bddb1f0f9
X-WR-RELCALID:235833-0b1cb5f82de24c98f11e829bddb1f0f9
ORGANIZER:Volleyball
SEQUENCE:261141658
LOCATION:TSV Solln Turnhalle, Herterichstrasse 151, 81477 München
GEO:48.08055319170163000000;11.49735942062375200000
SUMMARY:BKL2 Fr.: TSV Solln - SV Inning
CLASS:PUBLIC
DTSTART:20200307T130000Z
DTSTAMP:20200307T164300Z
END:VEVENT
BEGIN:VEVENT
UID:235834-0b1cb5f82de24c98f11e829bddb1f0f9
X-WR-RELCALID:235834-0b1cb5f82de24c98f11e829bddb1f0f9
ORGANIZER:Volleyball
SEQUENCE:261141658
LOCATION:TSV Solln Turnhalle, Herterichstrasse 151, 81477 München
GEO:48.08055319170163000000;11.49735942062375200000
SUMMARY:BKL2 Fr.: MTV München - SV Inning
CLASS:PUBLIC
DTSTART:20200307T130000Z
DTSTAMP:20200307T175900Z
END:VEVENT
BEGIN:VEVENT
UID:235838-0b1cb5f82de24c98f11e829bddb1f0f9
X-WR-RELCALID:235838-0b1cb5f82de24c98f11e829bddb1f0f9
ORGANIZER:Volleyball
SEQUENCE:261141658
LOCATION:TSV Sportzentrum, Alfons-Baumann-Straße 7, 82110 Germering
GEO:48.12313000000000000000;11.35590000000000000000
SUMMARY:BKL2 Fr.: TSV Unterpf.-Germering - SV Inning
CLASS:PUBLIC
DTSTART:20200314T130000Z
DTSTAMP:20190916T163100Z
END:VEVENT
BEGIN:VEVENT
UID:235840-0b1cb5f82de24c98f11e829bddb1f0f9
X-WR-RELCALID:235840-0b1cb5f82de24c98f11e829bddb1f0f9
ORGANIZER:Volleyball
SEQUENCE:261141658
LOCATION:TSV Sportzentrum, Alfons-Baumann-Straße 7, 82110 Germering
GEO:48.12313000000000000000;11.35590000000000000000
SUMMARY:BKL2 Fr.: SV Inning - PSV München III
CLASS:PUBLIC
DTSTART:20200314T130000Z
DTSTAMP:20190916T163100Z
END:VEVENT
BEGIN:VEVENT
UID:235823-0b1cb5f82de24c98f11e829bddb1f0f9
X-WR-RELCALID:235823-0b1cb5f82de24c98f11e829bddb1f0f9
ORGANIZER:Volleyball
SEQUENCE:261141658
LOCATION:Sportzentrum, Schornstr. 3, 82266 Inning
GEO:48.07151205714260000000;11.14422647354126600000
SUMMARY:BKL2 Fr.: SV Inning - SV Lohhof IV
CLASS:PUBLIC
DTSTART:20200321T130000Z
DTSTAMP:20200128T122900Z
END:VEVENT
BEGIN:VEVENT
UID:235824-0b1cb5f82de24c98f11e829bddb1f0f9
X-WR-RELCALID:235824-0b1cb5f82de24c98f11e829bddb1f0f9
ORGANIZER:Volleyball
SEQUENCE:261141658
LOCATION:Sportzentrum, Schornstr. 3, 82266 Inning
GEO:48.07151205714260000000;11.14422647354126600000
SUMMARY:BKL2 Fr.: SV Inning - TSG Maisach
CLASS:PUBLIC
DTSTART:20200321T130000Z
DTSTAMP:20200128T122900Z
END:VEVENT
END:VCALENDAR