BEGIN:VCALENDAR
VERSION:2.0
PRODID:VSD-Portal-www.volley.de
METHOD:PUBLISH
BEGIN:VEVENT
UID:235757-0b1cb5f82de24c98f11e829bddb1f0f9
X-WR-RELCALID:235757-0b1cb5f82de24c98f11e829bddb1f0f9
ORGANIZER:Volleyball
SEQUENCE:261141658
LOCATION:Sportzentrum, Schornstr. 3, 82266 Inning
GEO:48.07151205714260000000;11.14422647354126600000
SUMMARY:BKL2 Fr.: SV Inning - TSV Unterpf.-Germering
CLASS:PUBLIC
DTSTART:20191005T120000Z
DTSTAMP:20191008T085200Z
END:VEVENT
BEGIN:VEVENT
UID:235758-0b1cb5f82de24c98f11e829bddb1f0f9
X-WR-RELCALID:235758-0b1cb5f82de24c98f11e829bddb1f0f9
ORGANIZER:Volleyball
SEQUENCE:261141658
LOCATION:Sportzentrum, Schornstr. 3, 82266 Inning
GEO:48.07151205714260000000;11.14422647354126600000
SUMMARY:BKL2 Fr.: SV Inning - MTV München
CLASS:PUBLIC
DTSTART:20191005T120000Z
DTSTAMP:20191008T085200Z
END:VEVENT
BEGIN:VEVENT
UID:235817-0b1cb5f82de24c98f11e829bddb1f0f9
X-WR-RELCALID:235817-0b1cb5f82de24c98f11e829bddb1f0f9
ORGANIZER:Volleyball
SEQUENCE:261141658
LOCATION:Sportzentrum, Schornstr. 3, 82266 Inning
GEO:48.07151205714260000000;11.14422647354126600000
SUMMARY:BKL2 Fr.: SV Inning - TSV Solln
CLASS:PUBLIC
DTSTART:20200201T130000Z
DTSTAMP:20200201T140000Z
END:VEVENT
BEGIN:VEVENT
UID:235818-0b1cb5f82de24c98f11e829bddb1f0f9
X-WR-RELCALID:235818-0b1cb5f82de24c98f11e829bddb1f0f9
ORGANIZER:Volleyball
SEQUENCE:261141658
LOCATION:Sportzentrum, Schornstr. 3, 82266 Inning
GEO:48.07151205714260000000;11.14422647354126600000
SUMMARY:BKL2 Fr.: SV Inning - TSV Schongau
CLASS:PUBLIC
DTSTART:20200201T130000Z
DTSTAMP:20200201T165000Z
END:VEVENT
BEGIN:VEVENT
UID:235823-0b1cb5f82de24c98f11e829bddb1f0f9
X-WR-RELCALID:235823-0b1cb5f82de24c98f11e829bddb1f0f9
ORGANIZER:Volleyball
SEQUENCE:261141658
LOCATION:Sportzentrum, Schornstr. 3, 82266 Inning
GEO:48.07151205714260000000;11.14422647354126600000
SUMMARY:BKL2 Fr.: SV Inning - SV Lohhof IV
CLASS:PUBLIC
DTSTART:20200321T130000Z
DTSTAMP:20200128T122900Z
END:VEVENT
BEGIN:VEVENT
UID:235824-0b1cb5f82de24c98f11e829bddb1f0f9
X-WR-RELCALID:235824-0b1cb5f82de24c98f11e829bddb1f0f9
ORGANIZER:Volleyball
SEQUENCE:261141658
LOCATION:Sportzentrum, Schornstr. 3, 82266 Inning
GEO:48.07151205714260000000;11.14422647354126600000
SUMMARY:BKL2 Fr.: SV Inning - TSG Maisach
CLASS:PUBLIC
DTSTART:20200321T130000Z
DTSTAMP:20200128T122900Z
END:VEVENT
END:VCALENDAR