BEGIN:VCALENDAR
VERSION:2.0
PRODID:VSD-Portal-www.volley.de
METHOD:PUBLISH
BEGIN:VEVENT
UID:235756-0b1cb5f82de24c98f11e829bddb1f0f9
X-WR-RELCALID:235756-0b1cb5f82de24c98f11e829bddb1f0f9
ORGANIZER:Volleyball
SEQUENCE:261141149
LOCATION:Berufschulhalle, Heinrich-Neumaier-Platz 1, 85221 Dachau
GEO:48.25167500000000000000;11.45301900000000000000
SUMMARY:BKL2 Fr.: SV Lohhof IV - TSV Solln
CLASS:PUBLIC
DTSTART:20191005T123000Z
DTSTAMP:20191005T134700Z
END:VEVENT
BEGIN:VEVENT
UID:235754-0b1cb5f82de24c98f11e829bddb1f0f9
X-WR-RELCALID:235754-0b1cb5f82de24c98f11e829bddb1f0f9
ORGANIZER:Volleyball
SEQUENCE:261141149
LOCATION:Berufschulhalle, Heinrich-Neumaier-Platz 1, 85221 Dachau
GEO:48.25167500000000000000;11.45301900000000000000
SUMMARY:BKL2 Fr.: ASV Dachau II - SV Lohhof IV
CLASS:PUBLIC
DTSTART:20191005T123000Z
DTSTAMP:20191005T182800Z
END:VEVENT
BEGIN:VEVENT
UID:235769-0b1cb5f82de24c98f11e829bddb1f0f9
X-WR-RELCALID:235769-0b1cb5f82de24c98f11e829bddb1f0f9
ORGANIZER:Volleyball
SEQUENCE:261141149
LOCATION:Sporthalle der FOS/BOS, Südliche Ingolstädter Str. 1, 85716 U
 nterschleißheim
GEO:48.28839000000000000000;11.58330000000000000000
SUMMARY:BKL2 Fr.: SV Lohhof IV - TSG Maisach
CLASS:PUBLIC
DTSTART:20191019T120000Z
DTSTAMP:20191019T133700Z
END:VEVENT
BEGIN:VEVENT
UID:235770-0b1cb5f82de24c98f11e829bddb1f0f9
X-WR-RELCALID:235770-0b1cb5f82de24c98f11e829bddb1f0f9
ORGANIZER:Volleyball
SEQUENCE:261141149
LOCATION:Sporthalle der FOS/BOS, Südliche Ingolstädter Str. 1, 85716 U
 nterschleißheim
GEO:48.28839000000000000000;11.58330000000000000000
SUMMARY:BKL2 Fr.: SV Lohhof IV - TSV Unterpf.-Germering
CLASS:PUBLIC
DTSTART:20191019T120000Z
DTSTAMP:20191019T153500Z
END:VEVENT
BEGIN:VEVENT
UID:235781-0b1cb5f82de24c98f11e829bddb1f0f9
X-WR-RELCALID:235781-0b1cb5f82de24c98f11e829bddb1f0f9
ORGANIZER:Volleyball
SEQUENCE:261141149
LOCATION:FOS/BOS Lindwurmstraße, Lindwurmstraße 90, 80337 München
GEO:48.12422000000000000000;11.54747000000000000000
SUMMARY:BKL2 Fr.: MTV München - SV Lohhof IV
CLASS:PUBLIC
DTSTART:20191116T130000Z
DTSTAMP:20191116T140800Z
END:VEVENT
BEGIN:VEVENT
UID:235783-0b1cb5f82de24c98f11e829bddb1f0f9
X-WR-RELCALID:235783-0b1cb5f82de24c98f11e829bddb1f0f9
ORGANIZER:Volleyball
SEQUENCE:261141149
LOCATION:FOS/BOS Lindwurmstraße, Lindwurmstraße 90, 80337 München
GEO:48.12422000000000000000;11.54747000000000000000
SUMMARY:BKL2 Fr.: SV Lohhof IV - TV Planegg Krailling IV
CLASS:PUBLIC
DTSTART:20191116T130000Z
DTSTAMP:20191116T185400Z
END:VEVENT
BEGIN:VEVENT
UID:235800-0b1cb5f82de24c98f11e829bddb1f0f9
X-WR-RELCALID:235800-0b1cb5f82de24c98f11e829bddb1f0f9
ORGANIZER:Volleyball
SEQUENCE:261141149
LOCATION:Sporthalle der FOS/BOS, Südliche Ingolstädter Str. 1, 85716 U
 nterschleißheim
GEO:48.28839000000000000000;11.58330000000000000000
SUMMARY:BKL2 Fr.: TSV Unterpf.-Germering - SV Lohhof IV
CLASS:PUBLIC
DTSTART:20191214T130000Z
DTSTAMP:20191214T164200Z
END:VEVENT
BEGIN:VEVENT
UID:235801-0b1cb5f82de24c98f11e829bddb1f0f9
X-WR-RELCALID:235801-0b1cb5f82de24c98f11e829bddb1f0f9
ORGANIZER:Volleyball
SEQUENCE:261141149
LOCATION:Sporthalle der FOS/BOS, Südliche Ingolstädter Str. 1, 85716 U
 nterschleißheim
GEO:48.28839000000000000000;11.58330000000000000000
SUMMARY:BKL2 Fr.: TSV Solln - SV Lohhof IV
CLASS:PUBLIC
DTSTART:20191214T130000Z
DTSTAMP:20191214T183400Z
END:VEVENT
BEGIN:VEVENT
UID:235802-0b1cb5f82de24c98f11e829bddb1f0f9
X-WR-RELCALID:235802-0b1cb5f82de24c98f11e829bddb1f0f9
ORGANIZER:Volleyball
SEQUENCE:261141149
LOCATION:Gymnasium Turnhalle, Dornauerweg 24, 86956 Schongau
GEO:47.80825748866170000000;10.89376125396734100000
SUMMARY:BKL2 Fr.: TSV Schongau - SV Lohhof IV
CLASS:PUBLIC
DTSTART:20191221T130000Z
DTSTAMP:20191221T144500Z
END:VEVENT
BEGIN:VEVENT
UID:235804-0b1cb5f82de24c98f11e829bddb1f0f9
X-WR-RELCALID:235804-0b1cb5f82de24c98f11e829bddb1f0f9
ORGANIZER:Volleyball
SEQUENCE:261141149
LOCATION:Gymnasium Turnhalle, Dornauerweg 24, 86956 Schongau
GEO:47.80825748866170000000;10.89376125396734100000
SUMMARY:BKL2 Fr.: SV Lohhof IV - PSV München III
CLASS:PUBLIC
DTSTART:20191221T130000Z
DTSTAMP:20191221T192900Z
END:VEVENT
BEGIN:VEVENT
UID:235808-0b1cb5f82de24c98f11e829bddb1f0f9
X-WR-RELCALID:235808-0b1cb5f82de24c98f11e829bddb1f0f9
ORGANIZER:Volleyball
SEQUENCE:261141149
LOCATION:Sporthalle der FOS/BOS, Südliche Ingolstädter Str. 1, 85716 U
 nterschleißheim
GEO:48.28839000000000000000;11.58330000000000000000
SUMMARY:BKL2 Fr.: SV Lohhof IV - SV Inning
CLASS:PUBLIC
DTSTART:20200111T130000Z
DTSTAMP:20200111T150100Z
END:VEVENT
BEGIN:VEVENT
UID:235809-0b1cb5f82de24c98f11e829bddb1f0f9
X-WR-RELCALID:235809-0b1cb5f82de24c98f11e829bddb1f0f9
ORGANIZER:Volleyball
SEQUENCE:261141149
LOCATION:Sporthalle der FOS/BOS, Südliche Ingolstädter Str. 1, 85716 U
 nterschleißheim
GEO:48.28839000000000000000;11.58330000000000000000
SUMMARY:BKL2 Fr.: SV Lohhof IV - ASV Dachau II
CLASS:PUBLIC
DTSTART:20200111T130000Z
DTSTAMP:20200111T173100Z
END:VEVENT
BEGIN:VEVENT
UID:235815-0b1cb5f82de24c98f11e829bddb1f0f9
X-WR-RELCALID:235815-0b1cb5f82de24c98f11e829bddb1f0f9
ORGANIZER:Volleyball
SEQUENCE:261141149
LOCATION:Sporthalle der FOS/BOS, Südliche Ingolstädter Str. 1, 85716 U
 nterschleißheim
GEO:48.28839000000000000000;11.58330000000000000000
SUMMARY:BKL2 Fr.: SV Lohhof IV - MTV München
CLASS:PUBLIC
DTSTART:20200201T130000Z
DTSTAMP:20200201T143900Z
END:VEVENT
BEGIN:VEVENT
UID:235814-0b1cb5f82de24c98f11e829bddb1f0f9
X-WR-RELCALID:235814-0b1cb5f82de24c98f11e829bddb1f0f9
ORGANIZER:Volleyball
SEQUENCE:261141149
LOCATION:Sporthalle der FOS/BOS, Südliche Ingolstädter Str. 1, 85716 U
 nterschleißheim
GEO:48.28839000000000000000;11.58330000000000000000
SUMMARY:BKL2 Fr.: SV Lohhof IV - PSV München III
CLASS:PUBLIC
DTSTART:20200201T130000Z
DTSTAMP:20200201T170800Z
END:VEVENT
BEGIN:VEVENT
UID:235842-0b1cb5f82de24c98f11e829bddb1f0f9
X-WR-RELCALID:235842-0b1cb5f82de24c98f11e829bddb1f0f9
ORGANIZER:Volleyball
SEQUENCE:261141149
LOCATION:Feodor-Lynen-Gymnasium, Feodor-Lynen-Str. 1, 82152 Planegg
GEO:48.10456000000000000000;11.43447000000000000000
SUMMARY:BKL2 Fr.: TV Planegg Krailling IV - SV Lohhof IV
CLASS:PUBLIC
DTSTART:20200314T130000Z
DTSTAMP:20190916T163200Z
END:VEVENT
BEGIN:VEVENT
UID:235843-0b1cb5f82de24c98f11e829bddb1f0f9
X-WR-RELCALID:235843-0b1cb5f82de24c98f11e829bddb1f0f9
ORGANIZER:Volleyball
SEQUENCE:261141149
LOCATION:Feodor-Lynen-Gymnasium, Feodor-Lynen-Str. 1, 82152 Planegg
GEO:48.10456000000000000000;11.43447000000000000000
SUMMARY:BKL2 Fr.: TSV Schongau - SV Lohhof IV
CLASS:PUBLIC
DTSTART:20200314T130000Z
DTSTAMP:20190916T163200Z
END:VEVENT
BEGIN:VEVENT
UID:235823-0b1cb5f82de24c98f11e829bddb1f0f9
X-WR-RELCALID:235823-0b1cb5f82de24c98f11e829bddb1f0f9
ORGANIZER:Volleyball
SEQUENCE:261141149
LOCATION:Sportzentrum, Schornstr. 3, 82266 Inning
GEO:48.07151205714260000000;11.14422647354126600000
SUMMARY:BKL2 Fr.: SV Inning - SV Lohhof IV
CLASS:PUBLIC
DTSTART:20200321T130000Z
DTSTAMP:20200128T122900Z
END:VEVENT
BEGIN:VEVENT
UID:235825-0b1cb5f82de24c98f11e829bddb1f0f9
X-WR-RELCALID:235825-0b1cb5f82de24c98f11e829bddb1f0f9
ORGANIZER:Volleyball
SEQUENCE:261141149
LOCATION:Sportzentrum, Schornstr. 3, 82266 Inning
GEO:48.07151205714260000000;11.14422647354126600000
SUMMARY:BKL2 Fr.: SV Lohhof IV - TSG Maisach
CLASS:PUBLIC
DTSTART:20200321T130000Z
DTSTAMP:20200128T122900Z
END:VEVENT
END:VCALENDAR