BEGIN:VCALENDAR
VERSION:2.0
PRODID:VSD-Portal-www.volley.de
METHOD:PUBLISH
BEGIN:VEVENT
UID:233522-0b1cb5f82de24c98f11e829bddb1f0f9
X-WR-RELCALID:233522-0b1cb5f82de24c98f11e829bddb1f0f9
ORGANIZER:Volleyball
SEQUENCE:261111946
LOCATION:Schulsporthalle Gaißacherstr., Gaißacherstr. 8, 81371 München
 
GEO:48.11497545443578000000;11.54972367990114900000
SUMMARY:KL2 Fr.: FC Hertha München II - PSV München IV
CLASS:PUBLIC
DTSTART:20191130T130000Z
DTSTAMP:20191130T152100Z
END:VEVENT
BEGIN:VEVENT
UID:233523-0b1cb5f82de24c98f11e829bddb1f0f9
X-WR-RELCALID:233523-0b1cb5f82de24c98f11e829bddb1f0f9
ORGANIZER:Volleyball
SEQUENCE:261111946
LOCATION:Schulsporthalle Gaißacherstr., Gaißacherstr. 8, 81371 München
 
GEO:48.11497545443578000000;11.54972367990114900000
SUMMARY:KL2 Fr.: FC Hertha München II - TS Jahn München II
CLASS:PUBLIC
DTSTART:20191130T130000Z
DTSTAMP:20191130T173400Z
END:VEVENT
BEGIN:VEVENT
UID:233525-0b1cb5f82de24c98f11e829bddb1f0f9
X-WR-RELCALID:233525-0b1cb5f82de24c98f11e829bddb1f0f9
ORGANIZER:Volleyball
SEQUENCE:261111946
LOCATION:Schulsporthalle Gaißacherstr., Gaißacherstr. 8, 81371 München
 
GEO:48.11497545443578000000;11.54972367990114900000
SUMMARY:KL2 Fr.: FC Hertha München II - TS Jahn München II
CLASS:PUBLIC
DTSTART:20191207T130000Z
DTSTAMP:20191207T142800Z
END:VEVENT
BEGIN:VEVENT
UID:233526-0b1cb5f82de24c98f11e829bddb1f0f9
X-WR-RELCALID:233526-0b1cb5f82de24c98f11e829bddb1f0f9
ORGANIZER:Volleyball
SEQUENCE:261111946
LOCATION:Schulsporthalle Gaißacherstr., Gaißacherstr. 8, 81371 München
 
GEO:48.11497545443578000000;11.54972367990114900000
SUMMARY:KL2 Fr.: FC Hertha München II - SV Haimhausen
CLASS:PUBLIC
DTSTART:20191207T130000Z
DTSTAMP:20191207T162300Z
END:VEVENT
BEGIN:VEVENT
UID:245558-0b1cb5f82de24c98f11e829bddb1f0f9
X-WR-RELCALID:245558-0b1cb5f82de24c98f11e829bddb1f0f9
ORGANIZER:Volleyball
SEQUENCE:261111946
LOCATION:FOS/BOS Lindwurmstraße, Lindwurmstraße 90, 80337 München
GEO:48.12422000000000000000;11.54747000000000000000
SUMMARY:KL2 Fr.: FC Hertha München II - TUSC Obermenzing II
CLASS:PUBLIC
DTSTART:20200201T130000Z
DTSTAMP:20200201T142100Z
END:VEVENT
BEGIN:VEVENT
UID:245559-0b1cb5f82de24c98f11e829bddb1f0f9
X-WR-RELCALID:245559-0b1cb5f82de24c98f11e829bddb1f0f9
ORGANIZER:Volleyball
SEQUENCE:261111946
LOCATION:FOS/BOS Lindwurmstraße, Lindwurmstraße 90, 80337 München
GEO:48.12422000000000000000;11.54747000000000000000
SUMMARY:KL2 Fr.: FC Hertha München II - VfB Hallbergmoos
CLASS:PUBLIC
DTSTART:20200201T130000Z
DTSTAMP:20200201T162600Z
END:VEVENT
END:VCALENDAR