BEGIN:VCALENDAR
VERSION:2.0
PRODID:VSD-Portal-www.volley.de
METHOD:PUBLISH
BEGIN:VEVENT
UID:245920-0b1cb5f82de24c98f11e829bddb1f0f9
X-WR-RELCALID:245920-0b1cb5f82de24c98f11e829bddb1f0f9
ORGANIZER:Volleyball
SEQUENCE:261131932
SUMMARY:BP Fr.: VSC Donauwörth - FSV Marktoffingen III
CLASS:PUBLIC
DTSTART:20200111T113000Z
DTSTAMP:20200223T144200Z
END:VEVENT
BEGIN:VEVENT
UID:245921-0b1cb5f82de24c98f11e829bddb1f0f9
X-WR-RELCALID:245921-0b1cb5f82de24c98f11e829bddb1f0f9
ORGANIZER:Volleyball
SEQUENCE:261131932
SUMMARY:BP Fr.: FSV Marktoffingen III - TV Bad Grönenbach
CLASS:PUBLIC
DTSTART:20200111T121800Z
DTSTAMP:20200223T144200Z
END:VEVENT
BEGIN:VEVENT
UID:245923-0b1cb5f82de24c98f11e829bddb1f0f9
X-WR-RELCALID:245923-0b1cb5f82de24c98f11e829bddb1f0f9
ORGANIZER:Volleyball
SEQUENCE:261131932
SUMMARY:BP Fr.: DJK Augsburg Hochzoll II - FSV Marktoffingen III
CLASS:PUBLIC
DTSTART:20200111T150000Z
DTSTAMP:20200223T144300Z
END:VEVENT
END:VCALENDAR