BEGIN:VCALENDAR
VERSION:2.0
PRODID:VSD-Portal-www.volley.de
METHOD:PUBLISH
BEGIN:VEVENT
UID:245919-0b1cb5f82de24c98f11e829bddb1f0f9
X-WR-RELCALID:245919-0b1cb5f82de24c98f11e829bddb1f0f9
ORGANIZER:Volleyball
SEQUENCE:261131930
SUMMARY:BP Fr.: DJK Augsburg Hochzoll II - VSC Donauwörth
CLASS:PUBLIC
DTSTART:20200111T103000Z
DTSTAMP:20200223T144100Z
END:VEVENT
BEGIN:VEVENT
UID:245920-0b1cb5f82de24c98f11e829bddb1f0f9
X-WR-RELCALID:245920-0b1cb5f82de24c98f11e829bddb1f0f9
ORGANIZER:Volleyball
SEQUENCE:261131930
SUMMARY:BP Fr.: VSC Donauwörth - FSV Marktoffingen III
CLASS:PUBLIC
DTSTART:20200111T113000Z
DTSTAMP:20200223T144200Z
END:VEVENT
BEGIN:VEVENT
UID:245922-0b1cb5f82de24c98f11e829bddb1f0f9
X-WR-RELCALID:245922-0b1cb5f82de24c98f11e829bddb1f0f9
ORGANIZER:Volleyball
SEQUENCE:261131930
SUMMARY:BP Fr.: VSC Donauwörth - TV Bad Grönenbach
CLASS:PUBLIC
DTSTART:20200111T134600Z
DTSTAMP:20200223T144200Z
END:VEVENT
END:VCALENDAR