BEGIN:VCALENDAR
VERSION:2.0
PRODID:VSD-Portal-www.volley.de
METHOD:PUBLISH
BEGIN:VEVENT
UID:224194-0b1cb5f82de24c98f11e829bddb1f0f9
X-WR-RELCALID:224194-0b1cb5f82de24c98f11e829bddb1f0f9
ORGANIZER:Volleyball
SEQUENCE:261091905
LOCATION:Dreifachturnhalle, Eckmühlstr. 30, 94051 Hauzenberg
GEO:48.65287000000000000000;13.63239000000000000000
SUMMARY:BYLS Mä.: SG Bayerwald Volleys - SG TSG Maisach/SV Esting
CLASS:PUBLIC
DTSTART:20191006T140000Z
DTSTAMP:20191014T195000Z
END:VEVENT
BEGIN:VEVENT
UID:224199-0b1cb5f82de24c98f11e829bddb1f0f9
X-WR-RELCALID:224199-0b1cb5f82de24c98f11e829bddb1f0f9
ORGANIZER:Volleyball
SEQUENCE:261091905
LOCATION:Mehrzweckhalle, Schloßstraße 21, 82140 Esting
GEO:48.20967000000000000000;11.31607000000000000000
SUMMARY:BYLS Mä.: SG TSG Maisach/SV Esting - ASV Dachau III
CLASS:PUBLIC
DTSTART:20191013T140000Z
DTSTAMP:20191014T195200Z
END:VEVENT
BEGIN:VEVENT
UID:224204-0b1cb5f82de24c98f11e829bddb1f0f9
X-WR-RELCALID:224204-0b1cb5f82de24c98f11e829bddb1f0f9
ORGANIZER:Volleyball
SEQUENCE:261091905
LOCATION:Georg-Scherer-Halle, Gröbenrieder Str. 21, 85221 Dachau
GEO:48.24483000000000000000;11.43601000000000000000
SUMMARY:BYLS Mä.: ASV Dachau II - SG TSG Maisach/SV Esting
CLASS:PUBLIC
DTSTART:20191026T120000Z
DTSTAMP:20191028T133100Z
END:VEVENT
BEGIN:VEVENT
UID:224211-0b1cb5f82de24c98f11e829bddb1f0f9
X-WR-RELCALID:224211-0b1cb5f82de24c98f11e829bddb1f0f9
ORGANIZER:Volleyball
SEQUENCE:261091905
LOCATION:Mehrzweckhalle, Schloßstraße 21, 82140 Esting
GEO:48.20967000000000000000;11.31607000000000000000
SUMMARY:BYLS Mä.: SG TSG Maisach/SV Esting - FTM Schwabing
CLASS:PUBLIC
DTSTART:20191103T150000Z
DTSTAMP:20191105T095200Z
END:VEVENT
BEGIN:VEVENT
UID:224217-0b1cb5f82de24c98f11e829bddb1f0f9
X-WR-RELCALID:224217-0b1cb5f82de24c98f11e829bddb1f0f9
ORGANIZER:Volleyball
SEQUENCE:261091905
LOCATION:Mehrzweckhalle, Schloßstraße 21, 82140 Esting
GEO:48.20967000000000000000;11.31607000000000000000
SUMMARY:BYLS Mä.: SG TSG Maisach/SV Esting - TSV Friedberg II
CLASS:PUBLIC
DTSTART:20191110T120000Z
DTSTAMP:20191110T204900Z
END:VEVENT
BEGIN:VEVENT
UID:224223-0b1cb5f82de24c98f11e829bddb1f0f9
X-WR-RELCALID:224223-0b1cb5f82de24c98f11e829bddb1f0f9
ORGANIZER:Volleyball
SEQUENCE:261091905
LOCATION:Werner-Heisenberg-Gymnasium, Prof.-Angermeir-Ring 40, 85748 G
 arching
GEO:48.24460968191599600000;11.66050873281858400000
SUMMARY:BYLS Mä.: VfR Garching - SG TSG Maisach/SV Esting
CLASS:PUBLIC
DTSTART:20191117T140000Z
DTSTAMP:20191129T170800Z
END:VEVENT
BEGIN:VEVENT
UID:224233-0b1cb5f82de24c98f11e829bddb1f0f9
X-WR-RELCALID:224233-0b1cb5f82de24c98f11e829bddb1f0f9
ORGANIZER:Volleyball
SEQUENCE:261091905
LOCATION:Gymnasiumhallen, Tassilostr. 1, 83536 Gars am Inn
GEO:48.15761223308202000000;12.27787639021301000000
SUMMARY:BYLS Mä.: TSV Gars - SG TSG Maisach/SV Esting
CLASS:PUBLIC
DTSTART:20191130T180000Z
DTSTAMP:20191206T203500Z
END:VEVENT
BEGIN:VEVENT
UID:224237-0b1cb5f82de24c98f11e829bddb1f0f9
X-WR-RELCALID:224237-0b1cb5f82de24c98f11e829bddb1f0f9
ORGANIZER:Volleyball
SEQUENCE:261091905
LOCATION:Mehrzweckhalle, Schloßstraße 21, 82140 Esting
GEO:48.20967000000000000000;11.31607000000000000000
SUMMARY:BYLS Mä.: SG TSG Maisach/SV Esting - Donau Holz Volleys
CLASS:PUBLIC
DTSTART:20191208T150000Z
DTSTAMP:20191216T194200Z
END:VEVENT
BEGIN:VEVENT
UID:224240-0b1cb5f82de24c98f11e829bddb1f0f9
X-WR-RELCALID:224240-0b1cb5f82de24c98f11e829bddb1f0f9
ORGANIZER:Volleyball
SEQUENCE:261091905
LOCATION:Gymnasium München-Nord, EdS, Knorrstraße 171, 80937 München
GEO:48.19975000000000000000;11.57238300000000000000
SUMMARY:BYLS Mä.: WWK VCO München II - SG TSG Maisach/SV Esting
CLASS:PUBLIC
DTSTART:20191213T190000Z
DTSTAMP:20191216T194300Z
END:VEVENT
BEGIN:VEVENT
UID:224241-0b1cb5f82de24c98f11e829bddb1f0f9
X-WR-RELCALID:224241-0b1cb5f82de24c98f11e829bddb1f0f9
ORGANIZER:Volleyball
SEQUENCE:261091905
LOCATION:Viscardi Halle, Balduin-Helm-Straße 2, 82256 Fürstenfeldbruck
 
GEO:48.16675431297683000000;11.22397119510651500000
SUMMARY:BYLS Mä.: TUS Fürstenfeldbruck - SG TSG Maisach/SV Esting
CLASS:PUBLIC
DTSTART:20191214T130000Z
DTSTAMP:20191216T194300Z
END:VEVENT
BEGIN:VEVENT
UID:224249-0b1cb5f82de24c98f11e829bddb1f0f9
X-WR-RELCALID:224249-0b1cb5f82de24c98f11e829bddb1f0f9
ORGANIZER:Volleyball
SEQUENCE:261091905
LOCATION:Georg-Scherer-Halle, Gröbenrieder Str. 21, 85221 Dachau
GEO:48.24483000000000000000;11.43601000000000000000
SUMMARY:BYLS Mä.: ASV Dachau III - SG TSG Maisach/SV Esting
CLASS:PUBLIC
DTSTART:20200118T160000Z
DTSTAMP:20200127T181700Z
END:VEVENT
BEGIN:VEVENT
UID:224257-0b1cb5f82de24c98f11e829bddb1f0f9
X-WR-RELCALID:224257-0b1cb5f82de24c98f11e829bddb1f0f9
ORGANIZER:Volleyball
SEQUENCE:261091905
LOCATION:Nelson Mandela Berufsoberschule München, Schleißheimerstraße 
 510, 80937 München
GEO:48.21373155837929400000;11.56378014680478800000
SUMMARY:BYLS Mä.: FTM Schwabing - SG TSG Maisach/SV Esting
CLASS:PUBLIC
DTSTART:20200201T190000Z
DTSTAMP:20200208T071800Z
END:VEVENT
BEGIN:VEVENT
UID:224260-0b1cb5f82de24c98f11e829bddb1f0f9
X-WR-RELCALID:224260-0b1cb5f82de24c98f11e829bddb1f0f9
ORGANIZER:Volleyball
SEQUENCE:261091905
LOCATION:Mehrzweckhalle, Schloßstraße 21, 82140 Esting
GEO:48.20967000000000000000;11.31607000000000000000
SUMMARY:BYLS Mä.: SG TSG Maisach/SV Esting - ASV Dachau II
CLASS:PUBLIC
DTSTART:20200202T150000Z
DTSTAMP:20200208T071900Z
END:VEVENT
BEGIN:VEVENT
UID:224263-0b1cb5f82de24c98f11e829bddb1f0f9
X-WR-RELCALID:224263-0b1cb5f82de24c98f11e829bddb1f0f9
ORGANIZER:Volleyball
SEQUENCE:261091905
LOCATION:Rothenberghalle, Rothenbergstr. 5, 86316 Friedberg
GEO:48.36057505303723000000;10.98914903173829300000
SUMMARY:BYLS Mä.: TSV Friedberg II - SG TSG Maisach/SV Esting
CLASS:PUBLIC
DTSTART:20200209T140000Z
DTSTAMP:20200216T171700Z
END:VEVENT
BEGIN:VEVENT
UID:224267-0b1cb5f82de24c98f11e829bddb1f0f9
X-WR-RELCALID:224267-0b1cb5f82de24c98f11e829bddb1f0f9
ORGANIZER:Volleyball
SEQUENCE:261091905
LOCATION:Mehrzweckhalle, Schloßstraße 21, 82140 Esting
GEO:48.20967000000000000000;11.31607000000000000000
SUMMARY:BYLS Mä.: SG TSG Maisach/SV Esting - TSV Gars
CLASS:PUBLIC
DTSTART:20200215T190000Z
DTSTAMP:20200216T172100Z
END:VEVENT
BEGIN:VEVENT
UID:224268-0b1cb5f82de24c98f11e829bddb1f0f9
X-WR-RELCALID:224268-0b1cb5f82de24c98f11e829bddb1f0f9
ORGANIZER:Volleyball
SEQUENCE:261091905
LOCATION:Mehrzweckhalle, Schloßstraße 21, 82140 Esting
GEO:48.20967000000000000000;11.31607000000000000000
SUMMARY:BYLS Mä.: SG TSG Maisach/SV Esting - VfR Garching
CLASS:PUBLIC
DTSTART:20200216T150000Z
DTSTAMP:20200216T172100Z
END:VEVENT
BEGIN:VEVENT
UID:224269-0b1cb5f82de24c98f11e829bddb1f0f9
X-WR-RELCALID:224269-0b1cb5f82de24c98f11e829bddb1f0f9
ORGANIZER:Volleyball
SEQUENCE:261091905
LOCATION:Mehrzweckhalle, Schloßstraße 21, 82140 Esting
GEO:48.20967000000000000000;11.31607000000000000000
SUMMARY:BYLS Mä.: SG TSG Maisach/SV Esting - SG Bayerwald Volleys
CLASS:PUBLIC
DTSTART:20200222T190000Z
DTSTAMP:20200223T193300Z
END:VEVENT
BEGIN:VEVENT
UID:224278-0b1cb5f82de24c98f11e829bddb1f0f9
X-WR-RELCALID:224278-0b1cb5f82de24c98f11e829bddb1f0f9
ORGANIZER:Volleyball
SEQUENCE:261091905
LOCATION:Mehrzweckhalle, Schloßstraße 21, 82140 Esting
GEO:48.20967000000000000000;11.31607000000000000000
SUMMARY:BYLS Mä.: SG TSG Maisach/SV Esting - TUS Fürstenfeldbruck
CLASS:PUBLIC
DTSTART:20200308T120000Z
DTSTAMP:20200312T163700Z
END:VEVENT
BEGIN:VEVENT
UID:224288-0b1cb5f82de24c98f11e829bddb1f0f9
X-WR-RELCALID:224288-0b1cb5f82de24c98f11e829bddb1f0f9
ORGANIZER:Volleyball
SEQUENCE:261091905
LOCATION:Mittelschule "Auf der Schanz", Auf der Schanz 28, 85049 Ingol
 stadt
GEO:48.76665861493262000000;11.41794647354129200000
SUMMARY:BYLS Mä.: Donau Holz Volleys - SG TSG Maisach/SV Esting
CLASS:PUBLIC
DTSTART:20200322T140000Z
DTSTAMP:20200313T075000Z
END:VEVENT
END:VCALENDAR