BEGIN:VCALENDAR
VERSION:2.0
PRODID:VSD-Portal-www.volley.de
METHOD:PUBLISH
BEGIN:VEVENT
UID:230102-0b1cb5f82de24c98f11e829bddb1f0f9
X-WR-RELCALID:230102-0b1cb5f82de24c98f11e829bddb1f0f9
ORGANIZER:Volleyball
SEQUENCE:261141354
SUMMARY:BZL Fr.: N.H.Young Volleys II - BSV Bayreuth II
CLASS:PUBLIC
DTSTART:20200314T130000Z
DTSTAMP:20190806T094700Z
END:VEVENT
END:VCALENDAR