BEGIN:VCALENDAR
VERSION:2.0
PRODID:VSD-Portal-www.volley.de
METHOD:PUBLISH
BEGIN:VEVENT
UID:245745-0b1cb5f82de24c98f11e829bddb1f0f9
X-WR-RELCALID:245745-0b1cb5f82de24c98f11e829bddb1f0f9
ORGANIZER:Volleyball
SEQUENCE:261101709
LOCATION:Arena Unterhaching, Utzweg 1, 82008 Unterhaching
GEO:48.06089050000000000000;11.61474290000000000000
SUMMARY:KP Mä.: TSV Unterhaching IV - TSV Hohenb.-Riemerling
CLASS:PUBLIC
DTSTART:20200302T170000Z
DTSTAMP:20200306T213000Z
END:VEVENT
END:VCALENDAR