BEGIN:VCALENDAR
VERSION:2.0
PRODID:VSD-Portal-www.volley.de
METHOD:PUBLISH
BEGIN:VEVENT
UID:244627-0b1cb5f82de24c98f11e829bddb1f0f9
X-WR-RELCALID:244627-0b1cb5f82de24c98f11e829bddb1f0f9
ORGANIZER:Volleyball
SEQUENCE:261092054
LOCATION:Sporthalle Theresiengymnasium, Schreibmüllerstr. 10, 91522 An
 sbach
GEO:49.31575230000000000000;10.55904980000000000000
SUMMARY:U14 MM m: TSV Zirndorf - SG Allersberg/Rednitzhembach
CLASS:PUBLIC
DTSTART:20200126T090000Z
DTSTAMP:20200203T105800Z
END:VEVENT
BEGIN:VEVENT
UID:244628-0b1cb5f82de24c98f11e829bddb1f0f9
X-WR-RELCALID:244628-0b1cb5f82de24c98f11e829bddb1f0f9
ORGANIZER:Volleyball
SEQUENCE:261092054
LOCATION:Sporthalle Theresiengymnasium, Schreibmüllerstr. 10, 91522 An
 sbach
GEO:49.31575230000000000000;10.55904980000000000000
SUMMARY:U14 MM m: SV Schwaig - SG Allersberg/Rednitzhembach
CLASS:PUBLIC
DTSTART:20200126T090000Z
DTSTAMP:20200203T110300Z
END:VEVENT
END:VCALENDAR