BEGIN:VCALENDAR
VERSION:2.0
PRODID:VSD-Portal-www.volley.de
METHOD:PUBLISH
BEGIN:VEVENT
UID:39223-0b1cb5f82de24c98f11e829bddb1f0f9
X-WR-RELCALID:39223-0b1cb5f82de24c98f11e829bddb1f0f9
ORGANIZER:Volleyball
SEQUENCE:261140313
SUMMARY:LL NW Mä.: TSV Zirndorf 2 - TSV Lengfeld
CLASS:PUBLIC
DTSTART:20061118T140000Z
DTSTAMP:20140607T192000Z
END:VEVENT
BEGIN:VEVENT
UID:39224-0b1cb5f82de24c98f11e829bddb1f0f9
X-WR-RELCALID:39224-0b1cb5f82de24c98f11e829bddb1f0f9
ORGANIZER:Volleyball
SEQUENCE:261140313
SUMMARY:LL NW Mä.: TSV Zirndorf 2 - TG Veitshöchheim
CLASS:PUBLIC
DTSTART:20061118T140000Z
DTSTAMP:20140607T192000Z
END:VEVENT
BEGIN:VEVENT
UID:39230-0b1cb5f82de24c98f11e829bddb1f0f9
X-WR-RELCALID:39230-0b1cb5f82de24c98f11e829bddb1f0f9
ORGANIZER:Volleyball
SEQUENCE:261140313
SUMMARY:LL NW Mä.: TV Gunzenhausen - TSV Zirndorf 2
CLASS:PUBLIC
DTSTART:20061202T140000Z
DTSTAMP:20140607T192000Z
END:VEVENT
BEGIN:VEVENT
UID:39198-0b1cb5f82de24c98f11e829bddb1f0f9
X-WR-RELCALID:39198-0b1cb5f82de24c98f11e829bddb1f0f9
ORGANIZER:Volleyball
SEQUENCE:261140313
SUMMARY:LL NW Mä.: SV Schwaig 3 - TSV Zirndorf 2
CLASS:PUBLIC
DTSTART:20061202T140000Z
DTSTAMP:20140607T192000Z
END:VEVENT
BEGIN:VEVENT
UID:39245-0b1cb5f82de24c98f11e829bddb1f0f9
X-WR-RELCALID:39245-0b1cb5f82de24c98f11e829bddb1f0f9
ORGANIZER:Volleyball
SEQUENCE:261140313
SUMMARY:LL NW Mä.: TSV Zirndorf 2 - SB Bayern 07 Nürnberg
CLASS:PUBLIC
DTSTART:20061216T140000Z
DTSTAMP:20140607T192000Z
END:VEVENT
BEGIN:VEVENT
UID:39246-0b1cb5f82de24c98f11e829bddb1f0f9
X-WR-RELCALID:39246-0b1cb5f82de24c98f11e829bddb1f0f9
ORGANIZER:Volleyball
SEQUENCE:261140313
SUMMARY:LL NW Mä.: TSV Zirndorf 2 - TV Trennfurt
CLASS:PUBLIC
DTSTART:20061216T140000Z
DTSTAMP:20140607T192000Z
END:VEVENT
BEGIN:VEVENT
UID:39241-0b1cb5f82de24c98f11e829bddb1f0f9
X-WR-RELCALID:39241-0b1cb5f82de24c98f11e829bddb1f0f9
ORGANIZER:Volleyball
SEQUENCE:261140313
SUMMARY:LL NW Mä.: TSV Ansbach - TSV Zirndorf 2
CLASS:PUBLIC
DTSTART:20070120T140000Z
DTSTAMP:20140607T192000Z
END:VEVENT
BEGIN:VEVENT
UID:39234-0b1cb5f82de24c98f11e829bddb1f0f9
X-WR-RELCALID:39234-0b1cb5f82de24c98f11e829bddb1f0f9
ORGANIZER:Volleyball
SEQUENCE:261140313
SUMMARY:LL NW Mä.: TSV Zirndorf 2 - TSV Höchstadt
CLASS:PUBLIC
DTSTART:20070120T140000Z
DTSTAMP:20140607T192000Z
END:VEVENT
BEGIN:VEVENT
UID:39266-0b1cb5f82de24c98f11e829bddb1f0f9
X-WR-RELCALID:39266-0b1cb5f82de24c98f11e829bddb1f0f9
ORGANIZER:Volleyball
SEQUENCE:261140313
SUMMARY:LL NW Mä.: TV Gunzenhausen - TSV Zirndorf 2
CLASS:PUBLIC
DTSTART:20070127T140000Z
DTSTAMP:20140607T192000Z
END:VEVENT
BEGIN:VEVENT
UID:39268-0b1cb5f82de24c98f11e829bddb1f0f9
X-WR-RELCALID:39268-0b1cb5f82de24c98f11e829bddb1f0f9
ORGANIZER:Volleyball
SEQUENCE:261140313
SUMMARY:LL NW Mä.: TSV Zirndorf 2 - TSV Lengfeld
CLASS:PUBLIC
DTSTART:20070127T140000Z
DTSTAMP:20140607T192000Z
END:VEVENT
BEGIN:VEVENT
UID:39258-0b1cb5f82de24c98f11e829bddb1f0f9
X-WR-RELCALID:39258-0b1cb5f82de24c98f11e829bddb1f0f9
ORGANIZER:Volleyball
SEQUENCE:261140313
SUMMARY:LL NW Mä.: SV Schwaig 3 - TSV Zirndorf 2
CLASS:PUBLIC
DTSTART:20070203T140000Z
DTSTAMP:20140607T192000Z
END:VEVENT
BEGIN:VEVENT
UID:39257-0b1cb5f82de24c98f11e829bddb1f0f9
X-WR-RELCALID:39257-0b1cb5f82de24c98f11e829bddb1f0f9
ORGANIZER:Volleyball
SEQUENCE:261140313
SUMMARY:LL NW Mä.: SG Eltmann 3 - TSV Zirndorf 2
CLASS:PUBLIC
DTSTART:20070203T140000Z
DTSTAMP:20140607T192000Z
END:VEVENT
BEGIN:VEVENT
UID:39269-0b1cb5f82de24c98f11e829bddb1f0f9
X-WR-RELCALID:39269-0b1cb5f82de24c98f11e829bddb1f0f9
ORGANIZER:Volleyball
SEQUENCE:261140313
SUMMARY:LL NW Mä.: TSV Zirndorf 2 - TG Veitshöchheim
CLASS:PUBLIC
DTSTART:20070217T140000Z
DTSTAMP:20140607T192000Z
END:VEVENT
BEGIN:VEVENT
UID:39273-0b1cb5f82de24c98f11e829bddb1f0f9
X-WR-RELCALID:39273-0b1cb5f82de24c98f11e829bddb1f0f9
ORGANIZER:Volleyball
SEQUENCE:261140313
SUMMARY:LL NW Mä.: TSV Zirndorf 2 - TV Trennfurt
CLASS:PUBLIC
DTSTART:20070217T140000Z
DTSTAMP:20140607T192000Z
END:VEVENT
BEGIN:VEVENT
UID:39275-0b1cb5f82de24c98f11e829bddb1f0f9
X-WR-RELCALID:39275-0b1cb5f82de24c98f11e829bddb1f0f9
ORGANIZER:Volleyball
SEQUENCE:261140313
SUMMARY:LL NW Mä.: TSV Ansbach - TSV Zirndorf 2
CLASS:PUBLIC
DTSTART:20070224T140000Z
DTSTAMP:20140607T192000Z
END:VEVENT
BEGIN:VEVENT
UID:39277-0b1cb5f82de24c98f11e829bddb1f0f9
X-WR-RELCALID:39277-0b1cb5f82de24c98f11e829bddb1f0f9
ORGANIZER:Volleyball
SEQUENCE:261140313
SUMMARY:LL NW Mä.: TSV Zirndorf 2 - SB Bayern 07 Nürnberg
CLASS:PUBLIC
DTSTART:20070224T140000Z
DTSTAMP:20140607T192000Z
END:VEVENT
BEGIN:VEVENT
UID:39252-0b1cb5f82de24c98f11e829bddb1f0f9
X-WR-RELCALID:39252-0b1cb5f82de24c98f11e829bddb1f0f9
ORGANIZER:Volleyball
SEQUENCE:261140313
SUMMARY:LL NW Mä.: TSV Höchstadt - TSV Zirndorf 2
CLASS:PUBLIC
DTSTART:20070310T140000Z
DTSTAMP:20140607T192000Z
END:VEVENT
BEGIN:VEVENT
UID:39283-0b1cb5f82de24c98f11e829bddb1f0f9
X-WR-RELCALID:39283-0b1cb5f82de24c98f11e829bddb1f0f9
ORGANIZER:Volleyball
SEQUENCE:261140313
SUMMARY:LL NW Mä.: SG Eltmann 3 - TSV Zirndorf 2
CLASS:PUBLIC
DTSTART:20070310T140000Z
DTSTAMP:20140607T192000Z
END:VEVENT
END:VCALENDAR