BEGIN:VCALENDAR
VERSION:2.0
PRODID:VSD-Portal-www.volley.de
METHOD:PUBLISH
BEGIN:VEVENT
UID:244079-0b1cb5f82de24c98f11e829bddb1f0f9
X-WR-RELCALID:244079-0b1cb5f82de24c98f11e829bddb1f0f9
ORGANIZER:Volleyball
SEQUENCE:261102021
LOCATION:Zeidlerhalle, Schulstrasse 26a, 90537 Feucht
GEO:49.37752761668970400000;11.20261345767210000000
SUMMARY:U16 MM w: TSV Ansbach - TV Fürth 1860
CLASS:PUBLIC
DTSTART;VALUE=DATE:20200119
DTSTAMP:20200126T090800Z
DTEND;VALUE=DATE:20200120
END:VEVENT
BEGIN:VEVENT
UID:244082-0b1cb5f82de24c98f11e829bddb1f0f9
X-WR-RELCALID:244082-0b1cb5f82de24c98f11e829bddb1f0f9
ORGANIZER:Volleyball
SEQUENCE:261102021
LOCATION:Zeidlerhalle, Schulstrasse 26a, 90537 Feucht
GEO:49.37752761668970400000;11.20261345767210000000
SUMMARY:U16 MM w: TSV Feucht - TSV Ansbach
CLASS:PUBLIC
DTSTART;VALUE=DATE:20200119
DTSTAMP:20200126T091500Z
DTEND;VALUE=DATE:20200120
END:VEVENT
END:VCALENDAR