BEGIN:VCALENDAR
VERSION:2.0
PRODID:VSD-Portal-www.volley.de
METHOD:PUBLISH
BEGIN:VEVENT
UID:46078-0b1cb5f82de24c98f11e829bddb1f0f9
X-WR-RELCALID:46078-0b1cb5f82de24c98f11e829bddb1f0f9
ORGANIZER:Volleyball
SEQUENCE:261112126
SUMMARY:BKl Süd Fr.: SV Rednitzhembach 2 - TSV Wassertrüdingen
CLASS:PUBLIC
DTSTART:20061007T130000Z
DTSTAMP:20140607T192000Z
END:VEVENT
BEGIN:VEVENT
UID:46082-0b1cb5f82de24c98f11e829bddb1f0f9
X-WR-RELCALID:46082-0b1cb5f82de24c98f11e829bddb1f0f9
ORGANIZER:Volleyball
SEQUENCE:261112126
SUMMARY:BKl Süd Fr.: TV Heilsbronn - TSV Wassertrüdingen
CLASS:PUBLIC
DTSTART:20061007T130000Z
DTSTAMP:20140607T192000Z
END:VEVENT
BEGIN:VEVENT
UID:46073-0b1cb5f82de24c98f11e829bddb1f0f9
X-WR-RELCALID:46073-0b1cb5f82de24c98f11e829bddb1f0f9
ORGANIZER:Volleyball
SEQUENCE:261112126
SUMMARY:BKl Süd Fr.: TSV Dürrwangen - TSV Wassertrüdingen
CLASS:PUBLIC
DTSTART:20061021T120000Z
DTSTAMP:20140607T192000Z
END:VEVENT
BEGIN:VEVENT
UID:46070-0b1cb5f82de24c98f11e829bddb1f0f9
X-WR-RELCALID:46070-0b1cb5f82de24c98f11e829bddb1f0f9
ORGANIZER:Volleyball
SEQUENCE:261112126
SUMMARY:BKl Süd Fr.: TSV Georgensgmünd - TSV Wassertrüdingen
CLASS:PUBLIC
DTSTART:20061021T120000Z
DTSTAMP:20140607T192000Z
END:VEVENT
BEGIN:VEVENT
UID:46071-0b1cb5f82de24c98f11e829bddb1f0f9
X-WR-RELCALID:46071-0b1cb5f82de24c98f11e829bddb1f0f9
ORGANIZER:Volleyball
SEQUENCE:261112126
SUMMARY:BKl Süd Fr.: TSV Wassertrüdingen - TSV Bechhofen 2
CLASS:PUBLIC
DTSTART:20061118T130000Z
DTSTAMP:20140607T192000Z
END:VEVENT
BEGIN:VEVENT
UID:46069-0b1cb5f82de24c98f11e829bddb1f0f9
X-WR-RELCALID:46069-0b1cb5f82de24c98f11e829bddb1f0f9
ORGANIZER:Volleyball
SEQUENCE:261112126
SUMMARY:BKl Süd Fr.: TSV Wassertrüdingen - TSV Lichtenau
CLASS:PUBLIC
DTSTART:20061118T130000Z
DTSTAMP:20140607T192000Z
END:VEVENT
BEGIN:VEVENT
UID:46060-0b1cb5f82de24c98f11e829bddb1f0f9
X-WR-RELCALID:46060-0b1cb5f82de24c98f11e829bddb1f0f9
ORGANIZER:Volleyball
SEQUENCE:261112126
SUMMARY:BKl Süd Fr.: DJK Veitsaurach - TSV Wassertrüdingen
CLASS:PUBLIC
DTSTART:20061125T140000Z
DTSTAMP:20140607T192000Z
END:VEVENT
BEGIN:VEVENT
UID:46057-0b1cb5f82de24c98f11e829bddb1f0f9
X-WR-RELCALID:46057-0b1cb5f82de24c98f11e829bddb1f0f9
ORGANIZER:Volleyball
SEQUENCE:261112126
SUMMARY:BKl Süd Fr.: TSV Wassertrüdingen - TSG Solnhofen
CLASS:PUBLIC
DTSTART:20061125T140000Z
DTSTAMP:20140607T192000Z
END:VEVENT
BEGIN:VEVENT
UID:46030-0b1cb5f82de24c98f11e829bddb1f0f9
X-WR-RELCALID:46030-0b1cb5f82de24c98f11e829bddb1f0f9
ORGANIZER:Volleyball
SEQUENCE:261112126
SUMMARY:BKl Süd Fr.: SV Rednitzhembach 2 - TSV Wassertrüdingen
CLASS:PUBLIC
DTSTART:20061209T140000Z
DTSTAMP:20140607T192000Z
END:VEVENT
BEGIN:VEVENT
UID:46032-0b1cb5f82de24c98f11e829bddb1f0f9
X-WR-RELCALID:46032-0b1cb5f82de24c98f11e829bddb1f0f9
ORGANIZER:Volleyball
SEQUENCE:261112126
SUMMARY:BKl Süd Fr.: TSV Wassertrüdingen - TSV Georgensgmünd
CLASS:PUBLIC
DTSTART:20061209T140000Z
DTSTAMP:20140607T192000Z
END:VEVENT
BEGIN:VEVENT
UID:46040-0b1cb5f82de24c98f11e829bddb1f0f9
X-WR-RELCALID:46040-0b1cb5f82de24c98f11e829bddb1f0f9
ORGANIZER:Volleyball
SEQUENCE:261112126
SUMMARY:BKl Süd Fr.: TuS Feuchtwangen - TSV Wassertrüdingen
CLASS:PUBLIC
DTSTART:20070113T130000Z
DTSTAMP:20140607T192000Z
END:VEVENT
BEGIN:VEVENT
UID:46042-0b1cb5f82de24c98f11e829bddb1f0f9
X-WR-RELCALID:46042-0b1cb5f82de24c98f11e829bddb1f0f9
ORGANIZER:Volleyball
SEQUENCE:261112126
SUMMARY:BKl Süd Fr.: TV Heilsbronn - TSV Wassertrüdingen
CLASS:PUBLIC
DTSTART:20070113T130000Z
DTSTAMP:20140607T192000Z
END:VEVENT
BEGIN:VEVENT
UID:46036-0b1cb5f82de24c98f11e829bddb1f0f9
X-WR-RELCALID:46036-0b1cb5f82de24c98f11e829bddb1f0f9
ORGANIZER:Volleyball
SEQUENCE:261112126
SUMMARY:BKl Süd Fr.: TSV Wassertrüdingen - DJK Veitsaurach
CLASS:PUBLIC
DTSTART:20070120T140000Z
DTSTAMP:20140607T192000Z
END:VEVENT
BEGIN:VEVENT
UID:46035-0b1cb5f82de24c98f11e829bddb1f0f9
X-WR-RELCALID:46035-0b1cb5f82de24c98f11e829bddb1f0f9
ORGANIZER:Volleyball
SEQUENCE:261112126
SUMMARY:BKl Süd Fr.: TSV Wassertrüdingen - TSV Dürrwangen
CLASS:PUBLIC
DTSTART:20070120T140000Z
DTSTAMP:20140607T192000Z
END:VEVENT
BEGIN:VEVENT
UID:46021-0b1cb5f82de24c98f11e829bddb1f0f9
X-WR-RELCALID:46021-0b1cb5f82de24c98f11e829bddb1f0f9
ORGANIZER:Volleyball
SEQUENCE:261112126
SUMMARY:BKl Süd Fr.: TSV Wassertrüdingen - TSG Solnhofen
CLASS:PUBLIC
DTSTART:20070210T140000Z
DTSTAMP:20140607T192000Z
END:VEVENT
BEGIN:VEVENT
UID:46020-0b1cb5f82de24c98f11e829bddb1f0f9
X-WR-RELCALID:46020-0b1cb5f82de24c98f11e829bddb1f0f9
ORGANIZER:Volleyball
SEQUENCE:261112126
SUMMARY:BKl Süd Fr.: TSV Wassertrüdingen - TSV Lichtenau
CLASS:PUBLIC
DTSTART:20070210T140000Z
DTSTAMP:20140607T192000Z
END:VEVENT
BEGIN:VEVENT
UID:46006-0b1cb5f82de24c98f11e829bddb1f0f9
X-WR-RELCALID:46006-0b1cb5f82de24c98f11e829bddb1f0f9
ORGANIZER:Volleyball
SEQUENCE:261112126
SUMMARY:BKl Süd Fr.: TuS Feuchtwangen - TSV Wassertrüdingen
CLASS:PUBLIC
DTSTART:20070310T130000Z
DTSTAMP:20140607T192000Z
END:VEVENT
BEGIN:VEVENT
UID:46092-0b1cb5f82de24c98f11e829bddb1f0f9
X-WR-RELCALID:46092-0b1cb5f82de24c98f11e829bddb1f0f9
ORGANIZER:Volleyball
SEQUENCE:261112126
SUMMARY:BKl Süd Fr.: TSV Wassertrüdingen - TSV Bechhofen 2
CLASS:PUBLIC
DTSTART:20070310T130000Z
DTSTAMP:20140607T192000Z
END:VEVENT
END:VCALENDAR