BEGIN:VCALENDAR
VERSION:2.0
PRODID:VSD-Portal-www.volley.de
METHOD:PUBLISH
BEGIN:VEVENT
UID:46453-0b1cb5f82de24c98f11e829bddb1f0f9
X-WR-RELCALID:46453-0b1cb5f82de24c98f11e829bddb1f0f9
ORGANIZER:Volleyball
SEQUENCE:261111042
SUMMARY:BKl West Fr.: TSV Cadolzburg 2 - TSV Lichtenau 2
CLASS:PUBLIC
DTSTART:20060930T120000Z
DTSTAMP:20140607T192000Z
END:VEVENT
BEGIN:VEVENT
UID:46454-0b1cb5f82de24c98f11e829bddb1f0f9
X-WR-RELCALID:46454-0b1cb5f82de24c98f11e829bddb1f0f9
ORGANIZER:Volleyball
SEQUENCE:261111042
SUMMARY:BKl West Fr.: TSV Lichtenau 2 - TSV Marktbergel
CLASS:PUBLIC
DTSTART:20060930T120000Z
DTSTAMP:20140607T192000Z
END:VEVENT
BEGIN:VEVENT
UID:46431-0b1cb5f82de24c98f11e829bddb1f0f9
X-WR-RELCALID:46431-0b1cb5f82de24c98f11e829bddb1f0f9
ORGANIZER:Volleyball
SEQUENCE:261111042
SUMMARY:BKl West Fr.: TSV Lichtenau 2 - TSV Cadolzburg 2
CLASS:PUBLIC
DTSTART:20061111T130000Z
DTSTAMP:20140607T192000Z
END:VEVENT
BEGIN:VEVENT
UID:46430-0b1cb5f82de24c98f11e829bddb1f0f9
X-WR-RELCALID:46430-0b1cb5f82de24c98f11e829bddb1f0f9
ORGANIZER:Volleyball
SEQUENCE:261111042
SUMMARY:BKl West Fr.: TSV Lichtenau 2 - SSV Egenhausen 1
CLASS:PUBLIC
DTSTART:20061111T130000Z
DTSTAMP:20140607T192000Z
END:VEVENT
BEGIN:VEVENT
UID:46421-0b1cb5f82de24c98f11e829bddb1f0f9
X-WR-RELCALID:46421-0b1cb5f82de24c98f11e829bddb1f0f9
ORGANIZER:Volleyball
SEQUENCE:261111042
SUMMARY:BKl West Fr.: TSV Windsbach - TSV Lichtenau 2
CLASS:PUBLIC
DTSTART:20061125T130000Z
DTSTAMP:20140607T192000Z
END:VEVENT
BEGIN:VEVENT
UID:46426-0b1cb5f82de24c98f11e829bddb1f0f9
X-WR-RELCALID:46426-0b1cb5f82de24c98f11e829bddb1f0f9
ORGANIZER:Volleyball
SEQUENCE:261111042
SUMMARY:BKl West Fr.: TV Bad Windsheim 2 - TSV Lichtenau 2
CLASS:PUBLIC
DTSTART:20061125T130000Z
DTSTAMP:20140607T192000Z
END:VEVENT
BEGIN:VEVENT
UID:46413-0b1cb5f82de24c98f11e829bddb1f0f9
X-WR-RELCALID:46413-0b1cb5f82de24c98f11e829bddb1f0f9
ORGANIZER:Volleyball
SEQUENCE:261111042
SUMMARY:BKl West Fr.: TSV Windsbach - TSV Lichtenau 2
CLASS:PUBLIC
DTSTART:20061202T130000Z
DTSTAMP:20140607T192000Z
END:VEVENT
BEGIN:VEVENT
UID:46414-0b1cb5f82de24c98f11e829bddb1f0f9
X-WR-RELCALID:46414-0b1cb5f82de24c98f11e829bddb1f0f9
ORGANIZER:Volleyball
SEQUENCE:261111042
SUMMARY:BKl West Fr.: TSV Bechhofen 3 - TSV Lichtenau 2
CLASS:PUBLIC
DTSTART:20061202T130000Z
DTSTAMP:20140607T192000Z
END:VEVENT
BEGIN:VEVENT
UID:46416-0b1cb5f82de24c98f11e829bddb1f0f9
X-WR-RELCALID:46416-0b1cb5f82de24c98f11e829bddb1f0f9
ORGANIZER:Volleyball
SEQUENCE:261111042
SUMMARY:BKl West Fr.: TSV Dinkelsbühl - TSV Lichtenau 2
CLASS:PUBLIC
DTSTART:20061216T130000Z
DTSTAMP:20140607T192000Z
END:VEVENT
BEGIN:VEVENT
UID:46412-0b1cb5f82de24c98f11e829bddb1f0f9
X-WR-RELCALID:46412-0b1cb5f82de24c98f11e829bddb1f0f9
ORGANIZER:Volleyball
SEQUENCE:261111042
SUMMARY:BKl West Fr.: TSV Bechhofen 3 - TSV Lichtenau 2
CLASS:PUBLIC
DTSTART:20061216T130000Z
DTSTAMP:20140607T192000Z
END:VEVENT
BEGIN:VEVENT
UID:46399-0b1cb5f82de24c98f11e829bddb1f0f9
X-WR-RELCALID:46399-0b1cb5f82de24c98f11e829bddb1f0f9
ORGANIZER:Volleyball
SEQUENCE:261111042
SUMMARY:BKl West Fr.: TuS Feuchtwangen 2 - TSV Lichtenau 2
CLASS:PUBLIC
DTSTART:20070113T130000Z
DTSTAMP:20140607T192000Z
END:VEVENT
BEGIN:VEVENT
UID:46390-0b1cb5f82de24c98f11e829bddb1f0f9
X-WR-RELCALID:46390-0b1cb5f82de24c98f11e829bddb1f0f9
ORGANIZER:Volleyball
SEQUENCE:261111042
SUMMARY:BKl West Fr.: SSV Egenhausen 2 - TSV Lichtenau 2
CLASS:PUBLIC
DTSTART:20070113T130000Z
DTSTAMP:20140607T192000Z
END:VEVENT
BEGIN:VEVENT
UID:46391-0b1cb5f82de24c98f11e829bddb1f0f9
X-WR-RELCALID:46391-0b1cb5f82de24c98f11e829bddb1f0f9
ORGANIZER:Volleyball
SEQUENCE:261111042
SUMMARY:BKl West Fr.: TSV Lichtenau 2 - TuS Feuchtwangen 2
CLASS:PUBLIC
DTSTART:20070127T130000Z
DTSTAMP:20140607T192000Z
END:VEVENT
BEGIN:VEVENT
UID:46392-0b1cb5f82de24c98f11e829bddb1f0f9
X-WR-RELCALID:46392-0b1cb5f82de24c98f11e829bddb1f0f9
ORGANIZER:Volleyball
SEQUENCE:261111042
SUMMARY:BKl West Fr.: TSV Lichtenau 2 - TSV Marktbergel
CLASS:PUBLIC
DTSTART:20070127T130000Z
DTSTAMP:20140607T192000Z
END:VEVENT
BEGIN:VEVENT
UID:46383-0b1cb5f82de24c98f11e829bddb1f0f9
X-WR-RELCALID:46383-0b1cb5f82de24c98f11e829bddb1f0f9
ORGANIZER:Volleyball
SEQUENCE:261111042
SUMMARY:BKl West Fr.: TSV Lichtenau 2 - TSV Dinkelsbühl
CLASS:PUBLIC
DTSTART:20070210T130000Z
DTSTAMP:20140607T192000Z
END:VEVENT
BEGIN:VEVENT
UID:46382-0b1cb5f82de24c98f11e829bddb1f0f9
X-WR-RELCALID:46382-0b1cb5f82de24c98f11e829bddb1f0f9
ORGANIZER:Volleyball
SEQUENCE:261111042
SUMMARY:BKl West Fr.: TSV Lichtenau 2 - TV Bad Windsheim 2
CLASS:PUBLIC
DTSTART:20070210T130000Z
DTSTAMP:20140607T192000Z
END:VEVENT
BEGIN:VEVENT
UID:46366-0b1cb5f82de24c98f11e829bddb1f0f9
X-WR-RELCALID:46366-0b1cb5f82de24c98f11e829bddb1f0f9
ORGANIZER:Volleyball
SEQUENCE:261111042
SUMMARY:BKl West Fr.: SSV Egenhausen 1 - TSV Lichtenau 2
CLASS:PUBLIC
DTSTART:20070310T130000Z
DTSTAMP:20140607T192000Z
END:VEVENT
BEGIN:VEVENT
UID:46370-0b1cb5f82de24c98f11e829bddb1f0f9
X-WR-RELCALID:46370-0b1cb5f82de24c98f11e829bddb1f0f9
ORGANIZER:Volleyball
SEQUENCE:261111042
SUMMARY:BKl West Fr.: SSV Egenhausen 2 - TSV Lichtenau 2
CLASS:PUBLIC
DTSTART:20070310T130000Z
DTSTAMP:20140607T192000Z
END:VEVENT
END:VCALENDAR