BEGIN:VCALENDAR
VERSION:2.0
PRODID:VSD-Portal-www.volley.de
METHOD:PUBLISH
BEGIN:VEVENT
UID:236261-2da69939ed67427dc6bf3daba21059e9
X-WR-RELCALID:236261-2da69939ed67427dc6bf3daba21059e9
ORGANIZER:Volleyball
SEQUENCE:261121822
SUMMARY:BKl B Mä.: Polizei SV IV - TSV Lichtenberg
CLASS:PUBLIC
DTSTART;VALUE=DATE:20080920
DTSTAMP:20140607T181900Z
DTEND;VALUE=DATE:20080921
END:VEVENT
BEGIN:VEVENT
UID:236164-2da69939ed67427dc6bf3daba21059e9
X-WR-RELCALID:236164-2da69939ed67427dc6bf3daba21059e9
ORGANIZER:Volleyball
SEQUENCE:261121822
SUMMARY:BKl B Mä.: TSV Lichtenberg - SV BVG 49
CLASS:PUBLIC
DTSTART;VALUE=DATE:20080920
DTSTAMP:20140607T181900Z
DTEND;VALUE=DATE:20080921
END:VEVENT
BEGIN:VEVENT
UID:236257-2da69939ed67427dc6bf3daba21059e9
X-WR-RELCALID:236257-2da69939ed67427dc6bf3daba21059e9
ORGANIZER:Volleyball
SEQUENCE:261121822
SUMMARY:BKl B Mä.: TSV Lichtenberg - VC Rotation Mitte II
CLASS:PUBLIC
DTSTART;VALUE=DATE:20081005
DTSTAMP:20140607T181900Z
DTEND;VALUE=DATE:20081006
END:VEVENT
BEGIN:VEVENT
UID:236255-2da69939ed67427dc6bf3daba21059e9
X-WR-RELCALID:236255-2da69939ed67427dc6bf3daba21059e9
ORGANIZER:Volleyball
SEQUENCE:261121822
SUMMARY:BKl B Mä.: TSV Lichtenberg - TSV Spandau III
CLASS:PUBLIC
DTSTART;VALUE=DATE:20081005
DTSTAMP:20140607T181900Z
DTEND;VALUE=DATE:20081006
END:VEVENT
BEGIN:VEVENT
UID:236247-2da69939ed67427dc6bf3daba21059e9
X-WR-RELCALID:236247-2da69939ed67427dc6bf3daba21059e9
ORGANIZER:Volleyball
SEQUENCE:261121822
SUMMARY:BKl B Mä.: ASV Berlin - TSV Lichtenberg
CLASS:PUBLIC
DTSTART;VALUE=DATE:20081011
DTSTAMP:20140607T181900Z
DTEND;VALUE=DATE:20081012
END:VEVENT
BEGIN:VEVENT
UID:236246-2da69939ed67427dc6bf3daba21059e9
X-WR-RELCALID:236246-2da69939ed67427dc6bf3daba21059e9
ORGANIZER:Volleyball
SEQUENCE:261121822
SUMMARY:BKl B Mä.: TSV Lichtenberg - CfL Berlin
CLASS:PUBLIC
DTSTART;VALUE=DATE:20081011
DTSTAMP:20140607T181900Z
DTEND;VALUE=DATE:20081012
END:VEVENT
BEGIN:VEVENT
UID:236230-2da69939ed67427dc6bf3daba21059e9
X-WR-RELCALID:236230-2da69939ed67427dc6bf3daba21059e9
ORGANIZER:Volleyball
SEQUENCE:261121822
SUMMARY:BKl B Mä.: CfL Berlin - TSV Lichtenberg
CLASS:PUBLIC
DTSTART;VALUE=DATE:20081108
DTSTAMP:20140607T181900Z
DTEND;VALUE=DATE:20081109
END:VEVENT
BEGIN:VEVENT
UID:236228-2da69939ed67427dc6bf3daba21059e9
X-WR-RELCALID:236228-2da69939ed67427dc6bf3daba21059e9
ORGANIZER:Volleyball
SEQUENCE:261121822
SUMMARY:BKl B Mä.: SV Preußen II - TSV Lichtenberg
CLASS:PUBLIC
DTSTART;VALUE=DATE:20081108
DTSTAMP:20140607T181900Z
DTEND;VALUE=DATE:20081109
END:VEVENT
BEGIN:VEVENT
UID:236221-2da69939ed67427dc6bf3daba21059e9
X-WR-RELCALID:236221-2da69939ed67427dc6bf3daba21059e9
ORGANIZER:Volleyball
SEQUENCE:261121822
SUMMARY:BKl B Mä.: SV Friedrichstadt - TSV Lichtenberg
CLASS:PUBLIC
DTSTART;VALUE=DATE:20081122
DTSTAMP:20140607T181900Z
DTEND;VALUE=DATE:20081123
END:VEVENT
BEGIN:VEVENT
UID:236218-2da69939ed67427dc6bf3daba21059e9
X-WR-RELCALID:236218-2da69939ed67427dc6bf3daba21059e9
ORGANIZER:Volleyball
SEQUENCE:261121822
SUMMARY:BKl B Mä.: TSV Lichtenberg - VfK Südwest III
CLASS:PUBLIC
DTSTART;VALUE=DATE:20081122
DTSTAMP:20140607T181900Z
DTEND;VALUE=DATE:20081123
END:VEVENT
BEGIN:VEVENT
UID:236204-2da69939ed67427dc6bf3daba21059e9
X-WR-RELCALID:236204-2da69939ed67427dc6bf3daba21059e9
ORGANIZER:Volleyball
SEQUENCE:261121822
SUMMARY:BKl B Mä.: TSV Lichtenberg - Polizei SV IV
CLASS:PUBLIC
DTSTART;VALUE=DATE:20090110
DTSTAMP:20140607T181900Z
DTEND;VALUE=DATE:20090111
END:VEVENT
BEGIN:VEVENT
UID:236203-2da69939ed67427dc6bf3daba21059e9
X-WR-RELCALID:236203-2da69939ed67427dc6bf3daba21059e9
ORGANIZER:Volleyball
SEQUENCE:261121822
SUMMARY:BKl B Mä.: TSV Lichtenberg - TSV Spandau III
CLASS:PUBLIC
DTSTART;VALUE=DATE:20090110
DTSTAMP:20140607T181900Z
DTEND;VALUE=DATE:20090111
END:VEVENT
BEGIN:VEVENT
UID:236192-2da69939ed67427dc6bf3daba21059e9
X-WR-RELCALID:236192-2da69939ed67427dc6bf3daba21059e9
ORGANIZER:Volleyball
SEQUENCE:261121822
SUMMARY:BKl B Mä.: TSV Lichtenberg - SV Preußen II
CLASS:PUBLIC
DTSTART;VALUE=DATE:20090124
DTSTAMP:20140607T181900Z
DTEND;VALUE=DATE:20090125
END:VEVENT
BEGIN:VEVENT
UID:236191-2da69939ed67427dc6bf3daba21059e9
X-WR-RELCALID:236191-2da69939ed67427dc6bf3daba21059e9
ORGANIZER:Volleyball
SEQUENCE:261121822
SUMMARY:BKl B Mä.: TSV Lichtenberg - VfK Südwest III
CLASS:PUBLIC
DTSTART;VALUE=DATE:20090124
DTSTAMP:20140607T181900Z
DTEND;VALUE=DATE:20090125
END:VEVENT
BEGIN:VEVENT
UID:236183-2da69939ed67427dc6bf3daba21059e9
X-WR-RELCALID:236183-2da69939ed67427dc6bf3daba21059e9
ORGANIZER:Volleyball
SEQUENCE:261121822
SUMMARY:BKl B Mä.: VC Rotation Mitte II - TSV Lichtenberg
CLASS:PUBLIC
DTSTART;VALUE=DATE:20090208
DTSTAMP:20140607T181900Z
DTEND;VALUE=DATE:20090209
END:VEVENT
BEGIN:VEVENT
UID:236181-2da69939ed67427dc6bf3daba21059e9
X-WR-RELCALID:236181-2da69939ed67427dc6bf3daba21059e9
ORGANIZER:Volleyball
SEQUENCE:261121822
SUMMARY:BKl B Mä.: SV Friedrichstadt - TSV Lichtenberg
CLASS:PUBLIC
DTSTART;VALUE=DATE:20090208
DTSTAMP:20140607T181900Z
DTEND;VALUE=DATE:20090209
END:VEVENT
BEGIN:VEVENT
UID:236177-2da69939ed67427dc6bf3daba21059e9
X-WR-RELCALID:236177-2da69939ed67427dc6bf3daba21059e9
ORGANIZER:Volleyball
SEQUENCE:261121822
SUMMARY:BKl B Mä.: ASV Berlin - TSV Lichtenberg
CLASS:PUBLIC
DTSTART;VALUE=DATE:20090228
DTSTAMP:20140607T181900Z
DTEND;VALUE=DATE:20090301
END:VEVENT
BEGIN:VEVENT
UID:236176-2da69939ed67427dc6bf3daba21059e9
X-WR-RELCALID:236176-2da69939ed67427dc6bf3daba21059e9
ORGANIZER:Volleyball
SEQUENCE:261121822
SUMMARY:BKl B Mä.: TSV Lichtenberg - TSV Wedding II
CLASS:PUBLIC
DTSTART;VALUE=DATE:20090228
DTSTAMP:20140607T181900Z
DTEND;VALUE=DATE:20090301
END:VEVENT
BEGIN:VEVENT
UID:236165-2da69939ed67427dc6bf3daba21059e9
X-WR-RELCALID:236165-2da69939ed67427dc6bf3daba21059e9
ORGANIZER:Volleyball
SEQUENCE:261121822
SUMMARY:BKl B Mä.: TSV Lichtenberg - SV BVG 49
CLASS:PUBLIC
DTSTART;VALUE=DATE:20090314
DTSTAMP:20140607T181900Z
DTEND;VALUE=DATE:20090315
END:VEVENT
BEGIN:VEVENT
UID:236268-2da69939ed67427dc6bf3daba21059e9
X-WR-RELCALID:236268-2da69939ed67427dc6bf3daba21059e9
ORGANIZER:Volleyball
SEQUENCE:261121822
SUMMARY:BKl B Mä.: TSV Lichtenberg - TSV Wedding II
CLASS:PUBLIC
DTSTART;VALUE=DATE:20090314
DTSTAMP:20140607T181900Z
DTEND;VALUE=DATE:20090315
END:VEVENT
END:VCALENDAR