BEGIN:VCALENDAR
VERSION:2.0
PRODID:VSD-Portal-www.volley.de
METHOD:PUBLISH
BEGIN:VEVENT
UID:181374-2da69939ed67427dc6bf3daba21059e9
X-WR-RELCALID:181374-2da69939ed67427dc6bf3daba21059e9
ORGANIZER:Volleyball
SEQUENCE:261140314
SUMMARY:2. BL Mä.: VGF Marktredwitz - VCO Bayern Kempfenhausen
CLASS:PUBLIC
DTSTART:20080913T180000Z
DTSTAMP:20140607T181800Z
END:VEVENT
BEGIN:VEVENT
UID:181368-2da69939ed67427dc6bf3daba21059e9
X-WR-RELCALID:181368-2da69939ed67427dc6bf3daba21059e9
ORGANIZER:Volleyball
SEQUENCE:261140314
SUMMARY:2. BL Mä.: VC Dresden - VGF Marktredwitz
CLASS:PUBLIC
DTSTART:20080920T180000Z
DTSTAMP:20140607T181800Z
END:VEVENT
BEGIN:VEVENT
UID:181271-2da69939ed67427dc6bf3daba21059e9
X-WR-RELCALID:181271-2da69939ed67427dc6bf3daba21059e9
ORGANIZER:Volleyball
SEQUENCE:261140314
SUMMARY:2. BL Mä.: VGF Marktredwitz - rhein-main volley
CLASS:PUBLIC
DTSTART:20080927T180000Z
DTSTAMP:20140607T181800Z
END:VEVENT
BEGIN:VEVENT
UID:181274-2da69939ed67427dc6bf3daba21059e9
X-WR-RELCALID:181274-2da69939ed67427dc6bf3daba21059e9
ORGANIZER:Volleyball
SEQUENCE:261140314
SUMMARY:2. BL Mä.: VGF Marktredwitz - GSVE Delitzsch
CLASS:PUBLIC
DTSTART:20081004T180000Z
DTSTAMP:20140607T181800Z
END:VEVENT
BEGIN:VEVENT
UID:181345-2da69939ed67427dc6bf3daba21059e9
X-WR-RELCALID:181345-2da69939ed67427dc6bf3daba21059e9
ORGANIZER:Volleyball
SEQUENCE:261140314
SUMMARY:2. BL Mä.: FT 1844 Freiburg - VGF Marktredwitz
CLASS:PUBLIC
DTSTART:20081011T180000Z
DTSTAMP:20140607T181800Z
END:VEVENT
BEGIN:VEVENT
UID:181261-2da69939ed67427dc6bf3daba21059e9
X-WR-RELCALID:181261-2da69939ed67427dc6bf3daba21059e9
ORGANIZER:Volleyball
SEQUENCE:261140314
SUMMARY:2. BL Mä.: VGF Marktredwitz - ASV Dachau
CLASS:PUBLIC
DTSTART:20081018T180000Z
DTSTAMP:20140607T181800Z
END:VEVENT
BEGIN:VEVENT
UID:181404-2da69939ed67427dc6bf3daba21059e9
X-WR-RELCALID:181404-2da69939ed67427dc6bf3daba21059e9
ORGANIZER:Volleyball
SEQUENCE:261140314
SUMMARY:2. BL Mä.: TuS Kriftel - VGF Marktredwitz
CLASS:PUBLIC
DTSTART:20081025T180000Z
DTSTAMP:20140607T181800Z
END:VEVENT
BEGIN:VEVENT
UID:181350-2da69939ed67427dc6bf3daba21059e9
X-WR-RELCALID:181350-2da69939ed67427dc6bf3daba21059e9
ORGANIZER:Volleyball
SEQUENCE:261140314
SUMMARY:2. BL Mä.: VGF Marktredwitz - SV Schwaig
CLASS:PUBLIC
DTSTART:20081108T190000Z
DTSTAMP:20140607T181800Z
END:VEVENT
BEGIN:VEVENT
UID:181391-2da69939ed67427dc6bf3daba21059e9
X-WR-RELCALID:181391-2da69939ed67427dc6bf3daba21059e9
ORGANIZER:Volleyball
SEQUENCE:261140314
SUMMARY:2. BL Mä.: VGF Marktredwitz - TV Bühl
CLASS:PUBLIC
DTSTART:20081122T190000Z
DTSTAMP:20140607T181800Z
END:VEVENT
BEGIN:VEVENT
UID:181361-2da69939ed67427dc6bf3daba21059e9
X-WR-RELCALID:181361-2da69939ed67427dc6bf3daba21059e9
ORGANIZER:Volleyball
SEQUENCE:261140314
SUMMARY:2. BL Mä.: VGF Marktredwitz - VC Eintracht Mendig
CLASS:PUBLIC
DTSTART:20081129T190000Z
DTSTAMP:20140607T181800Z
END:VEVENT
BEGIN:VEVENT
UID:181410-2da69939ed67427dc6bf3daba21059e9
X-WR-RELCALID:181410-2da69939ed67427dc6bf3daba21059e9
ORGANIZER:Volleyball
SEQUENCE:261140314
SUMMARY:2. BL Mä.: TuS Durmersheim - VGF Marktredwitz
CLASS:PUBLIC
DTSTART:20081206T183000Z
DTSTAMP:20140607T181800Z
END:VEVENT
BEGIN:VEVENT
UID:181405-2da69939ed67427dc6bf3daba21059e9
X-WR-RELCALID:181405-2da69939ed67427dc6bf3daba21059e9
ORGANIZER:Volleyball
SEQUENCE:261140314
SUMMARY:2. BL Mä.: VGF Marktredwitz - VolleyYoungStars Friedrichshafen
 
CLASS:PUBLIC
DTSTART:20081213T190000Z
DTSTAMP:20140607T181800Z
END:VEVENT
BEGIN:VEVENT
UID:181354-2da69939ed67427dc6bf3daba21059e9
X-WR-RELCALID:181354-2da69939ed67427dc6bf3daba21059e9
ORGANIZER:Volleyball
SEQUENCE:261140314
SUMMARY:2. BL Mä.: VC Gotha - VGF Marktredwitz
CLASS:PUBLIC
DTSTART:20081220T190000Z
DTSTAMP:20140607T181800Z
END:VEVENT
BEGIN:VEVENT
UID:181307-2da69939ed67427dc6bf3daba21059e9
X-WR-RELCALID:181307-2da69939ed67427dc6bf3daba21059e9
ORGANIZER:Volleyball
SEQUENCE:261140314
SUMMARY:2. BL Mä.: VCO Bayern Kempfenhausen - VGF Marktredwitz
CLASS:PUBLIC
DTSTART:20090110T190000Z
DTSTAMP:20140607T181800Z
END:VEVENT
BEGIN:VEVENT
UID:181257-2da69939ed67427dc6bf3daba21059e9
X-WR-RELCALID:181257-2da69939ed67427dc6bf3daba21059e9
ORGANIZER:Volleyball
SEQUENCE:261140314
SUMMARY:2. BL Mä.: rhein-main volley - VGF Marktredwitz
CLASS:PUBLIC
DTSTART:20090124T183000Z
DTSTAMP:20140607T181800Z
END:VEVENT
BEGIN:VEVENT
UID:181303-2da69939ed67427dc6bf3daba21059e9
X-WR-RELCALID:181303-2da69939ed67427dc6bf3daba21059e9
ORGANIZER:Volleyball
SEQUENCE:261140314
SUMMARY:2. BL Mä.: GSVE Delitzsch - VGF Marktredwitz
CLASS:PUBLIC
DTSTART:20090131T190000Z
DTSTAMP:20140607T181800Z
END:VEVENT
BEGIN:VEVENT
UID:181398-2da69939ed67427dc6bf3daba21059e9
X-WR-RELCALID:181398-2da69939ed67427dc6bf3daba21059e9
ORGANIZER:Volleyball
SEQUENCE:261140314
SUMMARY:2. BL Mä.: VGF Marktredwitz - FT 1844 Freiburg
CLASS:PUBLIC
DTSTART:20090207T190000Z
DTSTAMP:20140607T181800Z
END:VEVENT
BEGIN:VEVENT
UID:181366-2da69939ed67427dc6bf3daba21059e9
X-WR-RELCALID:181366-2da69939ed67427dc6bf3daba21059e9
ORGANIZER:Volleyball
SEQUENCE:261140314
SUMMARY:2. BL Mä.: ASV Dachau - VGF Marktredwitz
CLASS:PUBLIC
DTSTART:20090215T143000Z
DTSTAMP:20140607T181800Z
END:VEVENT
BEGIN:VEVENT
UID:181351-2da69939ed67427dc6bf3daba21059e9
X-WR-RELCALID:181351-2da69939ed67427dc6bf3daba21059e9
ORGANIZER:Volleyball
SEQUENCE:261140314
SUMMARY:2. BL Mä.: VGF Marktredwitz - TuS Kriftel
CLASS:PUBLIC
DTSTART:20090221T190000Z
DTSTAMP:20140607T181800Z
END:VEVENT
BEGIN:VEVENT
UID:181319-2da69939ed67427dc6bf3daba21059e9
X-WR-RELCALID:181319-2da69939ed67427dc6bf3daba21059e9
ORGANIZER:Volleyball
SEQUENCE:261140314
SUMMARY:2. BL Mä.: SV Schwaig - VGF Marktredwitz
CLASS:PUBLIC
DTSTART:20090228T183000Z
DTSTAMP:20140607T181800Z
END:VEVENT
BEGIN:VEVENT
UID:181288-2da69939ed67427dc6bf3daba21059e9
X-WR-RELCALID:181288-2da69939ed67427dc6bf3daba21059e9
ORGANIZER:Volleyball
SEQUENCE:261140314
SUMMARY:2. BL Mä.: TV Bühl - VGF Marktredwitz
CLASS:PUBLIC
DTSTART:20090314T190000Z
DTSTAMP:20140607T181800Z
END:VEVENT
BEGIN:VEVENT
UID:181421-2da69939ed67427dc6bf3daba21059e9
X-WR-RELCALID:181421-2da69939ed67427dc6bf3daba21059e9
ORGANIZER:Volleyball
SEQUENCE:261140314
SUMMARY:2. BL Mä.: VC Eintracht Mendig - VGF Marktredwitz
CLASS:PUBLIC
DTSTART:20090321T190000Z
DTSTAMP:20140607T181800Z
END:VEVENT
BEGIN:VEVENT
UID:181293-2da69939ed67427dc6bf3daba21059e9
X-WR-RELCALID:181293-2da69939ed67427dc6bf3daba21059e9
ORGANIZER:Volleyball
SEQUENCE:261140314
SUMMARY:2. BL Mä.: VGF Marktredwitz - TuS Durmersheim
CLASS:PUBLIC
DTSTART:20090328T190000Z
DTSTAMP:20140607T181800Z
END:VEVENT
BEGIN:VEVENT
UID:181286-2da69939ed67427dc6bf3daba21059e9
X-WR-RELCALID:181286-2da69939ed67427dc6bf3daba21059e9
ORGANIZER:Volleyball
SEQUENCE:261140314
SUMMARY:2. BL Mä.: VolleyYoungStars Friedrichshafen - VGF Marktredwitz
 
CLASS:PUBLIC
DTSTART:20090405T140000Z
DTSTAMP:20140607T181800Z
END:VEVENT
BEGIN:VEVENT
UID:181334-2da69939ed67427dc6bf3daba21059e9
X-WR-RELCALID:181334-2da69939ed67427dc6bf3daba21059e9
ORGANIZER:Volleyball
SEQUENCE:261140314
SUMMARY:2. BL Mä.: VGF Marktredwitz - VC Dresden
CLASS:PUBLIC
DTSTART:20090411T180000Z
DTSTAMP:20140607T181800Z
END:VEVENT
BEGIN:VEVENT
UID:181359-2da69939ed67427dc6bf3daba21059e9
X-WR-RELCALID:181359-2da69939ed67427dc6bf3daba21059e9
ORGANIZER:Volleyball
SEQUENCE:261140314
SUMMARY:2. BL Mä.: VGF Marktredwitz - VC Gotha
CLASS:PUBLIC
DTSTART:20090418T180000Z
DTSTAMP:20140607T181800Z
END:VEVENT
END:VCALENDAR