BEGIN:VCALENDAR
VERSION:2.0
PRODID:VSD-Portal-www.volley.de
METHOD:PUBLISH
BEGIN:VEVENT
UID:182447-2da69939ed67427dc6bf3daba21059e9
X-WR-RELCALID:182447-2da69939ed67427dc6bf3daba21059e9
ORGANIZER:Volleyball
SEQUENCE:261122254
SUMMARY:RL S Mä.: USC Freiburg - VC Offenburg
CLASS:PUBLIC
DTSTART:20080927T173000Z
DTSTAMP:20140607T181800Z
END:VEVENT
BEGIN:VEVENT
UID:182441-2da69939ed67427dc6bf3daba21059e9
X-WR-RELCALID:182441-2da69939ed67427dc6bf3daba21059e9
ORGANIZER:Volleyball
SEQUENCE:261122254
SUMMARY:RL S Mä.: SV Fellbach - USC Freiburg
CLASS:PUBLIC
DTSTART:20081004T180000Z
DTSTAMP:20140607T181800Z
END:VEVENT
BEGIN:VEVENT
UID:182438-2da69939ed67427dc6bf3daba21059e9
X-WR-RELCALID:182438-2da69939ed67427dc6bf3daba21059e9
ORGANIZER:Volleyball
SEQUENCE:261122254
SUMMARY:RL S Mä.: USC Freiburg - TSV Bad Saulgau
CLASS:PUBLIC
DTSTART:20081011T140000Z
DTSTAMP:20140607T181800Z
END:VEVENT
BEGIN:VEVENT
UID:182430-2da69939ed67427dc6bf3daba21059e9
X-WR-RELCALID:182430-2da69939ed67427dc6bf3daba21059e9
ORGANIZER:Volleyball
SEQUENCE:261122254
SUMMARY:RL S Mä.: USC Heidelberg - USC Freiburg
CLASS:PUBLIC
DTSTART:20081025T180000Z
DTSTAMP:20140607T181800Z
END:VEVENT
BEGIN:VEVENT
UID:182429-2da69939ed67427dc6bf3daba21059e9
X-WR-RELCALID:182429-2da69939ed67427dc6bf3daba21059e9
ORGANIZER:Volleyball
SEQUENCE:261122254
SUMMARY:RL S Mä.: USC Freiburg - USC Konstanz
CLASS:PUBLIC
DTSTART:20081108T183000Z
DTSTAMP:20140607T181800Z
END:VEVENT
BEGIN:VEVENT
UID:182420-2da69939ed67427dc6bf3daba21059e9
X-WR-RELCALID:182420-2da69939ed67427dc6bf3daba21059e9
ORGANIZER:Volleyball
SEQUENCE:261122254
SUMMARY:RL S Mä.: USC Freiburg - TSV G.A Stuttgart
CLASS:PUBLIC
DTSTART:20081115T150000Z
DTSTAMP:20140607T181800Z
END:VEVENT
BEGIN:VEVENT
UID:182418-2da69939ed67427dc6bf3daba21059e9
X-WR-RELCALID:182418-2da69939ed67427dc6bf3daba21059e9
ORGANIZER:Volleyball
SEQUENCE:261122254
SUMMARY:RL S Mä.: TV Rottenburg 2 - USC Freiburg
CLASS:PUBLIC
DTSTART:20081123T140000Z
DTSTAMP:20140607T181800Z
END:VEVENT
BEGIN:VEVENT
UID:182411-2da69939ed67427dc6bf3daba21059e9
X-WR-RELCALID:182411-2da69939ed67427dc6bf3daba21059e9
ORGANIZER:Volleyball
SEQUENCE:261122254
SUMMARY:RL S Mä.: USC Freiburg - VfB Ulm
CLASS:PUBLIC
DTSTART:20081206T183000Z
DTSTAMP:20140607T181800Z
END:VEVENT
BEGIN:VEVENT
UID:182407-2da69939ed67427dc6bf3daba21059e9
X-WR-RELCALID:182407-2da69939ed67427dc6bf3daba21059e9
ORGANIZER:Volleyball
SEQUENCE:261122254
SUMMARY:RL S Mä.: TV Hausen - USC Freiburg
CLASS:PUBLIC
DTSTART:20081213T190000Z
DTSTAMP:20140607T181800Z
END:VEVENT
BEGIN:VEVENT
UID:182400-2da69939ed67427dc6bf3daba21059e9
X-WR-RELCALID:182400-2da69939ed67427dc6bf3daba21059e9
ORGANIZER:Volleyball
SEQUENCE:261122254
SUMMARY:RL S Mä.: USC Freiburg - USC Heidelberg
CLASS:PUBLIC
DTSTART:20090117T150000Z
DTSTAMP:20140607T181800Z
END:VEVENT
BEGIN:VEVENT
UID:182399-2da69939ed67427dc6bf3daba21059e9
X-WR-RELCALID:182399-2da69939ed67427dc6bf3daba21059e9
ORGANIZER:Volleyball
SEQUENCE:261122254
SUMMARY:RL S Mä.: USC Konstanz - USC Freiburg
CLASS:PUBLIC
DTSTART:20090125T150000Z
DTSTAMP:20140607T181800Z
END:VEVENT
BEGIN:VEVENT
UID:182390-2da69939ed67427dc6bf3daba21059e9
X-WR-RELCALID:182390-2da69939ed67427dc6bf3daba21059e9
ORGANIZER:Volleyball
SEQUENCE:261122254
SUMMARY:RL S Mä.: TSV G.A Stuttgart - USC Freiburg
CLASS:PUBLIC
DTSTART:20090131T190000Z
DTSTAMP:20140607T181800Z
END:VEVENT
BEGIN:VEVENT
UID:182388-2da69939ed67427dc6bf3daba21059e9
X-WR-RELCALID:182388-2da69939ed67427dc6bf3daba21059e9
ORGANIZER:Volleyball
SEQUENCE:261122254
SUMMARY:RL S Mä.: USC Freiburg - TV Rottenburg 2
CLASS:PUBLIC
DTSTART:20090207T183000Z
DTSTAMP:20140607T181800Z
END:VEVENT
BEGIN:VEVENT
UID:182381-2da69939ed67427dc6bf3daba21059e9
X-WR-RELCALID:182381-2da69939ed67427dc6bf3daba21059e9
ORGANIZER:Volleyball
SEQUENCE:261122254
SUMMARY:RL S Mä.: VfB Ulm - USC Freiburg
CLASS:PUBLIC
DTSTART:20090228T190000Z
DTSTAMP:20140607T181800Z
END:VEVENT
BEGIN:VEVENT
UID:182377-2da69939ed67427dc6bf3daba21059e9
X-WR-RELCALID:182377-2da69939ed67427dc6bf3daba21059e9
ORGANIZER:Volleyball
SEQUENCE:261122254
SUMMARY:RL S Mä.: USC Freiburg - TV Hausen
CLASS:PUBLIC
DTSTART:20090307T183000Z
DTSTAMP:20140607T181800Z
END:VEVENT
BEGIN:VEVENT
UID:182372-2da69939ed67427dc6bf3daba21059e9
X-WR-RELCALID:182372-2da69939ed67427dc6bf3daba21059e9
ORGANIZER:Volleyball
SEQUENCE:261122254
SUMMARY:RL S Mä.: VC Offenburg - USC Freiburg
CLASS:PUBLIC
DTSTART:20090314T190000Z
DTSTAMP:20140607T181800Z
END:VEVENT
BEGIN:VEVENT
UID:182366-2da69939ed67427dc6bf3daba21059e9
X-WR-RELCALID:182366-2da69939ed67427dc6bf3daba21059e9
ORGANIZER:Volleyball
SEQUENCE:261122254
SUMMARY:RL S Mä.: USC Freiburg - SV Fellbach
CLASS:PUBLIC
DTSTART:20090329T130000Z
DTSTAMP:20140607T181800Z
END:VEVENT
BEGIN:VEVENT
UID:182363-2da69939ed67427dc6bf3daba21059e9
X-WR-RELCALID:182363-2da69939ed67427dc6bf3daba21059e9
ORGANIZER:Volleyball
SEQUENCE:261122254
SUMMARY:RL S Mä.: TSV Bad Saulgau - USC Freiburg
CLASS:PUBLIC
DTSTART:20090404T180000Z
DTSTAMP:20140607T181800Z
END:VEVENT
END:VCALENDAR