BEGIN:VCALENDAR
VERSION:2.0
PRODID:VSD-Portal-www.volley.de
METHOD:PUBLISH
BEGIN:VEVENT
UID:261507-0b1cb5f82de24c98f11e829bddb1f0f9
X-WR-RELCALID:261507-0b1cb5f82de24c98f11e829bddb1f0f9
ORGANIZER:Volleyball
SEQUENCE:261111126
LOCATION:3-fach Halle an der Mittelschule, Schulstr. 6, 90518 Altdorf
GEO:null;null
SUMMARY:BYLN Fr.: TV Altdorf II - TV Mömlingen
CLASS:PUBLIC
DTSTART:20201128T170000Z
DTSTAMP:20200830T092100Z
END:VEVENT
END:VCALENDAR