BEGIN:VCALENDAR
VERSION:2.0
PRODID:VSD-Portal-www.volley.de
METHOD:PUBLISH
BEGIN:VEVENT
UID:261516-0b1cb5f82de24c98f11e829bddb1f0f9
X-WR-RELCALID:261516-0b1cb5f82de24c98f11e829bddb1f0f9
ORGANIZER:Volleyball
SEQUENCE:261091633
LOCATION:Ludwig-Ritter-Halle, Königsbergerstrasse 2, 63853 Mömlingen
GEO:49.85060000000000000000;9.08682000000000000000
SUMMARY:BYLN Fr.: TV Mömlingen - VG Bamberg
CLASS:PUBLIC
DTSTART:20201213T140000Z
DTSTAMP:20200830T092100Z
END:VEVENT
END:VCALENDAR