BEGIN:VCALENDAR
VERSION:2.0
PRODID:VSD-Portal-www.volley.de
METHOD:PUBLISH
BEGIN:VEVENT
UID:264941-0b1cb5f82de24c98f11e829bddb1f0f9
X-WR-RELCALID:264941-0b1cb5f82de24c98f11e829bddb1f0f9
ORGANIZER:Volleyball
SEQUENCE:261122042
LOCATION:3-Feld-Halle, Mainpark Ring 2, 97246 Eibelstadt
GEO:49.73297220797489600000;9.98965169311520600000
SUMMARY:BZL UFR Mä.: TV Trennfurt - TSV Güntersleben
CLASS:PUBLIC
DTSTART:20210227T130000Z
DTSTAMP:20200926T175300Z
END:VEVENT
END:VCALENDAR