BEGIN:VCALENDAR
VERSION:2.0
PRODID:VSD-Portal-www.volley.de
METHOD:PUBLISH
BEGIN:VEVENT
UID:264855-0b1cb5f82de24c98f11e829bddb1f0f9
X-WR-RELCALID:264855-0b1cb5f82de24c98f11e829bddb1f0f9
ORGANIZER:Volleyball
SEQUENCE:261130412
LOCATION:Schulturnhalle, Mühlweg 37, 63820 Elsenfeld
GEO:49.84150401538579000000;9.16580065081780000000
SUMMARY:KL UFR Mä.: TV Elsava Elsenfeld - SC Geiselbach
CLASS:PUBLIC
DTSTART:20201024T130000Z
DTSTAMP:20201102T102900Z
END:VEVENT
END:VCALENDAR